BEGIN:VCALENDAR
VERSION:2.0
PRODID:-//Wavre shopping - ECPv6.15.12//NONSGML v1.0//EN
CALSCALE:GREGORIAN
METHOD:PUBLISH
X-WR-CALNAME:Wavre shopping
X-ORIGINAL-URL:https://wavre.shop
X-WR-CALDESC:Évènements pour Wavre shopping
REFRESH-INTERVAL;VALUE=DURATION:PT1H
X-Robots-Tag:noindex
X-PUBLISHED-TTL:PT1H
BEGIN:VTIMEZONE
TZID:Europe/Brussels
BEGIN:DAYLIGHT
TZOFFSETFROM:+0100
TZOFFSETTO:+0200
TZNAME:CEST
DTSTART:20450326T010000
END:DAYLIGHT
BEGIN:STANDARD
TZOFFSETFROM:+0200
TZOFFSETTO:+0100
TZNAME:CET
DTSTART:20451029T010000
END:STANDARD
BEGIN:DAYLIGHT
TZOFFSETFROM:+0100
TZOFFSETTO:+0200
TZNAME:CEST
DTSTART:20460325T010000
END:DAYLIGHT
BEGIN:STANDARD
TZOFFSETFROM:+0200
TZOFFSETTO:+0100
TZNAME:CET
DTSTART:20461028T010000
END:STANDARD
BEGIN:DAYLIGHT
TZOFFSETFROM:+0100
TZOFFSETTO:+0200
TZNAME:CEST
DTSTART:20470331T010000
END:DAYLIGHT
BEGIN:STANDARD
TZOFFSETFROM:+0200
TZOFFSETTO:+0100
TZNAME:CET
DTSTART:20471027T010000
END:STANDARD
END:VTIMEZONE
BEGIN:VEVENT
DTSTART;TZID=Europe/Brussels:20460328T200000
DTEND;TZID=Europe/Brussels:20460328T200000
DTSTAMP:20260422T100117
CREATED:20220128T080038Z
LAST-MODIFIED:20230722T124541Z
UID:10032459-2405880000-2405880000@wavre.shop
SUMMARY:Cours de zumba
DESCRIPTION:Cours de zumba à wavre tous les Lundi et Mercredi à 20h00 au College technique saint-Jean
URL:https://wavre.shop/activite/cours-de-zumba/2046-03-28/
LOCATION:College Technique Saint-Jean\, Rue du Pont Saint-Jean 48\, WAVRE\, Brabant Wallon\, 1300\, Belgique
CATEGORIES:Wavre activité seniors,WAVRE ACTIVITES POUR ADO,WAVRE SPORT
ATTACH;FMTTYPE=image/jpeg:https://wavre.shop/wp-content/uploads/2022/01/Zumba-wavre-activte-2023.jpg
ORGANIZER;CN="Fabienne DEKEULENEER":MAILTO:zumbafa@hotmail.com
END:VEVENT
BEGIN:VEVENT
DTSTART;TZID=Europe/Brussels:20460328T200000
DTEND;TZID=Europe/Brussels:20460328T200000
DTSTAMP:20260422T100118
CREATED:20220128T080038Z
LAST-MODIFIED:20220128T080038Z
UID:10002155-2405880000-2405880000@wavre.shop
SUMMARY:Cours de zumba
DESCRIPTION:Cours de zumba à wavre tous les Lundi et Mercredi à 20h00 au College technique saint-Jean
URL:https://wavre.shop/activite/cours-de-zumba/2046-03-28/
LOCATION:College Technique Saint-Jean\, Rue du Pont Saint-Jean 48\, WAVRE\, Brabant Wallon\, 1300\, Belgique
CATEGORIES:Wavre activité seniors,WAVRE ACTIVITES POUR ADO,WAVRE SPORT
ATTACH;FMTTYPE=image/jpeg:https://wavre.shop/wp-content/uploads/2022/01/Zumba-wavre-activte-2023.jpg
ORGANIZER;CN="Fabienne DEKEULENEER":MAILTO:zumbafa@hotmail.com
END:VEVENT
BEGIN:VEVENT
DTSTART;TZID=Europe/Brussels:20460402T200000
DTEND;TZID=Europe/Brussels:20460402T200000
DTSTAMP:20260422T100118
CREATED:20220128T080038Z
LAST-MODIFIED:20230722T124541Z
UID:10032460-2406312000-2406312000@wavre.shop
SUMMARY:Cours de zumba
DESCRIPTION:Cours de zumba à wavre tous les Lundi et Mercredi à 20h00 au College technique saint-Jean
URL:https://wavre.shop/activite/cours-de-zumba/2046-04-02/
LOCATION:College Technique Saint-Jean\, Rue du Pont Saint-Jean 48\, WAVRE\, Brabant Wallon\, 1300\, Belgique
CATEGORIES:Wavre activité seniors,WAVRE ACTIVITES POUR ADO,WAVRE SPORT
ATTACH;FMTTYPE=image/jpeg:https://wavre.shop/wp-content/uploads/2022/01/Zumba-wavre-activte-2023.jpg
ORGANIZER;CN="Fabienne DEKEULENEER":MAILTO:zumbafa@hotmail.com
END:VEVENT
BEGIN:VEVENT
DTSTART;TZID=Europe/Brussels:20460402T200000
DTEND;TZID=Europe/Brussels:20460402T200000
DTSTAMP:20260422T100118
CREATED:20220128T080038Z
LAST-MODIFIED:20220128T080038Z
UID:10002156-2406312000-2406312000@wavre.shop
SUMMARY:Cours de zumba
DESCRIPTION:Cours de zumba à wavre tous les Lundi et Mercredi à 20h00 au College technique saint-Jean
URL:https://wavre.shop/activite/cours-de-zumba/2046-04-02/
LOCATION:College Technique Saint-Jean\, Rue du Pont Saint-Jean 48\, WAVRE\, Brabant Wallon\, 1300\, Belgique
CATEGORIES:Wavre activité seniors,WAVRE ACTIVITES POUR ADO,WAVRE SPORT
ATTACH;FMTTYPE=image/jpeg:https://wavre.shop/wp-content/uploads/2022/01/Zumba-wavre-activte-2023.jpg
ORGANIZER;CN="Fabienne DEKEULENEER":MAILTO:zumbafa@hotmail.com
END:VEVENT
BEGIN:VEVENT
DTSTART;TZID=Europe/Brussels:20460404T200000
DTEND;TZID=Europe/Brussels:20460404T200000
DTSTAMP:20260422T100118
CREATED:20220128T080038Z
LAST-MODIFIED:20230722T124541Z
UID:10032461-2406484800-2406484800@wavre.shop
SUMMARY:Cours de zumba
DESCRIPTION:Cours de zumba à wavre tous les Lundi et Mercredi à 20h00 au College technique saint-Jean
URL:https://wavre.shop/activite/cours-de-zumba/2046-04-04/
LOCATION:College Technique Saint-Jean\, Rue du Pont Saint-Jean 48\, WAVRE\, Brabant Wallon\, 1300\, Belgique
CATEGORIES:Wavre activité seniors,WAVRE ACTIVITES POUR ADO,WAVRE SPORT
ATTACH;FMTTYPE=image/jpeg:https://wavre.shop/wp-content/uploads/2022/01/Zumba-wavre-activte-2023.jpg
ORGANIZER;CN="Fabienne DEKEULENEER":MAILTO:zumbafa@hotmail.com
END:VEVENT
BEGIN:VEVENT
DTSTART;TZID=Europe/Brussels:20460404T200000
DTEND;TZID=Europe/Brussels:20460404T200000
DTSTAMP:20260422T100118
CREATED:20220128T080038Z
LAST-MODIFIED:20220128T080038Z
UID:10002157-2406484800-2406484800@wavre.shop
SUMMARY:Cours de zumba
DESCRIPTION:Cours de zumba à wavre tous les Lundi et Mercredi à 20h00 au College technique saint-Jean
URL:https://wavre.shop/activite/cours-de-zumba/2046-04-04/
LOCATION:College Technique Saint-Jean\, Rue du Pont Saint-Jean 48\, WAVRE\, Brabant Wallon\, 1300\, Belgique
CATEGORIES:Wavre activité seniors,WAVRE ACTIVITES POUR ADO,WAVRE SPORT
ATTACH;FMTTYPE=image/jpeg:https://wavre.shop/wp-content/uploads/2022/01/Zumba-wavre-activte-2023.jpg
ORGANIZER;CN="Fabienne DEKEULENEER":MAILTO:zumbafa@hotmail.com
END:VEVENT
BEGIN:VEVENT
DTSTART;TZID=Europe/Brussels:20460409T200000
DTEND;TZID=Europe/Brussels:20460409T200000
DTSTAMP:20260422T100118
CREATED:20220128T080038Z
LAST-MODIFIED:20230722T124541Z
UID:10032462-2406916800-2406916800@wavre.shop
SUMMARY:Cours de zumba
DESCRIPTION:Cours de zumba à wavre tous les Lundi et Mercredi à 20h00 au College technique saint-Jean
URL:https://wavre.shop/activite/cours-de-zumba/2046-04-09/
LOCATION:College Technique Saint-Jean\, Rue du Pont Saint-Jean 48\, WAVRE\, Brabant Wallon\, 1300\, Belgique
CATEGORIES:Wavre activité seniors,WAVRE ACTIVITES POUR ADO,WAVRE SPORT
ATTACH;FMTTYPE=image/jpeg:https://wavre.shop/wp-content/uploads/2022/01/Zumba-wavre-activte-2023.jpg
ORGANIZER;CN="Fabienne DEKEULENEER":MAILTO:zumbafa@hotmail.com
END:VEVENT
BEGIN:VEVENT
DTSTART;TZID=Europe/Brussels:20460409T200000
DTEND;TZID=Europe/Brussels:20460409T200000
DTSTAMP:20260422T100118
CREATED:20220128T080038Z
LAST-MODIFIED:20220128T080038Z
UID:10002158-2406916800-2406916800@wavre.shop
SUMMARY:Cours de zumba
DESCRIPTION:Cours de zumba à wavre tous les Lundi et Mercredi à 20h00 au College technique saint-Jean
URL:https://wavre.shop/activite/cours-de-zumba/2046-04-09/
LOCATION:College Technique Saint-Jean\, Rue du Pont Saint-Jean 48\, WAVRE\, Brabant Wallon\, 1300\, Belgique
CATEGORIES:Wavre activité seniors,WAVRE ACTIVITES POUR ADO,WAVRE SPORT
ATTACH;FMTTYPE=image/jpeg:https://wavre.shop/wp-content/uploads/2022/01/Zumba-wavre-activte-2023.jpg
ORGANIZER;CN="Fabienne DEKEULENEER":MAILTO:zumbafa@hotmail.com
END:VEVENT
BEGIN:VEVENT
DTSTART;TZID=Europe/Brussels:20460411T200000
DTEND;TZID=Europe/Brussels:20460411T200000
DTSTAMP:20260422T100118
CREATED:20220128T080038Z
LAST-MODIFIED:20230722T124541Z
UID:10032463-2407089600-2407089600@wavre.shop
SUMMARY:Cours de zumba
DESCRIPTION:Cours de zumba à wavre tous les Lundi et Mercredi à 20h00 au College technique saint-Jean
URL:https://wavre.shop/activite/cours-de-zumba/2046-04-11/
LOCATION:College Technique Saint-Jean\, Rue du Pont Saint-Jean 48\, WAVRE\, Brabant Wallon\, 1300\, Belgique
CATEGORIES:Wavre activité seniors,WAVRE ACTIVITES POUR ADO,WAVRE SPORT
ATTACH;FMTTYPE=image/jpeg:https://wavre.shop/wp-content/uploads/2022/01/Zumba-wavre-activte-2023.jpg
ORGANIZER;CN="Fabienne DEKEULENEER":MAILTO:zumbafa@hotmail.com
END:VEVENT
BEGIN:VEVENT
DTSTART;TZID=Europe/Brussels:20460411T200000
DTEND;TZID=Europe/Brussels:20460411T200000
DTSTAMP:20260422T100118
CREATED:20220128T080038Z
LAST-MODIFIED:20220128T080038Z
UID:10002159-2407089600-2407089600@wavre.shop
SUMMARY:Cours de zumba
DESCRIPTION:Cours de zumba à wavre tous les Lundi et Mercredi à 20h00 au College technique saint-Jean
URL:https://wavre.shop/activite/cours-de-zumba/2046-04-11/
LOCATION:College Technique Saint-Jean\, Rue du Pont Saint-Jean 48\, WAVRE\, Brabant Wallon\, 1300\, Belgique
CATEGORIES:Wavre activité seniors,WAVRE ACTIVITES POUR ADO,WAVRE SPORT
ATTACH;FMTTYPE=image/jpeg:https://wavre.shop/wp-content/uploads/2022/01/Zumba-wavre-activte-2023.jpg
ORGANIZER;CN="Fabienne DEKEULENEER":MAILTO:zumbafa@hotmail.com
END:VEVENT
BEGIN:VEVENT
DTSTART;TZID=Europe/Brussels:20460416T200000
DTEND;TZID=Europe/Brussels:20460416T200000
DTSTAMP:20260422T100118
CREATED:20220128T080038Z
LAST-MODIFIED:20230722T124541Z
UID:10032464-2407521600-2407521600@wavre.shop
SUMMARY:Cours de zumba
DESCRIPTION:Cours de zumba à wavre tous les Lundi et Mercredi à 20h00 au College technique saint-Jean
URL:https://wavre.shop/activite/cours-de-zumba/2046-04-16/
LOCATION:College Technique Saint-Jean\, Rue du Pont Saint-Jean 48\, WAVRE\, Brabant Wallon\, 1300\, Belgique
CATEGORIES:Wavre activité seniors,WAVRE ACTIVITES POUR ADO,WAVRE SPORT
ATTACH;FMTTYPE=image/jpeg:https://wavre.shop/wp-content/uploads/2022/01/Zumba-wavre-activte-2023.jpg
ORGANIZER;CN="Fabienne DEKEULENEER":MAILTO:zumbafa@hotmail.com
END:VEVENT
BEGIN:VEVENT
DTSTART;TZID=Europe/Brussels:20460416T200000
DTEND;TZID=Europe/Brussels:20460416T200000
DTSTAMP:20260422T100118
CREATED:20220128T080038Z
LAST-MODIFIED:20220128T080038Z
UID:10002160-2407521600-2407521600@wavre.shop
SUMMARY:Cours de zumba
DESCRIPTION:Cours de zumba à wavre tous les Lundi et Mercredi à 20h00 au College technique saint-Jean
URL:https://wavre.shop/activite/cours-de-zumba/2046-04-16/
LOCATION:College Technique Saint-Jean\, Rue du Pont Saint-Jean 48\, WAVRE\, Brabant Wallon\, 1300\, Belgique
CATEGORIES:Wavre activité seniors,WAVRE ACTIVITES POUR ADO,WAVRE SPORT
ATTACH;FMTTYPE=image/jpeg:https://wavre.shop/wp-content/uploads/2022/01/Zumba-wavre-activte-2023.jpg
ORGANIZER;CN="Fabienne DEKEULENEER":MAILTO:zumbafa@hotmail.com
END:VEVENT
BEGIN:VEVENT
DTSTART;TZID=Europe/Brussels:20460418T200000
DTEND;TZID=Europe/Brussels:20460418T200000
DTSTAMP:20260422T100118
CREATED:20220128T080038Z
LAST-MODIFIED:20230722T124541Z
UID:10032465-2407694400-2407694400@wavre.shop
SUMMARY:Cours de zumba
DESCRIPTION:Cours de zumba à wavre tous les Lundi et Mercredi à 20h00 au College technique saint-Jean
URL:https://wavre.shop/activite/cours-de-zumba/2046-04-18/
LOCATION:College Technique Saint-Jean\, Rue du Pont Saint-Jean 48\, WAVRE\, Brabant Wallon\, 1300\, Belgique
CATEGORIES:Wavre activité seniors,WAVRE ACTIVITES POUR ADO,WAVRE SPORT
ATTACH;FMTTYPE=image/jpeg:https://wavre.shop/wp-content/uploads/2022/01/Zumba-wavre-activte-2023.jpg
ORGANIZER;CN="Fabienne DEKEULENEER":MAILTO:zumbafa@hotmail.com
END:VEVENT
BEGIN:VEVENT
DTSTART;TZID=Europe/Brussels:20460418T200000
DTEND;TZID=Europe/Brussels:20460418T200000
DTSTAMP:20260422T100118
CREATED:20220128T080038Z
LAST-MODIFIED:20220128T080038Z
UID:10002161-2407694400-2407694400@wavre.shop
SUMMARY:Cours de zumba
DESCRIPTION:Cours de zumba à wavre tous les Lundi et Mercredi à 20h00 au College technique saint-Jean
URL:https://wavre.shop/activite/cours-de-zumba/2046-04-18/
LOCATION:College Technique Saint-Jean\, Rue du Pont Saint-Jean 48\, WAVRE\, Brabant Wallon\, 1300\, Belgique
CATEGORIES:Wavre activité seniors,WAVRE ACTIVITES POUR ADO,WAVRE SPORT
ATTACH;FMTTYPE=image/jpeg:https://wavre.shop/wp-content/uploads/2022/01/Zumba-wavre-activte-2023.jpg
ORGANIZER;CN="Fabienne DEKEULENEER":MAILTO:zumbafa@hotmail.com
END:VEVENT
BEGIN:VEVENT
DTSTART;TZID=Europe/Brussels:20460423T200000
DTEND;TZID=Europe/Brussels:20460423T200000
DTSTAMP:20260422T100118
CREATED:20220128T080038Z
LAST-MODIFIED:20230722T124541Z
UID:10032466-2408126400-2408126400@wavre.shop
SUMMARY:Cours de zumba
DESCRIPTION:Cours de zumba à wavre tous les Lundi et Mercredi à 20h00 au College technique saint-Jean
URL:https://wavre.shop/activite/cours-de-zumba/2046-04-23/
LOCATION:College Technique Saint-Jean\, Rue du Pont Saint-Jean 48\, WAVRE\, Brabant Wallon\, 1300\, Belgique
CATEGORIES:Wavre activité seniors,WAVRE ACTIVITES POUR ADO,WAVRE SPORT
ATTACH;FMTTYPE=image/jpeg:https://wavre.shop/wp-content/uploads/2022/01/Zumba-wavre-activte-2023.jpg
ORGANIZER;CN="Fabienne DEKEULENEER":MAILTO:zumbafa@hotmail.com
END:VEVENT
BEGIN:VEVENT
DTSTART;TZID=Europe/Brussels:20460423T200000
DTEND;TZID=Europe/Brussels:20460423T200000
DTSTAMP:20260422T100118
CREATED:20220128T080038Z
LAST-MODIFIED:20220128T080038Z
UID:10002162-2408126400-2408126400@wavre.shop
SUMMARY:Cours de zumba
DESCRIPTION:Cours de zumba à wavre tous les Lundi et Mercredi à 20h00 au College technique saint-Jean
URL:https://wavre.shop/activite/cours-de-zumba/2046-04-23/
LOCATION:College Technique Saint-Jean\, Rue du Pont Saint-Jean 48\, WAVRE\, Brabant Wallon\, 1300\, Belgique
CATEGORIES:Wavre activité seniors,WAVRE ACTIVITES POUR ADO,WAVRE SPORT
ATTACH;FMTTYPE=image/jpeg:https://wavre.shop/wp-content/uploads/2022/01/Zumba-wavre-activte-2023.jpg
ORGANIZER;CN="Fabienne DEKEULENEER":MAILTO:zumbafa@hotmail.com
END:VEVENT
BEGIN:VEVENT
DTSTART;TZID=Europe/Brussels:20460425T200000
DTEND;TZID=Europe/Brussels:20460425T200000
DTSTAMP:20260422T100118
CREATED:20220128T080038Z
LAST-MODIFIED:20230722T124541Z
UID:10032467-2408299200-2408299200@wavre.shop
SUMMARY:Cours de zumba
DESCRIPTION:Cours de zumba à wavre tous les Lundi et Mercredi à 20h00 au College technique saint-Jean
URL:https://wavre.shop/activite/cours-de-zumba/2046-04-25/
LOCATION:College Technique Saint-Jean\, Rue du Pont Saint-Jean 48\, WAVRE\, Brabant Wallon\, 1300\, Belgique
CATEGORIES:Wavre activité seniors,WAVRE ACTIVITES POUR ADO,WAVRE SPORT
ATTACH;FMTTYPE=image/jpeg:https://wavre.shop/wp-content/uploads/2022/01/Zumba-wavre-activte-2023.jpg
ORGANIZER;CN="Fabienne DEKEULENEER":MAILTO:zumbafa@hotmail.com
END:VEVENT
BEGIN:VEVENT
DTSTART;TZID=Europe/Brussels:20460425T200000
DTEND;TZID=Europe/Brussels:20460425T200000
DTSTAMP:20260422T100118
CREATED:20220128T080038Z
LAST-MODIFIED:20220128T080038Z
UID:10002163-2408299200-2408299200@wavre.shop
SUMMARY:Cours de zumba
DESCRIPTION:Cours de zumba à wavre tous les Lundi et Mercredi à 20h00 au College technique saint-Jean
URL:https://wavre.shop/activite/cours-de-zumba/2046-04-25/
LOCATION:College Technique Saint-Jean\, Rue du Pont Saint-Jean 48\, WAVRE\, Brabant Wallon\, 1300\, Belgique
CATEGORIES:Wavre activité seniors,WAVRE ACTIVITES POUR ADO,WAVRE SPORT
ATTACH;FMTTYPE=image/jpeg:https://wavre.shop/wp-content/uploads/2022/01/Zumba-wavre-activte-2023.jpg
ORGANIZER;CN="Fabienne DEKEULENEER":MAILTO:zumbafa@hotmail.com
END:VEVENT
BEGIN:VEVENT
DTSTART;TZID=Europe/Brussels:20460430T200000
DTEND;TZID=Europe/Brussels:20460430T200000
DTSTAMP:20260422T100118
CREATED:20220128T080038Z
LAST-MODIFIED:20230722T124541Z
UID:10032468-2408731200-2408731200@wavre.shop
SUMMARY:Cours de zumba
DESCRIPTION:Cours de zumba à wavre tous les Lundi et Mercredi à 20h00 au College technique saint-Jean
URL:https://wavre.shop/activite/cours-de-zumba/2046-04-30/
LOCATION:College Technique Saint-Jean\, Rue du Pont Saint-Jean 48\, WAVRE\, Brabant Wallon\, 1300\, Belgique
CATEGORIES:Wavre activité seniors,WAVRE ACTIVITES POUR ADO,WAVRE SPORT
ATTACH;FMTTYPE=image/jpeg:https://wavre.shop/wp-content/uploads/2022/01/Zumba-wavre-activte-2023.jpg
ORGANIZER;CN="Fabienne DEKEULENEER":MAILTO:zumbafa@hotmail.com
END:VEVENT
BEGIN:VEVENT
DTSTART;TZID=Europe/Brussels:20460430T200000
DTEND;TZID=Europe/Brussels:20460430T200000
DTSTAMP:20260422T100118
CREATED:20220128T080038Z
LAST-MODIFIED:20220128T080038Z
UID:10002164-2408731200-2408731200@wavre.shop
SUMMARY:Cours de zumba
DESCRIPTION:Cours de zumba à wavre tous les Lundi et Mercredi à 20h00 au College technique saint-Jean
URL:https://wavre.shop/activite/cours-de-zumba/2046-04-30/
LOCATION:College Technique Saint-Jean\, Rue du Pont Saint-Jean 48\, WAVRE\, Brabant Wallon\, 1300\, Belgique
CATEGORIES:Wavre activité seniors,WAVRE ACTIVITES POUR ADO,WAVRE SPORT
ATTACH;FMTTYPE=image/jpeg:https://wavre.shop/wp-content/uploads/2022/01/Zumba-wavre-activte-2023.jpg
ORGANIZER;CN="Fabienne DEKEULENEER":MAILTO:zumbafa@hotmail.com
END:VEVENT
BEGIN:VEVENT
DTSTART;TZID=Europe/Brussels:20460502T200000
DTEND;TZID=Europe/Brussels:20460502T200000
DTSTAMP:20260422T100118
CREATED:20220128T080038Z
LAST-MODIFIED:20230722T124541Z
UID:10032469-2408904000-2408904000@wavre.shop
SUMMARY:Cours de zumba
DESCRIPTION:Cours de zumba à wavre tous les Lundi et Mercredi à 20h00 au College technique saint-Jean
URL:https://wavre.shop/activite/cours-de-zumba/2046-05-02/
LOCATION:College Technique Saint-Jean\, Rue du Pont Saint-Jean 48\, WAVRE\, Brabant Wallon\, 1300\, Belgique
CATEGORIES:Wavre activité seniors,WAVRE ACTIVITES POUR ADO,WAVRE SPORT
ATTACH;FMTTYPE=image/jpeg:https://wavre.shop/wp-content/uploads/2022/01/Zumba-wavre-activte-2023.jpg
ORGANIZER;CN="Fabienne DEKEULENEER":MAILTO:zumbafa@hotmail.com
END:VEVENT
BEGIN:VEVENT
DTSTART;TZID=Europe/Brussels:20460502T200000
DTEND;TZID=Europe/Brussels:20460502T200000
DTSTAMP:20260422T100118
CREATED:20220128T080038Z
LAST-MODIFIED:20220128T080038Z
UID:10002165-2408904000-2408904000@wavre.shop
SUMMARY:Cours de zumba
DESCRIPTION:Cours de zumba à wavre tous les Lundi et Mercredi à 20h00 au College technique saint-Jean
URL:https://wavre.shop/activite/cours-de-zumba/2046-05-02/
LOCATION:College Technique Saint-Jean\, Rue du Pont Saint-Jean 48\, WAVRE\, Brabant Wallon\, 1300\, Belgique
CATEGORIES:Wavre activité seniors,WAVRE ACTIVITES POUR ADO,WAVRE SPORT
ATTACH;FMTTYPE=image/jpeg:https://wavre.shop/wp-content/uploads/2022/01/Zumba-wavre-activte-2023.jpg
ORGANIZER;CN="Fabienne DEKEULENEER":MAILTO:zumbafa@hotmail.com
END:VEVENT
BEGIN:VEVENT
DTSTART;TZID=Europe/Brussels:20460507T200000
DTEND;TZID=Europe/Brussels:20460507T200000
DTSTAMP:20260422T100118
CREATED:20220128T080038Z
LAST-MODIFIED:20230722T124541Z
UID:10032470-2409336000-2409336000@wavre.shop
SUMMARY:Cours de zumba
DESCRIPTION:Cours de zumba à wavre tous les Lundi et Mercredi à 20h00 au College technique saint-Jean
URL:https://wavre.shop/activite/cours-de-zumba/2046-05-07/
LOCATION:College Technique Saint-Jean\, Rue du Pont Saint-Jean 48\, WAVRE\, Brabant Wallon\, 1300\, Belgique
CATEGORIES:Wavre activité seniors,WAVRE ACTIVITES POUR ADO,WAVRE SPORT
ATTACH;FMTTYPE=image/jpeg:https://wavre.shop/wp-content/uploads/2022/01/Zumba-wavre-activte-2023.jpg
ORGANIZER;CN="Fabienne DEKEULENEER":MAILTO:zumbafa@hotmail.com
END:VEVENT
BEGIN:VEVENT
DTSTART;TZID=Europe/Brussels:20460507T200000
DTEND;TZID=Europe/Brussels:20460507T200000
DTSTAMP:20260422T100118
CREATED:20220128T080038Z
LAST-MODIFIED:20220128T080038Z
UID:10002166-2409336000-2409336000@wavre.shop
SUMMARY:Cours de zumba
DESCRIPTION:Cours de zumba à wavre tous les Lundi et Mercredi à 20h00 au College technique saint-Jean
URL:https://wavre.shop/activite/cours-de-zumba/2046-05-07/
LOCATION:College Technique Saint-Jean\, Rue du Pont Saint-Jean 48\, WAVRE\, Brabant Wallon\, 1300\, Belgique
CATEGORIES:Wavre activité seniors,WAVRE ACTIVITES POUR ADO,WAVRE SPORT
ATTACH;FMTTYPE=image/jpeg:https://wavre.shop/wp-content/uploads/2022/01/Zumba-wavre-activte-2023.jpg
ORGANIZER;CN="Fabienne DEKEULENEER":MAILTO:zumbafa@hotmail.com
END:VEVENT
BEGIN:VEVENT
DTSTART;TZID=Europe/Brussels:20460509T200000
DTEND;TZID=Europe/Brussels:20460509T200000
DTSTAMP:20260422T100118
CREATED:20220128T080038Z
LAST-MODIFIED:20230722T124541Z
UID:10032471-2409508800-2409508800@wavre.shop
SUMMARY:Cours de zumba
DESCRIPTION:Cours de zumba à wavre tous les Lundi et Mercredi à 20h00 au College technique saint-Jean
URL:https://wavre.shop/activite/cours-de-zumba/2046-05-09/
LOCATION:College Technique Saint-Jean\, Rue du Pont Saint-Jean 48\, WAVRE\, Brabant Wallon\, 1300\, Belgique
CATEGORIES:Wavre activité seniors,WAVRE ACTIVITES POUR ADO,WAVRE SPORT
ATTACH;FMTTYPE=image/jpeg:https://wavre.shop/wp-content/uploads/2022/01/Zumba-wavre-activte-2023.jpg
ORGANIZER;CN="Fabienne DEKEULENEER":MAILTO:zumbafa@hotmail.com
END:VEVENT
BEGIN:VEVENT
DTSTART;TZID=Europe/Brussels:20460509T200000
DTEND;TZID=Europe/Brussels:20460509T200000
DTSTAMP:20260422T100118
CREATED:20220128T080038Z
LAST-MODIFIED:20220128T080038Z
UID:10002167-2409508800-2409508800@wavre.shop
SUMMARY:Cours de zumba
DESCRIPTION:Cours de zumba à wavre tous les Lundi et Mercredi à 20h00 au College technique saint-Jean
URL:https://wavre.shop/activite/cours-de-zumba/2046-05-09/
LOCATION:College Technique Saint-Jean\, Rue du Pont Saint-Jean 48\, WAVRE\, Brabant Wallon\, 1300\, Belgique
CATEGORIES:Wavre activité seniors,WAVRE ACTIVITES POUR ADO,WAVRE SPORT
ATTACH;FMTTYPE=image/jpeg:https://wavre.shop/wp-content/uploads/2022/01/Zumba-wavre-activte-2023.jpg
ORGANIZER;CN="Fabienne DEKEULENEER":MAILTO:zumbafa@hotmail.com
END:VEVENT
BEGIN:VEVENT
DTSTART;TZID=Europe/Brussels:20460514T200000
DTEND;TZID=Europe/Brussels:20460514T200000
DTSTAMP:20260422T100118
CREATED:20220128T080038Z
LAST-MODIFIED:20230722T124541Z
UID:10032472-2409940800-2409940800@wavre.shop
SUMMARY:Cours de zumba
DESCRIPTION:Cours de zumba à wavre tous les Lundi et Mercredi à 20h00 au College technique saint-Jean
URL:https://wavre.shop/activite/cours-de-zumba/2046-05-14/
LOCATION:College Technique Saint-Jean\, Rue du Pont Saint-Jean 48\, WAVRE\, Brabant Wallon\, 1300\, Belgique
CATEGORIES:Wavre activité seniors,WAVRE ACTIVITES POUR ADO,WAVRE SPORT
ATTACH;FMTTYPE=image/jpeg:https://wavre.shop/wp-content/uploads/2022/01/Zumba-wavre-activte-2023.jpg
ORGANIZER;CN="Fabienne DEKEULENEER":MAILTO:zumbafa@hotmail.com
END:VEVENT
BEGIN:VEVENT
DTSTART;TZID=Europe/Brussels:20460514T200000
DTEND;TZID=Europe/Brussels:20460514T200000
DTSTAMP:20260422T100118
CREATED:20220128T080038Z
LAST-MODIFIED:20220128T080038Z
UID:10002168-2409940800-2409940800@wavre.shop
SUMMARY:Cours de zumba
DESCRIPTION:Cours de zumba à wavre tous les Lundi et Mercredi à 20h00 au College technique saint-Jean
URL:https://wavre.shop/activite/cours-de-zumba/2046-05-14/
LOCATION:College Technique Saint-Jean\, Rue du Pont Saint-Jean 48\, WAVRE\, Brabant Wallon\, 1300\, Belgique
CATEGORIES:Wavre activité seniors,WAVRE ACTIVITES POUR ADO,WAVRE SPORT
ATTACH;FMTTYPE=image/jpeg:https://wavre.shop/wp-content/uploads/2022/01/Zumba-wavre-activte-2023.jpg
ORGANIZER;CN="Fabienne DEKEULENEER":MAILTO:zumbafa@hotmail.com
END:VEVENT
BEGIN:VEVENT
DTSTART;TZID=Europe/Brussels:20460516T200000
DTEND;TZID=Europe/Brussels:20460516T200000
DTSTAMP:20260422T100118
CREATED:20220128T080038Z
LAST-MODIFIED:20230722T124541Z
UID:10032473-2410113600-2410113600@wavre.shop
SUMMARY:Cours de zumba
DESCRIPTION:Cours de zumba à wavre tous les Lundi et Mercredi à 20h00 au College technique saint-Jean
URL:https://wavre.shop/activite/cours-de-zumba/2046-05-16/
LOCATION:College Technique Saint-Jean\, Rue du Pont Saint-Jean 48\, WAVRE\, Brabant Wallon\, 1300\, Belgique
CATEGORIES:Wavre activité seniors,WAVRE ACTIVITES POUR ADO,WAVRE SPORT
ATTACH;FMTTYPE=image/jpeg:https://wavre.shop/wp-content/uploads/2022/01/Zumba-wavre-activte-2023.jpg
ORGANIZER;CN="Fabienne DEKEULENEER":MAILTO:zumbafa@hotmail.com
END:VEVENT
BEGIN:VEVENT
DTSTART;TZID=Europe/Brussels:20460516T200000
DTEND;TZID=Europe/Brussels:20460516T200000
DTSTAMP:20260422T100118
CREATED:20220128T080038Z
LAST-MODIFIED:20220128T080038Z
UID:10002169-2410113600-2410113600@wavre.shop
SUMMARY:Cours de zumba
DESCRIPTION:Cours de zumba à wavre tous les Lundi et Mercredi à 20h00 au College technique saint-Jean
URL:https://wavre.shop/activite/cours-de-zumba/2046-05-16/
LOCATION:College Technique Saint-Jean\, Rue du Pont Saint-Jean 48\, WAVRE\, Brabant Wallon\, 1300\, Belgique
CATEGORIES:Wavre activité seniors,WAVRE ACTIVITES POUR ADO,WAVRE SPORT
ATTACH;FMTTYPE=image/jpeg:https://wavre.shop/wp-content/uploads/2022/01/Zumba-wavre-activte-2023.jpg
ORGANIZER;CN="Fabienne DEKEULENEER":MAILTO:zumbafa@hotmail.com
END:VEVENT
END:VCALENDAR