BEGIN:VCALENDAR
VERSION:2.0
PRODID:-//Wavre shopping - ECPv6.15.12//NONSGML v1.0//EN
CALSCALE:GREGORIAN
METHOD:PUBLISH
X-WR-CALNAME:Wavre shopping
X-ORIGINAL-URL:https://wavre.shop
X-WR-CALDESC:Évènements pour Wavre shopping
REFRESH-INTERVAL;VALUE=DURATION:PT1H
X-Robots-Tag:noindex
X-PUBLISHED-TTL:PT1H
BEGIN:VTIMEZONE
TZID:Europe/Brussels
BEGIN:DAYLIGHT
TZOFFSETFROM:+0100
TZOFFSETTO:+0200
TZNAME:CEST
DTSTART:20440327T010000
END:DAYLIGHT
BEGIN:STANDARD
TZOFFSETFROM:+0200
TZOFFSETTO:+0100
TZNAME:CET
DTSTART:20441030T010000
END:STANDARD
BEGIN:DAYLIGHT
TZOFFSETFROM:+0100
TZOFFSETTO:+0200
TZNAME:CEST
DTSTART:20450326T010000
END:DAYLIGHT
BEGIN:STANDARD
TZOFFSETFROM:+0200
TZOFFSETTO:+0100
TZNAME:CET
DTSTART:20451029T010000
END:STANDARD
BEGIN:DAYLIGHT
TZOFFSETFROM:+0100
TZOFFSETTO:+0200
TZNAME:CEST
DTSTART:20460325T010000
END:DAYLIGHT
BEGIN:STANDARD
TZOFFSETFROM:+0200
TZOFFSETTO:+0100
TZNAME:CET
DTSTART:20461028T010000
END:STANDARD
BEGIN:DAYLIGHT
TZOFFSETFROM:+0100
TZOFFSETTO:+0200
TZNAME:CEST
DTSTART:20470331T010000
END:DAYLIGHT
BEGIN:STANDARD
TZOFFSETFROM:+0200
TZOFFSETTO:+0100
TZNAME:CET
DTSTART:20471027T010000
END:STANDARD
END:VTIMEZONE
BEGIN:VEVENT
DTSTART;TZID=Europe/Brussels:20451213T200000
DTEND;TZID=Europe/Brussels:20451213T200000
DTSTAMP:20260421T232106
CREATED:20220128T080038Z
LAST-MODIFIED:20230722T124541Z
UID:10032429-2396808000-2396808000@wavre.shop
SUMMARY:Cours de zumba
DESCRIPTION:Cours de zumba à wavre tous les Lundi et Mercredi à 20h00 au College technique saint-Jean
URL:https://wavre.shop/activite/cours-de-zumba/2045-12-13/
LOCATION:College Technique Saint-Jean\, Rue du Pont Saint-Jean 48\, WAVRE\, Brabant Wallon\, 1300\, Belgique
CATEGORIES:Wavre activité seniors,WAVRE ACTIVITES POUR ADO,WAVRE SPORT
ATTACH;FMTTYPE=image/jpeg:https://wavre.shop/wp-content/uploads/2022/01/Zumba-wavre-activte-2023.jpg
ORGANIZER;CN="Fabienne DEKEULENEER":MAILTO:zumbafa@hotmail.com
END:VEVENT
BEGIN:VEVENT
DTSTART;TZID=Europe/Brussels:20451213T200000
DTEND;TZID=Europe/Brussels:20451213T200000
DTSTAMP:20260421T232106
CREATED:20220128T080038Z
LAST-MODIFIED:20220128T080038Z
UID:10002125-2396808000-2396808000@wavre.shop
SUMMARY:Cours de zumba
DESCRIPTION:Cours de zumba à wavre tous les Lundi et Mercredi à 20h00 au College technique saint-Jean
URL:https://wavre.shop/activite/cours-de-zumba/2045-12-13/
LOCATION:College Technique Saint-Jean\, Rue du Pont Saint-Jean 48\, WAVRE\, Brabant Wallon\, 1300\, Belgique
CATEGORIES:Wavre activité seniors,WAVRE ACTIVITES POUR ADO,WAVRE SPORT
ATTACH;FMTTYPE=image/jpeg:https://wavre.shop/wp-content/uploads/2022/01/Zumba-wavre-activte-2023.jpg
ORGANIZER;CN="Fabienne DEKEULENEER":MAILTO:zumbafa@hotmail.com
END:VEVENT
BEGIN:VEVENT
DTSTART;TZID=Europe/Brussels:20451218T200000
DTEND;TZID=Europe/Brussels:20451218T200000
DTSTAMP:20260421T232106
CREATED:20220128T080038Z
LAST-MODIFIED:20230722T124541Z
UID:10032430-2397240000-2397240000@wavre.shop
SUMMARY:Cours de zumba
DESCRIPTION:Cours de zumba à wavre tous les Lundi et Mercredi à 20h00 au College technique saint-Jean
URL:https://wavre.shop/activite/cours-de-zumba/2045-12-18/
LOCATION:College Technique Saint-Jean\, Rue du Pont Saint-Jean 48\, WAVRE\, Brabant Wallon\, 1300\, Belgique
CATEGORIES:Wavre activité seniors,WAVRE ACTIVITES POUR ADO,WAVRE SPORT
ATTACH;FMTTYPE=image/jpeg:https://wavre.shop/wp-content/uploads/2022/01/Zumba-wavre-activte-2023.jpg
ORGANIZER;CN="Fabienne DEKEULENEER":MAILTO:zumbafa@hotmail.com
END:VEVENT
BEGIN:VEVENT
DTSTART;TZID=Europe/Brussels:20451218T200000
DTEND;TZID=Europe/Brussels:20451218T200000
DTSTAMP:20260421T232106
CREATED:20220128T080038Z
LAST-MODIFIED:20220128T080038Z
UID:10002126-2397240000-2397240000@wavre.shop
SUMMARY:Cours de zumba
DESCRIPTION:Cours de zumba à wavre tous les Lundi et Mercredi à 20h00 au College technique saint-Jean
URL:https://wavre.shop/activite/cours-de-zumba/2045-12-18/
LOCATION:College Technique Saint-Jean\, Rue du Pont Saint-Jean 48\, WAVRE\, Brabant Wallon\, 1300\, Belgique
CATEGORIES:Wavre activité seniors,WAVRE ACTIVITES POUR ADO,WAVRE SPORT
ATTACH;FMTTYPE=image/jpeg:https://wavre.shop/wp-content/uploads/2022/01/Zumba-wavre-activte-2023.jpg
ORGANIZER;CN="Fabienne DEKEULENEER":MAILTO:zumbafa@hotmail.com
END:VEVENT
BEGIN:VEVENT
DTSTART;TZID=Europe/Brussels:20451220T200000
DTEND;TZID=Europe/Brussels:20451220T200000
DTSTAMP:20260421T232106
CREATED:20220128T080038Z
LAST-MODIFIED:20230722T124541Z
UID:10032431-2397412800-2397412800@wavre.shop
SUMMARY:Cours de zumba
DESCRIPTION:Cours de zumba à wavre tous les Lundi et Mercredi à 20h00 au College technique saint-Jean
URL:https://wavre.shop/activite/cours-de-zumba/2045-12-20/
LOCATION:College Technique Saint-Jean\, Rue du Pont Saint-Jean 48\, WAVRE\, Brabant Wallon\, 1300\, Belgique
CATEGORIES:Wavre activité seniors,WAVRE ACTIVITES POUR ADO,WAVRE SPORT
ATTACH;FMTTYPE=image/jpeg:https://wavre.shop/wp-content/uploads/2022/01/Zumba-wavre-activte-2023.jpg
ORGANIZER;CN="Fabienne DEKEULENEER":MAILTO:zumbafa@hotmail.com
END:VEVENT
BEGIN:VEVENT
DTSTART;TZID=Europe/Brussels:20451220T200000
DTEND;TZID=Europe/Brussels:20451220T200000
DTSTAMP:20260421T232106
CREATED:20220128T080038Z
LAST-MODIFIED:20220128T080038Z
UID:10002127-2397412800-2397412800@wavre.shop
SUMMARY:Cours de zumba
DESCRIPTION:Cours de zumba à wavre tous les Lundi et Mercredi à 20h00 au College technique saint-Jean
URL:https://wavre.shop/activite/cours-de-zumba/2045-12-20/
LOCATION:College Technique Saint-Jean\, Rue du Pont Saint-Jean 48\, WAVRE\, Brabant Wallon\, 1300\, Belgique
CATEGORIES:Wavre activité seniors,WAVRE ACTIVITES POUR ADO,WAVRE SPORT
ATTACH;FMTTYPE=image/jpeg:https://wavre.shop/wp-content/uploads/2022/01/Zumba-wavre-activte-2023.jpg
ORGANIZER;CN="Fabienne DEKEULENEER":MAILTO:zumbafa@hotmail.com
END:VEVENT
BEGIN:VEVENT
DTSTART;TZID=Europe/Brussels:20451225T200000
DTEND;TZID=Europe/Brussels:20451225T200000
DTSTAMP:20260421T232106
CREATED:20220128T080038Z
LAST-MODIFIED:20230722T124541Z
UID:10032432-2397844800-2397844800@wavre.shop
SUMMARY:Cours de zumba
DESCRIPTION:Cours de zumba à wavre tous les Lundi et Mercredi à 20h00 au College technique saint-Jean
URL:https://wavre.shop/activite/cours-de-zumba/2045-12-25/
LOCATION:College Technique Saint-Jean\, Rue du Pont Saint-Jean 48\, WAVRE\, Brabant Wallon\, 1300\, Belgique
CATEGORIES:Wavre activité seniors,WAVRE ACTIVITES POUR ADO,WAVRE SPORT
ATTACH;FMTTYPE=image/jpeg:https://wavre.shop/wp-content/uploads/2022/01/Zumba-wavre-activte-2023.jpg
ORGANIZER;CN="Fabienne DEKEULENEER":MAILTO:zumbafa@hotmail.com
END:VEVENT
BEGIN:VEVENT
DTSTART;TZID=Europe/Brussels:20451225T200000
DTEND;TZID=Europe/Brussels:20451225T200000
DTSTAMP:20260421T232106
CREATED:20220128T080038Z
LAST-MODIFIED:20220128T080038Z
UID:10002128-2397844800-2397844800@wavre.shop
SUMMARY:Cours de zumba
DESCRIPTION:Cours de zumba à wavre tous les Lundi et Mercredi à 20h00 au College technique saint-Jean
URL:https://wavre.shop/activite/cours-de-zumba/2045-12-25/
LOCATION:College Technique Saint-Jean\, Rue du Pont Saint-Jean 48\, WAVRE\, Brabant Wallon\, 1300\, Belgique
CATEGORIES:Wavre activité seniors,WAVRE ACTIVITES POUR ADO,WAVRE SPORT
ATTACH;FMTTYPE=image/jpeg:https://wavre.shop/wp-content/uploads/2022/01/Zumba-wavre-activte-2023.jpg
ORGANIZER;CN="Fabienne DEKEULENEER":MAILTO:zumbafa@hotmail.com
END:VEVENT
BEGIN:VEVENT
DTSTART;TZID=Europe/Brussels:20451227T200000
DTEND;TZID=Europe/Brussels:20451227T200000
DTSTAMP:20260421T232106
CREATED:20220128T080038Z
LAST-MODIFIED:20230722T124541Z
UID:10032433-2398017600-2398017600@wavre.shop
SUMMARY:Cours de zumba
DESCRIPTION:Cours de zumba à wavre tous les Lundi et Mercredi à 20h00 au College technique saint-Jean
URL:https://wavre.shop/activite/cours-de-zumba/2045-12-27/
LOCATION:College Technique Saint-Jean\, Rue du Pont Saint-Jean 48\, WAVRE\, Brabant Wallon\, 1300\, Belgique
CATEGORIES:Wavre activité seniors,WAVRE ACTIVITES POUR ADO,WAVRE SPORT
ATTACH;FMTTYPE=image/jpeg:https://wavre.shop/wp-content/uploads/2022/01/Zumba-wavre-activte-2023.jpg
ORGANIZER;CN="Fabienne DEKEULENEER":MAILTO:zumbafa@hotmail.com
END:VEVENT
BEGIN:VEVENT
DTSTART;TZID=Europe/Brussels:20451227T200000
DTEND;TZID=Europe/Brussels:20451227T200000
DTSTAMP:20260421T232106
CREATED:20220128T080038Z
LAST-MODIFIED:20220128T080038Z
UID:10002129-2398017600-2398017600@wavre.shop
SUMMARY:Cours de zumba
DESCRIPTION:Cours de zumba à wavre tous les Lundi et Mercredi à 20h00 au College technique saint-Jean
URL:https://wavre.shop/activite/cours-de-zumba/2045-12-27/
LOCATION:College Technique Saint-Jean\, Rue du Pont Saint-Jean 48\, WAVRE\, Brabant Wallon\, 1300\, Belgique
CATEGORIES:Wavre activité seniors,WAVRE ACTIVITES POUR ADO,WAVRE SPORT
ATTACH;FMTTYPE=image/jpeg:https://wavre.shop/wp-content/uploads/2022/01/Zumba-wavre-activte-2023.jpg
ORGANIZER;CN="Fabienne DEKEULENEER":MAILTO:zumbafa@hotmail.com
END:VEVENT
BEGIN:VEVENT
DTSTART;TZID=Europe/Brussels:20460101T200000
DTEND;TZID=Europe/Brussels:20460101T200000
DTSTAMP:20260421T232106
CREATED:20220128T080038Z
LAST-MODIFIED:20230722T124541Z
UID:10032434-2398449600-2398449600@wavre.shop
SUMMARY:Cours de zumba
DESCRIPTION:Cours de zumba à wavre tous les Lundi et Mercredi à 20h00 au College technique saint-Jean
URL:https://wavre.shop/activite/cours-de-zumba/2046-01-01/
LOCATION:College Technique Saint-Jean\, Rue du Pont Saint-Jean 48\, WAVRE\, Brabant Wallon\, 1300\, Belgique
CATEGORIES:Wavre activité seniors,WAVRE ACTIVITES POUR ADO,WAVRE SPORT
ATTACH;FMTTYPE=image/jpeg:https://wavre.shop/wp-content/uploads/2022/01/Zumba-wavre-activte-2023.jpg
ORGANIZER;CN="Fabienne DEKEULENEER":MAILTO:zumbafa@hotmail.com
END:VEVENT
BEGIN:VEVENT
DTSTART;TZID=Europe/Brussels:20460101T200000
DTEND;TZID=Europe/Brussels:20460101T200000
DTSTAMP:20260421T232106
CREATED:20220128T080038Z
LAST-MODIFIED:20220128T080038Z
UID:10002130-2398449600-2398449600@wavre.shop
SUMMARY:Cours de zumba
DESCRIPTION:Cours de zumba à wavre tous les Lundi et Mercredi à 20h00 au College technique saint-Jean
URL:https://wavre.shop/activite/cours-de-zumba/2046-01-01/
LOCATION:College Technique Saint-Jean\, Rue du Pont Saint-Jean 48\, WAVRE\, Brabant Wallon\, 1300\, Belgique
CATEGORIES:Wavre activité seniors,WAVRE ACTIVITES POUR ADO,WAVRE SPORT
ATTACH;FMTTYPE=image/jpeg:https://wavre.shop/wp-content/uploads/2022/01/Zumba-wavre-activte-2023.jpg
ORGANIZER;CN="Fabienne DEKEULENEER":MAILTO:zumbafa@hotmail.com
END:VEVENT
BEGIN:VEVENT
DTSTART;TZID=Europe/Brussels:20460103T200000
DTEND;TZID=Europe/Brussels:20460103T200000
DTSTAMP:20260421T232106
CREATED:20220128T080038Z
LAST-MODIFIED:20230722T124541Z
UID:10032435-2398622400-2398622400@wavre.shop
SUMMARY:Cours de zumba
DESCRIPTION:Cours de zumba à wavre tous les Lundi et Mercredi à 20h00 au College technique saint-Jean
URL:https://wavre.shop/activite/cours-de-zumba/2046-01-03/
LOCATION:College Technique Saint-Jean\, Rue du Pont Saint-Jean 48\, WAVRE\, Brabant Wallon\, 1300\, Belgique
CATEGORIES:Wavre activité seniors,WAVRE ACTIVITES POUR ADO,WAVRE SPORT
ATTACH;FMTTYPE=image/jpeg:https://wavre.shop/wp-content/uploads/2022/01/Zumba-wavre-activte-2023.jpg
ORGANIZER;CN="Fabienne DEKEULENEER":MAILTO:zumbafa@hotmail.com
END:VEVENT
BEGIN:VEVENT
DTSTART;TZID=Europe/Brussels:20460103T200000
DTEND;TZID=Europe/Brussels:20460103T200000
DTSTAMP:20260421T232106
CREATED:20220128T080038Z
LAST-MODIFIED:20220128T080038Z
UID:10002131-2398622400-2398622400@wavre.shop
SUMMARY:Cours de zumba
DESCRIPTION:Cours de zumba à wavre tous les Lundi et Mercredi à 20h00 au College technique saint-Jean
URL:https://wavre.shop/activite/cours-de-zumba/2046-01-03/
LOCATION:College Technique Saint-Jean\, Rue du Pont Saint-Jean 48\, WAVRE\, Brabant Wallon\, 1300\, Belgique
CATEGORIES:Wavre activité seniors,WAVRE ACTIVITES POUR ADO,WAVRE SPORT
ATTACH;FMTTYPE=image/jpeg:https://wavre.shop/wp-content/uploads/2022/01/Zumba-wavre-activte-2023.jpg
ORGANIZER;CN="Fabienne DEKEULENEER":MAILTO:zumbafa@hotmail.com
END:VEVENT
BEGIN:VEVENT
DTSTART;TZID=Europe/Brussels:20460108T200000
DTEND;TZID=Europe/Brussels:20460108T200000
DTSTAMP:20260421T232106
CREATED:20220128T080038Z
LAST-MODIFIED:20230722T124541Z
UID:10032436-2399054400-2399054400@wavre.shop
SUMMARY:Cours de zumba
DESCRIPTION:Cours de zumba à wavre tous les Lundi et Mercredi à 20h00 au College technique saint-Jean
URL:https://wavre.shop/activite/cours-de-zumba/2046-01-08/
LOCATION:College Technique Saint-Jean\, Rue du Pont Saint-Jean 48\, WAVRE\, Brabant Wallon\, 1300\, Belgique
CATEGORIES:Wavre activité seniors,WAVRE ACTIVITES POUR ADO,WAVRE SPORT
ATTACH;FMTTYPE=image/jpeg:https://wavre.shop/wp-content/uploads/2022/01/Zumba-wavre-activte-2023.jpg
ORGANIZER;CN="Fabienne DEKEULENEER":MAILTO:zumbafa@hotmail.com
END:VEVENT
BEGIN:VEVENT
DTSTART;TZID=Europe/Brussels:20460108T200000
DTEND;TZID=Europe/Brussels:20460108T200000
DTSTAMP:20260421T232106
CREATED:20220128T080038Z
LAST-MODIFIED:20220128T080038Z
UID:10002132-2399054400-2399054400@wavre.shop
SUMMARY:Cours de zumba
DESCRIPTION:Cours de zumba à wavre tous les Lundi et Mercredi à 20h00 au College technique saint-Jean
URL:https://wavre.shop/activite/cours-de-zumba/2046-01-08/
LOCATION:College Technique Saint-Jean\, Rue du Pont Saint-Jean 48\, WAVRE\, Brabant Wallon\, 1300\, Belgique
CATEGORIES:Wavre activité seniors,WAVRE ACTIVITES POUR ADO,WAVRE SPORT
ATTACH;FMTTYPE=image/jpeg:https://wavre.shop/wp-content/uploads/2022/01/Zumba-wavre-activte-2023.jpg
ORGANIZER;CN="Fabienne DEKEULENEER":MAILTO:zumbafa@hotmail.com
END:VEVENT
BEGIN:VEVENT
DTSTART;TZID=Europe/Brussels:20460110T200000
DTEND;TZID=Europe/Brussels:20460110T200000
DTSTAMP:20260421T232106
CREATED:20220128T080038Z
LAST-MODIFIED:20230722T124541Z
UID:10032437-2399227200-2399227200@wavre.shop
SUMMARY:Cours de zumba
DESCRIPTION:Cours de zumba à wavre tous les Lundi et Mercredi à 20h00 au College technique saint-Jean
URL:https://wavre.shop/activite/cours-de-zumba/2046-01-10/
LOCATION:College Technique Saint-Jean\, Rue du Pont Saint-Jean 48\, WAVRE\, Brabant Wallon\, 1300\, Belgique
CATEGORIES:Wavre activité seniors,WAVRE ACTIVITES POUR ADO,WAVRE SPORT
ATTACH;FMTTYPE=image/jpeg:https://wavre.shop/wp-content/uploads/2022/01/Zumba-wavre-activte-2023.jpg
ORGANIZER;CN="Fabienne DEKEULENEER":MAILTO:zumbafa@hotmail.com
END:VEVENT
BEGIN:VEVENT
DTSTART;TZID=Europe/Brussels:20460110T200000
DTEND;TZID=Europe/Brussels:20460110T200000
DTSTAMP:20260421T232106
CREATED:20220128T080038Z
LAST-MODIFIED:20220128T080038Z
UID:10002133-2399227200-2399227200@wavre.shop
SUMMARY:Cours de zumba
DESCRIPTION:Cours de zumba à wavre tous les Lundi et Mercredi à 20h00 au College technique saint-Jean
URL:https://wavre.shop/activite/cours-de-zumba/2046-01-10/
LOCATION:College Technique Saint-Jean\, Rue du Pont Saint-Jean 48\, WAVRE\, Brabant Wallon\, 1300\, Belgique
CATEGORIES:Wavre activité seniors,WAVRE ACTIVITES POUR ADO,WAVRE SPORT
ATTACH;FMTTYPE=image/jpeg:https://wavre.shop/wp-content/uploads/2022/01/Zumba-wavre-activte-2023.jpg
ORGANIZER;CN="Fabienne DEKEULENEER":MAILTO:zumbafa@hotmail.com
END:VEVENT
BEGIN:VEVENT
DTSTART;TZID=Europe/Brussels:20460115T200000
DTEND;TZID=Europe/Brussels:20460115T200000
DTSTAMP:20260421T232106
CREATED:20220128T080038Z
LAST-MODIFIED:20230722T124541Z
UID:10032438-2399659200-2399659200@wavre.shop
SUMMARY:Cours de zumba
DESCRIPTION:Cours de zumba à wavre tous les Lundi et Mercredi à 20h00 au College technique saint-Jean
URL:https://wavre.shop/activite/cours-de-zumba/2046-01-15/
LOCATION:College Technique Saint-Jean\, Rue du Pont Saint-Jean 48\, WAVRE\, Brabant Wallon\, 1300\, Belgique
CATEGORIES:Wavre activité seniors,WAVRE ACTIVITES POUR ADO,WAVRE SPORT
ATTACH;FMTTYPE=image/jpeg:https://wavre.shop/wp-content/uploads/2022/01/Zumba-wavre-activte-2023.jpg
ORGANIZER;CN="Fabienne DEKEULENEER":MAILTO:zumbafa@hotmail.com
END:VEVENT
BEGIN:VEVENT
DTSTART;TZID=Europe/Brussels:20460115T200000
DTEND;TZID=Europe/Brussels:20460115T200000
DTSTAMP:20260421T232106
CREATED:20220128T080038Z
LAST-MODIFIED:20220128T080038Z
UID:10002134-2399659200-2399659200@wavre.shop
SUMMARY:Cours de zumba
DESCRIPTION:Cours de zumba à wavre tous les Lundi et Mercredi à 20h00 au College technique saint-Jean
URL:https://wavre.shop/activite/cours-de-zumba/2046-01-15/
LOCATION:College Technique Saint-Jean\, Rue du Pont Saint-Jean 48\, WAVRE\, Brabant Wallon\, 1300\, Belgique
CATEGORIES:Wavre activité seniors,WAVRE ACTIVITES POUR ADO,WAVRE SPORT
ATTACH;FMTTYPE=image/jpeg:https://wavre.shop/wp-content/uploads/2022/01/Zumba-wavre-activte-2023.jpg
ORGANIZER;CN="Fabienne DEKEULENEER":MAILTO:zumbafa@hotmail.com
END:VEVENT
BEGIN:VEVENT
DTSTART;TZID=Europe/Brussels:20460117T200000
DTEND;TZID=Europe/Brussels:20460117T200000
DTSTAMP:20260421T232106
CREATED:20220128T080038Z
LAST-MODIFIED:20230722T124541Z
UID:10032439-2399832000-2399832000@wavre.shop
SUMMARY:Cours de zumba
DESCRIPTION:Cours de zumba à wavre tous les Lundi et Mercredi à 20h00 au College technique saint-Jean
URL:https://wavre.shop/activite/cours-de-zumba/2046-01-17/
LOCATION:College Technique Saint-Jean\, Rue du Pont Saint-Jean 48\, WAVRE\, Brabant Wallon\, 1300\, Belgique
CATEGORIES:Wavre activité seniors,WAVRE ACTIVITES POUR ADO,WAVRE SPORT
ATTACH;FMTTYPE=image/jpeg:https://wavre.shop/wp-content/uploads/2022/01/Zumba-wavre-activte-2023.jpg
ORGANIZER;CN="Fabienne DEKEULENEER":MAILTO:zumbafa@hotmail.com
END:VEVENT
BEGIN:VEVENT
DTSTART;TZID=Europe/Brussels:20460117T200000
DTEND;TZID=Europe/Brussels:20460117T200000
DTSTAMP:20260421T232106
CREATED:20220128T080038Z
LAST-MODIFIED:20220128T080038Z
UID:10002135-2399832000-2399832000@wavre.shop
SUMMARY:Cours de zumba
DESCRIPTION:Cours de zumba à wavre tous les Lundi et Mercredi à 20h00 au College technique saint-Jean
URL:https://wavre.shop/activite/cours-de-zumba/2046-01-17/
LOCATION:College Technique Saint-Jean\, Rue du Pont Saint-Jean 48\, WAVRE\, Brabant Wallon\, 1300\, Belgique
CATEGORIES:Wavre activité seniors,WAVRE ACTIVITES POUR ADO,WAVRE SPORT
ATTACH;FMTTYPE=image/jpeg:https://wavre.shop/wp-content/uploads/2022/01/Zumba-wavre-activte-2023.jpg
ORGANIZER;CN="Fabienne DEKEULENEER":MAILTO:zumbafa@hotmail.com
END:VEVENT
BEGIN:VEVENT
DTSTART;TZID=Europe/Brussels:20460122T200000
DTEND;TZID=Europe/Brussels:20460122T200000
DTSTAMP:20260421T232106
CREATED:20220128T080038Z
LAST-MODIFIED:20230722T124541Z
UID:10032440-2400264000-2400264000@wavre.shop
SUMMARY:Cours de zumba
DESCRIPTION:Cours de zumba à wavre tous les Lundi et Mercredi à 20h00 au College technique saint-Jean
URL:https://wavre.shop/activite/cours-de-zumba/2046-01-22/
LOCATION:College Technique Saint-Jean\, Rue du Pont Saint-Jean 48\, WAVRE\, Brabant Wallon\, 1300\, Belgique
CATEGORIES:Wavre activité seniors,WAVRE ACTIVITES POUR ADO,WAVRE SPORT
ATTACH;FMTTYPE=image/jpeg:https://wavre.shop/wp-content/uploads/2022/01/Zumba-wavre-activte-2023.jpg
ORGANIZER;CN="Fabienne DEKEULENEER":MAILTO:zumbafa@hotmail.com
END:VEVENT
BEGIN:VEVENT
DTSTART;TZID=Europe/Brussels:20460122T200000
DTEND;TZID=Europe/Brussels:20460122T200000
DTSTAMP:20260421T232106
CREATED:20220128T080038Z
LAST-MODIFIED:20220128T080038Z
UID:10002136-2400264000-2400264000@wavre.shop
SUMMARY:Cours de zumba
DESCRIPTION:Cours de zumba à wavre tous les Lundi et Mercredi à 20h00 au College technique saint-Jean
URL:https://wavre.shop/activite/cours-de-zumba/2046-01-22/
LOCATION:College Technique Saint-Jean\, Rue du Pont Saint-Jean 48\, WAVRE\, Brabant Wallon\, 1300\, Belgique
CATEGORIES:Wavre activité seniors,WAVRE ACTIVITES POUR ADO,WAVRE SPORT
ATTACH;FMTTYPE=image/jpeg:https://wavre.shop/wp-content/uploads/2022/01/Zumba-wavre-activte-2023.jpg
ORGANIZER;CN="Fabienne DEKEULENEER":MAILTO:zumbafa@hotmail.com
END:VEVENT
BEGIN:VEVENT
DTSTART;TZID=Europe/Brussels:20460124T200000
DTEND;TZID=Europe/Brussels:20460124T200000
DTSTAMP:20260421T232106
CREATED:20220128T080038Z
LAST-MODIFIED:20230722T124541Z
UID:10032441-2400436800-2400436800@wavre.shop
SUMMARY:Cours de zumba
DESCRIPTION:Cours de zumba à wavre tous les Lundi et Mercredi à 20h00 au College technique saint-Jean
URL:https://wavre.shop/activite/cours-de-zumba/2046-01-24/
LOCATION:College Technique Saint-Jean\, Rue du Pont Saint-Jean 48\, WAVRE\, Brabant Wallon\, 1300\, Belgique
CATEGORIES:Wavre activité seniors,WAVRE ACTIVITES POUR ADO,WAVRE SPORT
ATTACH;FMTTYPE=image/jpeg:https://wavre.shop/wp-content/uploads/2022/01/Zumba-wavre-activte-2023.jpg
ORGANIZER;CN="Fabienne DEKEULENEER":MAILTO:zumbafa@hotmail.com
END:VEVENT
BEGIN:VEVENT
DTSTART;TZID=Europe/Brussels:20460124T200000
DTEND;TZID=Europe/Brussels:20460124T200000
DTSTAMP:20260421T232106
CREATED:20220128T080038Z
LAST-MODIFIED:20220128T080038Z
UID:10002137-2400436800-2400436800@wavre.shop
SUMMARY:Cours de zumba
DESCRIPTION:Cours de zumba à wavre tous les Lundi et Mercredi à 20h00 au College technique saint-Jean
URL:https://wavre.shop/activite/cours-de-zumba/2046-01-24/
LOCATION:College Technique Saint-Jean\, Rue du Pont Saint-Jean 48\, WAVRE\, Brabant Wallon\, 1300\, Belgique
CATEGORIES:Wavre activité seniors,WAVRE ACTIVITES POUR ADO,WAVRE SPORT
ATTACH;FMTTYPE=image/jpeg:https://wavre.shop/wp-content/uploads/2022/01/Zumba-wavre-activte-2023.jpg
ORGANIZER;CN="Fabienne DEKEULENEER":MAILTO:zumbafa@hotmail.com
END:VEVENT
BEGIN:VEVENT
DTSTART;TZID=Europe/Brussels:20460129T200000
DTEND;TZID=Europe/Brussels:20460129T200000
DTSTAMP:20260421T232106
CREATED:20220128T080038Z
LAST-MODIFIED:20230722T124541Z
UID:10032442-2400868800-2400868800@wavre.shop
SUMMARY:Cours de zumba
DESCRIPTION:Cours de zumba à wavre tous les Lundi et Mercredi à 20h00 au College technique saint-Jean
URL:https://wavre.shop/activite/cours-de-zumba/2046-01-29/
LOCATION:College Technique Saint-Jean\, Rue du Pont Saint-Jean 48\, WAVRE\, Brabant Wallon\, 1300\, Belgique
CATEGORIES:Wavre activité seniors,WAVRE ACTIVITES POUR ADO,WAVRE SPORT
ATTACH;FMTTYPE=image/jpeg:https://wavre.shop/wp-content/uploads/2022/01/Zumba-wavre-activte-2023.jpg
ORGANIZER;CN="Fabienne DEKEULENEER":MAILTO:zumbafa@hotmail.com
END:VEVENT
BEGIN:VEVENT
DTSTART;TZID=Europe/Brussels:20460129T200000
DTEND;TZID=Europe/Brussels:20460129T200000
DTSTAMP:20260421T232106
CREATED:20220128T080038Z
LAST-MODIFIED:20220128T080038Z
UID:10002138-2400868800-2400868800@wavre.shop
SUMMARY:Cours de zumba
DESCRIPTION:Cours de zumba à wavre tous les Lundi et Mercredi à 20h00 au College technique saint-Jean
URL:https://wavre.shop/activite/cours-de-zumba/2046-01-29/
LOCATION:College Technique Saint-Jean\, Rue du Pont Saint-Jean 48\, WAVRE\, Brabant Wallon\, 1300\, Belgique
CATEGORIES:Wavre activité seniors,WAVRE ACTIVITES POUR ADO,WAVRE SPORT
ATTACH;FMTTYPE=image/jpeg:https://wavre.shop/wp-content/uploads/2022/01/Zumba-wavre-activte-2023.jpg
ORGANIZER;CN="Fabienne DEKEULENEER":MAILTO:zumbafa@hotmail.com
END:VEVENT
BEGIN:VEVENT
DTSTART;TZID=Europe/Brussels:20460131T200000
DTEND;TZID=Europe/Brussels:20460131T200000
DTSTAMP:20260421T232107
CREATED:20220128T080038Z
LAST-MODIFIED:20230722T124541Z
UID:10032443-2401041600-2401041600@wavre.shop
SUMMARY:Cours de zumba
DESCRIPTION:Cours de zumba à wavre tous les Lundi et Mercredi à 20h00 au College technique saint-Jean
URL:https://wavre.shop/activite/cours-de-zumba/2046-01-31/
LOCATION:College Technique Saint-Jean\, Rue du Pont Saint-Jean 48\, WAVRE\, Brabant Wallon\, 1300\, Belgique
CATEGORIES:Wavre activité seniors,WAVRE ACTIVITES POUR ADO,WAVRE SPORT
ATTACH;FMTTYPE=image/jpeg:https://wavre.shop/wp-content/uploads/2022/01/Zumba-wavre-activte-2023.jpg
ORGANIZER;CN="Fabienne DEKEULENEER":MAILTO:zumbafa@hotmail.com
END:VEVENT
BEGIN:VEVENT
DTSTART;TZID=Europe/Brussels:20460131T200000
DTEND;TZID=Europe/Brussels:20460131T200000
DTSTAMP:20260421T232107
CREATED:20220128T080038Z
LAST-MODIFIED:20220128T080038Z
UID:10002139-2401041600-2401041600@wavre.shop
SUMMARY:Cours de zumba
DESCRIPTION:Cours de zumba à wavre tous les Lundi et Mercredi à 20h00 au College technique saint-Jean
URL:https://wavre.shop/activite/cours-de-zumba/2046-01-31/
LOCATION:College Technique Saint-Jean\, Rue du Pont Saint-Jean 48\, WAVRE\, Brabant Wallon\, 1300\, Belgique
CATEGORIES:Wavre activité seniors,WAVRE ACTIVITES POUR ADO,WAVRE SPORT
ATTACH;FMTTYPE=image/jpeg:https://wavre.shop/wp-content/uploads/2022/01/Zumba-wavre-activte-2023.jpg
ORGANIZER;CN="Fabienne DEKEULENEER":MAILTO:zumbafa@hotmail.com
END:VEVENT
END:VCALENDAR