BEGIN:VCALENDAR
VERSION:2.0
PRODID:-//Wavre shopping - ECPv6.15.12//NONSGML v1.0//EN
CALSCALE:GREGORIAN
METHOD:PUBLISH
X-WR-CALNAME:Wavre shopping
X-ORIGINAL-URL:https://wavre.shop
X-WR-CALDESC:Évènements pour Wavre shopping
REFRESH-INTERVAL;VALUE=DURATION:PT1H
X-Robots-Tag:noindex
X-PUBLISHED-TTL:PT1H
BEGIN:VTIMEZONE
TZID:Europe/Brussels
BEGIN:DAYLIGHT
TZOFFSETFROM:+0100
TZOFFSETTO:+0200
TZNAME:CEST
DTSTART:20440327T010000
END:DAYLIGHT
BEGIN:STANDARD
TZOFFSETFROM:+0200
TZOFFSETTO:+0100
TZNAME:CET
DTSTART:20441030T010000
END:STANDARD
BEGIN:DAYLIGHT
TZOFFSETFROM:+0100
TZOFFSETTO:+0200
TZNAME:CEST
DTSTART:20450326T010000
END:DAYLIGHT
BEGIN:STANDARD
TZOFFSETFROM:+0200
TZOFFSETTO:+0100
TZNAME:CET
DTSTART:20451029T010000
END:STANDARD
BEGIN:DAYLIGHT
TZOFFSETFROM:+0100
TZOFFSETTO:+0200
TZNAME:CEST
DTSTART:20460325T010000
END:DAYLIGHT
BEGIN:STANDARD
TZOFFSETFROM:+0200
TZOFFSETTO:+0100
TZNAME:CET
DTSTART:20461028T010000
END:STANDARD
END:VTIMEZONE
BEGIN:VEVENT
DTSTART;TZID=Europe/Brussels:20451023T200000
DTEND;TZID=Europe/Brussels:20451023T200000
DTSTAMP:20260421T181509
CREATED:20220128T080038Z
LAST-MODIFIED:20230722T124541Z
UID:10032414-2392401600-2392401600@wavre.shop
SUMMARY:Cours de zumba
DESCRIPTION:Cours de zumba à wavre tous les Lundi et Mercredi à 20h00 au College technique saint-Jean
URL:https://wavre.shop/activite/cours-de-zumba/2045-10-23/
LOCATION:College Technique Saint-Jean\, Rue du Pont Saint-Jean 48\, WAVRE\, Brabant Wallon\, 1300\, Belgique
CATEGORIES:Wavre activité seniors,WAVRE ACTIVITES POUR ADO,WAVRE SPORT
ATTACH;FMTTYPE=image/jpeg:https://wavre.shop/wp-content/uploads/2022/01/Zumba-wavre-activte-2023.jpg
ORGANIZER;CN="Fabienne DEKEULENEER":MAILTO:zumbafa@hotmail.com
END:VEVENT
BEGIN:VEVENT
DTSTART;TZID=Europe/Brussels:20451023T200000
DTEND;TZID=Europe/Brussels:20451023T200000
DTSTAMP:20260421T181509
CREATED:20220128T080038Z
LAST-MODIFIED:20220128T080038Z
UID:10002110-2392401600-2392401600@wavre.shop
SUMMARY:Cours de zumba
DESCRIPTION:Cours de zumba à wavre tous les Lundi et Mercredi à 20h00 au College technique saint-Jean
URL:https://wavre.shop/activite/cours-de-zumba/2045-10-23/
LOCATION:College Technique Saint-Jean\, Rue du Pont Saint-Jean 48\, WAVRE\, Brabant Wallon\, 1300\, Belgique
CATEGORIES:Wavre activité seniors,WAVRE ACTIVITES POUR ADO,WAVRE SPORT
ATTACH;FMTTYPE=image/jpeg:https://wavre.shop/wp-content/uploads/2022/01/Zumba-wavre-activte-2023.jpg
ORGANIZER;CN="Fabienne DEKEULENEER":MAILTO:zumbafa@hotmail.com
END:VEVENT
BEGIN:VEVENT
DTSTART;TZID=Europe/Brussels:20451025T200000
DTEND;TZID=Europe/Brussels:20451025T200000
DTSTAMP:20260421T181509
CREATED:20220128T080038Z
LAST-MODIFIED:20230722T124541Z
UID:10032415-2392574400-2392574400@wavre.shop
SUMMARY:Cours de zumba
DESCRIPTION:Cours de zumba à wavre tous les Lundi et Mercredi à 20h00 au College technique saint-Jean
URL:https://wavre.shop/activite/cours-de-zumba/2045-10-25/
LOCATION:College Technique Saint-Jean\, Rue du Pont Saint-Jean 48\, WAVRE\, Brabant Wallon\, 1300\, Belgique
CATEGORIES:Wavre activité seniors,WAVRE ACTIVITES POUR ADO,WAVRE SPORT
ATTACH;FMTTYPE=image/jpeg:https://wavre.shop/wp-content/uploads/2022/01/Zumba-wavre-activte-2023.jpg
ORGANIZER;CN="Fabienne DEKEULENEER":MAILTO:zumbafa@hotmail.com
END:VEVENT
BEGIN:VEVENT
DTSTART;TZID=Europe/Brussels:20451025T200000
DTEND;TZID=Europe/Brussels:20451025T200000
DTSTAMP:20260421T181509
CREATED:20220128T080038Z
LAST-MODIFIED:20220128T080038Z
UID:10002111-2392574400-2392574400@wavre.shop
SUMMARY:Cours de zumba
DESCRIPTION:Cours de zumba à wavre tous les Lundi et Mercredi à 20h00 au College technique saint-Jean
URL:https://wavre.shop/activite/cours-de-zumba/2045-10-25/
LOCATION:College Technique Saint-Jean\, Rue du Pont Saint-Jean 48\, WAVRE\, Brabant Wallon\, 1300\, Belgique
CATEGORIES:Wavre activité seniors,WAVRE ACTIVITES POUR ADO,WAVRE SPORT
ATTACH;FMTTYPE=image/jpeg:https://wavre.shop/wp-content/uploads/2022/01/Zumba-wavre-activte-2023.jpg
ORGANIZER;CN="Fabienne DEKEULENEER":MAILTO:zumbafa@hotmail.com
END:VEVENT
BEGIN:VEVENT
DTSTART;TZID=Europe/Brussels:20451030T200000
DTEND;TZID=Europe/Brussels:20451030T200000
DTSTAMP:20260421T181509
CREATED:20220128T080038Z
LAST-MODIFIED:20230722T124541Z
UID:10032416-2393006400-2393006400@wavre.shop
SUMMARY:Cours de zumba
DESCRIPTION:Cours de zumba à wavre tous les Lundi et Mercredi à 20h00 au College technique saint-Jean
URL:https://wavre.shop/activite/cours-de-zumba/2045-10-30/
LOCATION:College Technique Saint-Jean\, Rue du Pont Saint-Jean 48\, WAVRE\, Brabant Wallon\, 1300\, Belgique
CATEGORIES:Wavre activité seniors,WAVRE ACTIVITES POUR ADO,WAVRE SPORT
ATTACH;FMTTYPE=image/jpeg:https://wavre.shop/wp-content/uploads/2022/01/Zumba-wavre-activte-2023.jpg
ORGANIZER;CN="Fabienne DEKEULENEER":MAILTO:zumbafa@hotmail.com
END:VEVENT
BEGIN:VEVENT
DTSTART;TZID=Europe/Brussels:20451030T200000
DTEND;TZID=Europe/Brussels:20451030T200000
DTSTAMP:20260421T181509
CREATED:20220128T080038Z
LAST-MODIFIED:20220128T080038Z
UID:10002112-2393006400-2393006400@wavre.shop
SUMMARY:Cours de zumba
DESCRIPTION:Cours de zumba à wavre tous les Lundi et Mercredi à 20h00 au College technique saint-Jean
URL:https://wavre.shop/activite/cours-de-zumba/2045-10-30/
LOCATION:College Technique Saint-Jean\, Rue du Pont Saint-Jean 48\, WAVRE\, Brabant Wallon\, 1300\, Belgique
CATEGORIES:Wavre activité seniors,WAVRE ACTIVITES POUR ADO,WAVRE SPORT
ATTACH;FMTTYPE=image/jpeg:https://wavre.shop/wp-content/uploads/2022/01/Zumba-wavre-activte-2023.jpg
ORGANIZER;CN="Fabienne DEKEULENEER":MAILTO:zumbafa@hotmail.com
END:VEVENT
BEGIN:VEVENT
DTSTART;TZID=Europe/Brussels:20451101T200000
DTEND;TZID=Europe/Brussels:20451101T200000
DTSTAMP:20260421T181509
CREATED:20220128T080038Z
LAST-MODIFIED:20230722T124541Z
UID:10032417-2393179200-2393179200@wavre.shop
SUMMARY:Cours de zumba
DESCRIPTION:Cours de zumba à wavre tous les Lundi et Mercredi à 20h00 au College technique saint-Jean
URL:https://wavre.shop/activite/cours-de-zumba/2045-11-01/
LOCATION:College Technique Saint-Jean\, Rue du Pont Saint-Jean 48\, WAVRE\, Brabant Wallon\, 1300\, Belgique
CATEGORIES:Wavre activité seniors,WAVRE ACTIVITES POUR ADO,WAVRE SPORT
ATTACH;FMTTYPE=image/jpeg:https://wavre.shop/wp-content/uploads/2022/01/Zumba-wavre-activte-2023.jpg
ORGANIZER;CN="Fabienne DEKEULENEER":MAILTO:zumbafa@hotmail.com
END:VEVENT
BEGIN:VEVENT
DTSTART;TZID=Europe/Brussels:20451101T200000
DTEND;TZID=Europe/Brussels:20451101T200000
DTSTAMP:20260421T181509
CREATED:20220128T080038Z
LAST-MODIFIED:20220128T080038Z
UID:10002113-2393179200-2393179200@wavre.shop
SUMMARY:Cours de zumba
DESCRIPTION:Cours de zumba à wavre tous les Lundi et Mercredi à 20h00 au College technique saint-Jean
URL:https://wavre.shop/activite/cours-de-zumba/2045-11-01/
LOCATION:College Technique Saint-Jean\, Rue du Pont Saint-Jean 48\, WAVRE\, Brabant Wallon\, 1300\, Belgique
CATEGORIES:Wavre activité seniors,WAVRE ACTIVITES POUR ADO,WAVRE SPORT
ATTACH;FMTTYPE=image/jpeg:https://wavre.shop/wp-content/uploads/2022/01/Zumba-wavre-activte-2023.jpg
ORGANIZER;CN="Fabienne DEKEULENEER":MAILTO:zumbafa@hotmail.com
END:VEVENT
BEGIN:VEVENT
DTSTART;TZID=Europe/Brussels:20451106T200000
DTEND;TZID=Europe/Brussels:20451106T200000
DTSTAMP:20260421T181509
CREATED:20220128T080038Z
LAST-MODIFIED:20230722T124541Z
UID:10032418-2393611200-2393611200@wavre.shop
SUMMARY:Cours de zumba
DESCRIPTION:Cours de zumba à wavre tous les Lundi et Mercredi à 20h00 au College technique saint-Jean
URL:https://wavre.shop/activite/cours-de-zumba/2045-11-06/
LOCATION:College Technique Saint-Jean\, Rue du Pont Saint-Jean 48\, WAVRE\, Brabant Wallon\, 1300\, Belgique
CATEGORIES:Wavre activité seniors,WAVRE ACTIVITES POUR ADO,WAVRE SPORT
ATTACH;FMTTYPE=image/jpeg:https://wavre.shop/wp-content/uploads/2022/01/Zumba-wavre-activte-2023.jpg
ORGANIZER;CN="Fabienne DEKEULENEER":MAILTO:zumbafa@hotmail.com
END:VEVENT
BEGIN:VEVENT
DTSTART;TZID=Europe/Brussels:20451106T200000
DTEND;TZID=Europe/Brussels:20451106T200000
DTSTAMP:20260421T181509
CREATED:20220128T080038Z
LAST-MODIFIED:20220128T080038Z
UID:10002114-2393611200-2393611200@wavre.shop
SUMMARY:Cours de zumba
DESCRIPTION:Cours de zumba à wavre tous les Lundi et Mercredi à 20h00 au College technique saint-Jean
URL:https://wavre.shop/activite/cours-de-zumba/2045-11-06/
LOCATION:College Technique Saint-Jean\, Rue du Pont Saint-Jean 48\, WAVRE\, Brabant Wallon\, 1300\, Belgique
CATEGORIES:Wavre activité seniors,WAVRE ACTIVITES POUR ADO,WAVRE SPORT
ATTACH;FMTTYPE=image/jpeg:https://wavre.shop/wp-content/uploads/2022/01/Zumba-wavre-activte-2023.jpg
ORGANIZER;CN="Fabienne DEKEULENEER":MAILTO:zumbafa@hotmail.com
END:VEVENT
BEGIN:VEVENT
DTSTART;TZID=Europe/Brussels:20451108T200000
DTEND;TZID=Europe/Brussels:20451108T200000
DTSTAMP:20260421T181509
CREATED:20220128T080038Z
LAST-MODIFIED:20230722T124541Z
UID:10032419-2393784000-2393784000@wavre.shop
SUMMARY:Cours de zumba
DESCRIPTION:Cours de zumba à wavre tous les Lundi et Mercredi à 20h00 au College technique saint-Jean
URL:https://wavre.shop/activite/cours-de-zumba/2045-11-08/
LOCATION:College Technique Saint-Jean\, Rue du Pont Saint-Jean 48\, WAVRE\, Brabant Wallon\, 1300\, Belgique
CATEGORIES:Wavre activité seniors,WAVRE ACTIVITES POUR ADO,WAVRE SPORT
ATTACH;FMTTYPE=image/jpeg:https://wavre.shop/wp-content/uploads/2022/01/Zumba-wavre-activte-2023.jpg
ORGANIZER;CN="Fabienne DEKEULENEER":MAILTO:zumbafa@hotmail.com
END:VEVENT
BEGIN:VEVENT
DTSTART;TZID=Europe/Brussels:20451108T200000
DTEND;TZID=Europe/Brussels:20451108T200000
DTSTAMP:20260421T181509
CREATED:20220128T080038Z
LAST-MODIFIED:20220128T080038Z
UID:10002115-2393784000-2393784000@wavre.shop
SUMMARY:Cours de zumba
DESCRIPTION:Cours de zumba à wavre tous les Lundi et Mercredi à 20h00 au College technique saint-Jean
URL:https://wavre.shop/activite/cours-de-zumba/2045-11-08/
LOCATION:College Technique Saint-Jean\, Rue du Pont Saint-Jean 48\, WAVRE\, Brabant Wallon\, 1300\, Belgique
CATEGORIES:Wavre activité seniors,WAVRE ACTIVITES POUR ADO,WAVRE SPORT
ATTACH;FMTTYPE=image/jpeg:https://wavre.shop/wp-content/uploads/2022/01/Zumba-wavre-activte-2023.jpg
ORGANIZER;CN="Fabienne DEKEULENEER":MAILTO:zumbafa@hotmail.com
END:VEVENT
BEGIN:VEVENT
DTSTART;TZID=Europe/Brussels:20451113T200000
DTEND;TZID=Europe/Brussels:20451113T200000
DTSTAMP:20260421T181509
CREATED:20220128T080038Z
LAST-MODIFIED:20230722T124541Z
UID:10032420-2394216000-2394216000@wavre.shop
SUMMARY:Cours de zumba
DESCRIPTION:Cours de zumba à wavre tous les Lundi et Mercredi à 20h00 au College technique saint-Jean
URL:https://wavre.shop/activite/cours-de-zumba/2045-11-13/
LOCATION:College Technique Saint-Jean\, Rue du Pont Saint-Jean 48\, WAVRE\, Brabant Wallon\, 1300\, Belgique
CATEGORIES:Wavre activité seniors,WAVRE ACTIVITES POUR ADO,WAVRE SPORT
ATTACH;FMTTYPE=image/jpeg:https://wavre.shop/wp-content/uploads/2022/01/Zumba-wavre-activte-2023.jpg
ORGANIZER;CN="Fabienne DEKEULENEER":MAILTO:zumbafa@hotmail.com
END:VEVENT
BEGIN:VEVENT
DTSTART;TZID=Europe/Brussels:20451113T200000
DTEND;TZID=Europe/Brussels:20451113T200000
DTSTAMP:20260421T181509
CREATED:20220128T080038Z
LAST-MODIFIED:20220128T080038Z
UID:10002116-2394216000-2394216000@wavre.shop
SUMMARY:Cours de zumba
DESCRIPTION:Cours de zumba à wavre tous les Lundi et Mercredi à 20h00 au College technique saint-Jean
URL:https://wavre.shop/activite/cours-de-zumba/2045-11-13/
LOCATION:College Technique Saint-Jean\, Rue du Pont Saint-Jean 48\, WAVRE\, Brabant Wallon\, 1300\, Belgique
CATEGORIES:Wavre activité seniors,WAVRE ACTIVITES POUR ADO,WAVRE SPORT
ATTACH;FMTTYPE=image/jpeg:https://wavre.shop/wp-content/uploads/2022/01/Zumba-wavre-activte-2023.jpg
ORGANIZER;CN="Fabienne DEKEULENEER":MAILTO:zumbafa@hotmail.com
END:VEVENT
BEGIN:VEVENT
DTSTART;TZID=Europe/Brussels:20451115T200000
DTEND;TZID=Europe/Brussels:20451115T200000
DTSTAMP:20260421T181509
CREATED:20220128T080038Z
LAST-MODIFIED:20230722T124541Z
UID:10032421-2394388800-2394388800@wavre.shop
SUMMARY:Cours de zumba
DESCRIPTION:Cours de zumba à wavre tous les Lundi et Mercredi à 20h00 au College technique saint-Jean
URL:https://wavre.shop/activite/cours-de-zumba/2045-11-15/
LOCATION:College Technique Saint-Jean\, Rue du Pont Saint-Jean 48\, WAVRE\, Brabant Wallon\, 1300\, Belgique
CATEGORIES:Wavre activité seniors,WAVRE ACTIVITES POUR ADO,WAVRE SPORT
ATTACH;FMTTYPE=image/jpeg:https://wavre.shop/wp-content/uploads/2022/01/Zumba-wavre-activte-2023.jpg
ORGANIZER;CN="Fabienne DEKEULENEER":MAILTO:zumbafa@hotmail.com
END:VEVENT
BEGIN:VEVENT
DTSTART;TZID=Europe/Brussels:20451115T200000
DTEND;TZID=Europe/Brussels:20451115T200000
DTSTAMP:20260421T181509
CREATED:20220128T080038Z
LAST-MODIFIED:20220128T080038Z
UID:10002117-2394388800-2394388800@wavre.shop
SUMMARY:Cours de zumba
DESCRIPTION:Cours de zumba à wavre tous les Lundi et Mercredi à 20h00 au College technique saint-Jean
URL:https://wavre.shop/activite/cours-de-zumba/2045-11-15/
LOCATION:College Technique Saint-Jean\, Rue du Pont Saint-Jean 48\, WAVRE\, Brabant Wallon\, 1300\, Belgique
CATEGORIES:Wavre activité seniors,WAVRE ACTIVITES POUR ADO,WAVRE SPORT
ATTACH;FMTTYPE=image/jpeg:https://wavre.shop/wp-content/uploads/2022/01/Zumba-wavre-activte-2023.jpg
ORGANIZER;CN="Fabienne DEKEULENEER":MAILTO:zumbafa@hotmail.com
END:VEVENT
BEGIN:VEVENT
DTSTART;TZID=Europe/Brussels:20451120T200000
DTEND;TZID=Europe/Brussels:20451120T200000
DTSTAMP:20260421T181509
CREATED:20220128T080038Z
LAST-MODIFIED:20230722T124541Z
UID:10032422-2394820800-2394820800@wavre.shop
SUMMARY:Cours de zumba
DESCRIPTION:Cours de zumba à wavre tous les Lundi et Mercredi à 20h00 au College technique saint-Jean
URL:https://wavre.shop/activite/cours-de-zumba/2045-11-20/
LOCATION:College Technique Saint-Jean\, Rue du Pont Saint-Jean 48\, WAVRE\, Brabant Wallon\, 1300\, Belgique
CATEGORIES:Wavre activité seniors,WAVRE ACTIVITES POUR ADO,WAVRE SPORT
ATTACH;FMTTYPE=image/jpeg:https://wavre.shop/wp-content/uploads/2022/01/Zumba-wavre-activte-2023.jpg
ORGANIZER;CN="Fabienne DEKEULENEER":MAILTO:zumbafa@hotmail.com
END:VEVENT
BEGIN:VEVENT
DTSTART;TZID=Europe/Brussels:20451120T200000
DTEND;TZID=Europe/Brussels:20451120T200000
DTSTAMP:20260421T181509
CREATED:20220128T080038Z
LAST-MODIFIED:20220128T080038Z
UID:10002118-2394820800-2394820800@wavre.shop
SUMMARY:Cours de zumba
DESCRIPTION:Cours de zumba à wavre tous les Lundi et Mercredi à 20h00 au College technique saint-Jean
URL:https://wavre.shop/activite/cours-de-zumba/2045-11-20/
LOCATION:College Technique Saint-Jean\, Rue du Pont Saint-Jean 48\, WAVRE\, Brabant Wallon\, 1300\, Belgique
CATEGORIES:Wavre activité seniors,WAVRE ACTIVITES POUR ADO,WAVRE SPORT
ATTACH;FMTTYPE=image/jpeg:https://wavre.shop/wp-content/uploads/2022/01/Zumba-wavre-activte-2023.jpg
ORGANIZER;CN="Fabienne DEKEULENEER":MAILTO:zumbafa@hotmail.com
END:VEVENT
BEGIN:VEVENT
DTSTART;TZID=Europe/Brussels:20451122T200000
DTEND;TZID=Europe/Brussels:20451122T200000
DTSTAMP:20260421T181509
CREATED:20220128T080038Z
LAST-MODIFIED:20230722T124541Z
UID:10032423-2394993600-2394993600@wavre.shop
SUMMARY:Cours de zumba
DESCRIPTION:Cours de zumba à wavre tous les Lundi et Mercredi à 20h00 au College technique saint-Jean
URL:https://wavre.shop/activite/cours-de-zumba/2045-11-22/
LOCATION:College Technique Saint-Jean\, Rue du Pont Saint-Jean 48\, WAVRE\, Brabant Wallon\, 1300\, Belgique
CATEGORIES:Wavre activité seniors,WAVRE ACTIVITES POUR ADO,WAVRE SPORT
ATTACH;FMTTYPE=image/jpeg:https://wavre.shop/wp-content/uploads/2022/01/Zumba-wavre-activte-2023.jpg
ORGANIZER;CN="Fabienne DEKEULENEER":MAILTO:zumbafa@hotmail.com
END:VEVENT
BEGIN:VEVENT
DTSTART;TZID=Europe/Brussels:20451122T200000
DTEND;TZID=Europe/Brussels:20451122T200000
DTSTAMP:20260421T181509
CREATED:20220128T080038Z
LAST-MODIFIED:20220128T080038Z
UID:10002119-2394993600-2394993600@wavre.shop
SUMMARY:Cours de zumba
DESCRIPTION:Cours de zumba à wavre tous les Lundi et Mercredi à 20h00 au College technique saint-Jean
URL:https://wavre.shop/activite/cours-de-zumba/2045-11-22/
LOCATION:College Technique Saint-Jean\, Rue du Pont Saint-Jean 48\, WAVRE\, Brabant Wallon\, 1300\, Belgique
CATEGORIES:Wavre activité seniors,WAVRE ACTIVITES POUR ADO,WAVRE SPORT
ATTACH;FMTTYPE=image/jpeg:https://wavre.shop/wp-content/uploads/2022/01/Zumba-wavre-activte-2023.jpg
ORGANIZER;CN="Fabienne DEKEULENEER":MAILTO:zumbafa@hotmail.com
END:VEVENT
BEGIN:VEVENT
DTSTART;TZID=Europe/Brussels:20451127T200000
DTEND;TZID=Europe/Brussels:20451127T200000
DTSTAMP:20260421T181509
CREATED:20220128T080038Z
LAST-MODIFIED:20230722T124541Z
UID:10032424-2395425600-2395425600@wavre.shop
SUMMARY:Cours de zumba
DESCRIPTION:Cours de zumba à wavre tous les Lundi et Mercredi à 20h00 au College technique saint-Jean
URL:https://wavre.shop/activite/cours-de-zumba/2045-11-27/
LOCATION:College Technique Saint-Jean\, Rue du Pont Saint-Jean 48\, WAVRE\, Brabant Wallon\, 1300\, Belgique
CATEGORIES:Wavre activité seniors,WAVRE ACTIVITES POUR ADO,WAVRE SPORT
ATTACH;FMTTYPE=image/jpeg:https://wavre.shop/wp-content/uploads/2022/01/Zumba-wavre-activte-2023.jpg
ORGANIZER;CN="Fabienne DEKEULENEER":MAILTO:zumbafa@hotmail.com
END:VEVENT
BEGIN:VEVENT
DTSTART;TZID=Europe/Brussels:20451127T200000
DTEND;TZID=Europe/Brussels:20451127T200000
DTSTAMP:20260421T181509
CREATED:20220128T080038Z
LAST-MODIFIED:20220128T080038Z
UID:10002120-2395425600-2395425600@wavre.shop
SUMMARY:Cours de zumba
DESCRIPTION:Cours de zumba à wavre tous les Lundi et Mercredi à 20h00 au College technique saint-Jean
URL:https://wavre.shop/activite/cours-de-zumba/2045-11-27/
LOCATION:College Technique Saint-Jean\, Rue du Pont Saint-Jean 48\, WAVRE\, Brabant Wallon\, 1300\, Belgique
CATEGORIES:Wavre activité seniors,WAVRE ACTIVITES POUR ADO,WAVRE SPORT
ATTACH;FMTTYPE=image/jpeg:https://wavre.shop/wp-content/uploads/2022/01/Zumba-wavre-activte-2023.jpg
ORGANIZER;CN="Fabienne DEKEULENEER":MAILTO:zumbafa@hotmail.com
END:VEVENT
BEGIN:VEVENT
DTSTART;TZID=Europe/Brussels:20451129T200000
DTEND;TZID=Europe/Brussels:20451129T200000
DTSTAMP:20260421T181509
CREATED:20220128T080038Z
LAST-MODIFIED:20230722T124541Z
UID:10032425-2395598400-2395598400@wavre.shop
SUMMARY:Cours de zumba
DESCRIPTION:Cours de zumba à wavre tous les Lundi et Mercredi à 20h00 au College technique saint-Jean
URL:https://wavre.shop/activite/cours-de-zumba/2045-11-29/
LOCATION:College Technique Saint-Jean\, Rue du Pont Saint-Jean 48\, WAVRE\, Brabant Wallon\, 1300\, Belgique
CATEGORIES:Wavre activité seniors,WAVRE ACTIVITES POUR ADO,WAVRE SPORT
ATTACH;FMTTYPE=image/jpeg:https://wavre.shop/wp-content/uploads/2022/01/Zumba-wavre-activte-2023.jpg
ORGANIZER;CN="Fabienne DEKEULENEER":MAILTO:zumbafa@hotmail.com
END:VEVENT
BEGIN:VEVENT
DTSTART;TZID=Europe/Brussels:20451129T200000
DTEND;TZID=Europe/Brussels:20451129T200000
DTSTAMP:20260421T181509
CREATED:20220128T080038Z
LAST-MODIFIED:20220128T080038Z
UID:10002121-2395598400-2395598400@wavre.shop
SUMMARY:Cours de zumba
DESCRIPTION:Cours de zumba à wavre tous les Lundi et Mercredi à 20h00 au College technique saint-Jean
URL:https://wavre.shop/activite/cours-de-zumba/2045-11-29/
LOCATION:College Technique Saint-Jean\, Rue du Pont Saint-Jean 48\, WAVRE\, Brabant Wallon\, 1300\, Belgique
CATEGORIES:Wavre activité seniors,WAVRE ACTIVITES POUR ADO,WAVRE SPORT
ATTACH;FMTTYPE=image/jpeg:https://wavre.shop/wp-content/uploads/2022/01/Zumba-wavre-activte-2023.jpg
ORGANIZER;CN="Fabienne DEKEULENEER":MAILTO:zumbafa@hotmail.com
END:VEVENT
BEGIN:VEVENT
DTSTART;TZID=Europe/Brussels:20451204T200000
DTEND;TZID=Europe/Brussels:20451204T200000
DTSTAMP:20260421T181509
CREATED:20220128T080038Z
LAST-MODIFIED:20230722T124541Z
UID:10032426-2396030400-2396030400@wavre.shop
SUMMARY:Cours de zumba
DESCRIPTION:Cours de zumba à wavre tous les Lundi et Mercredi à 20h00 au College technique saint-Jean
URL:https://wavre.shop/activite/cours-de-zumba/2045-12-04/
LOCATION:College Technique Saint-Jean\, Rue du Pont Saint-Jean 48\, WAVRE\, Brabant Wallon\, 1300\, Belgique
CATEGORIES:Wavre activité seniors,WAVRE ACTIVITES POUR ADO,WAVRE SPORT
ATTACH;FMTTYPE=image/jpeg:https://wavre.shop/wp-content/uploads/2022/01/Zumba-wavre-activte-2023.jpg
ORGANIZER;CN="Fabienne DEKEULENEER":MAILTO:zumbafa@hotmail.com
END:VEVENT
BEGIN:VEVENT
DTSTART;TZID=Europe/Brussels:20451204T200000
DTEND;TZID=Europe/Brussels:20451204T200000
DTSTAMP:20260421T181509
CREATED:20220128T080038Z
LAST-MODIFIED:20220128T080038Z
UID:10002122-2396030400-2396030400@wavre.shop
SUMMARY:Cours de zumba
DESCRIPTION:Cours de zumba à wavre tous les Lundi et Mercredi à 20h00 au College technique saint-Jean
URL:https://wavre.shop/activite/cours-de-zumba/2045-12-04/
LOCATION:College Technique Saint-Jean\, Rue du Pont Saint-Jean 48\, WAVRE\, Brabant Wallon\, 1300\, Belgique
CATEGORIES:Wavre activité seniors,WAVRE ACTIVITES POUR ADO,WAVRE SPORT
ATTACH;FMTTYPE=image/jpeg:https://wavre.shop/wp-content/uploads/2022/01/Zumba-wavre-activte-2023.jpg
ORGANIZER;CN="Fabienne DEKEULENEER":MAILTO:zumbafa@hotmail.com
END:VEVENT
BEGIN:VEVENT
DTSTART;TZID=Europe/Brussels:20451206T200000
DTEND;TZID=Europe/Brussels:20451206T200000
DTSTAMP:20260421T181509
CREATED:20220128T080038Z
LAST-MODIFIED:20230722T124541Z
UID:10032427-2396203200-2396203200@wavre.shop
SUMMARY:Cours de zumba
DESCRIPTION:Cours de zumba à wavre tous les Lundi et Mercredi à 20h00 au College technique saint-Jean
URL:https://wavre.shop/activite/cours-de-zumba/2045-12-06/
LOCATION:College Technique Saint-Jean\, Rue du Pont Saint-Jean 48\, WAVRE\, Brabant Wallon\, 1300\, Belgique
CATEGORIES:Wavre activité seniors,WAVRE ACTIVITES POUR ADO,WAVRE SPORT
ATTACH;FMTTYPE=image/jpeg:https://wavre.shop/wp-content/uploads/2022/01/Zumba-wavre-activte-2023.jpg
ORGANIZER;CN="Fabienne DEKEULENEER":MAILTO:zumbafa@hotmail.com
END:VEVENT
BEGIN:VEVENT
DTSTART;TZID=Europe/Brussels:20451206T200000
DTEND;TZID=Europe/Brussels:20451206T200000
DTSTAMP:20260421T181509
CREATED:20220128T080038Z
LAST-MODIFIED:20220128T080038Z
UID:10002123-2396203200-2396203200@wavre.shop
SUMMARY:Cours de zumba
DESCRIPTION:Cours de zumba à wavre tous les Lundi et Mercredi à 20h00 au College technique saint-Jean
URL:https://wavre.shop/activite/cours-de-zumba/2045-12-06/
LOCATION:College Technique Saint-Jean\, Rue du Pont Saint-Jean 48\, WAVRE\, Brabant Wallon\, 1300\, Belgique
CATEGORIES:Wavre activité seniors,WAVRE ACTIVITES POUR ADO,WAVRE SPORT
ATTACH;FMTTYPE=image/jpeg:https://wavre.shop/wp-content/uploads/2022/01/Zumba-wavre-activte-2023.jpg
ORGANIZER;CN="Fabienne DEKEULENEER":MAILTO:zumbafa@hotmail.com
END:VEVENT
BEGIN:VEVENT
DTSTART;TZID=Europe/Brussels:20451211T200000
DTEND;TZID=Europe/Brussels:20451211T200000
DTSTAMP:20260421T181509
CREATED:20220128T080038Z
LAST-MODIFIED:20230722T124541Z
UID:10032428-2396635200-2396635200@wavre.shop
SUMMARY:Cours de zumba
DESCRIPTION:Cours de zumba à wavre tous les Lundi et Mercredi à 20h00 au College technique saint-Jean
URL:https://wavre.shop/activite/cours-de-zumba/2045-12-11/
LOCATION:College Technique Saint-Jean\, Rue du Pont Saint-Jean 48\, WAVRE\, Brabant Wallon\, 1300\, Belgique
CATEGORIES:Wavre activité seniors,WAVRE ACTIVITES POUR ADO,WAVRE SPORT
ATTACH;FMTTYPE=image/jpeg:https://wavre.shop/wp-content/uploads/2022/01/Zumba-wavre-activte-2023.jpg
ORGANIZER;CN="Fabienne DEKEULENEER":MAILTO:zumbafa@hotmail.com
END:VEVENT
BEGIN:VEVENT
DTSTART;TZID=Europe/Brussels:20451211T200000
DTEND;TZID=Europe/Brussels:20451211T200000
DTSTAMP:20260421T181509
CREATED:20220128T080038Z
LAST-MODIFIED:20220128T080038Z
UID:10002124-2396635200-2396635200@wavre.shop
SUMMARY:Cours de zumba
DESCRIPTION:Cours de zumba à wavre tous les Lundi et Mercredi à 20h00 au College technique saint-Jean
URL:https://wavre.shop/activite/cours-de-zumba/2045-12-11/
LOCATION:College Technique Saint-Jean\, Rue du Pont Saint-Jean 48\, WAVRE\, Brabant Wallon\, 1300\, Belgique
CATEGORIES:Wavre activité seniors,WAVRE ACTIVITES POUR ADO,WAVRE SPORT
ATTACH;FMTTYPE=image/jpeg:https://wavre.shop/wp-content/uploads/2022/01/Zumba-wavre-activte-2023.jpg
ORGANIZER;CN="Fabienne DEKEULENEER":MAILTO:zumbafa@hotmail.com
END:VEVENT
END:VCALENDAR