BEGIN:VCALENDAR
VERSION:2.0
PRODID:-//Wavre shopping - ECPv6.15.12//NONSGML v1.0//EN
CALSCALE:GREGORIAN
METHOD:PUBLISH
X-ORIGINAL-URL:https://wavre.shop
X-WR-CALDESC:Évènements pour Wavre shopping
REFRESH-INTERVAL;VALUE=DURATION:PT1H
X-Robots-Tag:noindex
X-PUBLISHED-TTL:PT1H
BEGIN:VTIMEZONE
TZID:Europe/Brussels
BEGIN:DAYLIGHT
TZOFFSETFROM:+0100
TZOFFSETTO:+0200
TZNAME:CEST
DTSTART:20440327T010000
END:DAYLIGHT
BEGIN:STANDARD
TZOFFSETFROM:+0200
TZOFFSETTO:+0100
TZNAME:CET
DTSTART:20441030T010000
END:STANDARD
BEGIN:DAYLIGHT
TZOFFSETFROM:+0100
TZOFFSETTO:+0200
TZNAME:CEST
DTSTART:20450326T010000
END:DAYLIGHT
BEGIN:STANDARD
TZOFFSETFROM:+0200
TZOFFSETTO:+0100
TZNAME:CET
DTSTART:20451029T010000
END:STANDARD
BEGIN:DAYLIGHT
TZOFFSETFROM:+0100
TZOFFSETTO:+0200
TZNAME:CEST
DTSTART:20460325T010000
END:DAYLIGHT
BEGIN:STANDARD
TZOFFSETFROM:+0200
TZOFFSETTO:+0100
TZNAME:CET
DTSTART:20461028T010000
END:STANDARD
END:VTIMEZONE
BEGIN:VEVENT
DTSTART;TZID=Europe/Brussels:20450814T200000
DTEND;TZID=Europe/Brussels:20450814T200000
DTSTAMP:20260421T105843
CREATED:20220128T080038Z
LAST-MODIFIED:20230722T124541Z
UID:10032394-2386353600-2386353600@wavre.shop
SUMMARY:Cours de zumba
DESCRIPTION:Cours de zumba à wavre tous les Lundi et Mercredi à 20h00 au College technique saint-Jean
URL:https://wavre.shop/activite/cours-de-zumba/2045-08-14/
LOCATION:College Technique Saint-Jean\, Rue du Pont Saint-Jean 48\, WAVRE\, Brabant Wallon\, 1300\, Belgique
CATEGORIES:Wavre activité seniors,WAVRE ACTIVITES POUR ADO,WAVRE SPORT
ATTACH;FMTTYPE=image/jpeg:https://wavre.shop/wp-content/uploads/2022/01/Zumba-wavre-activte-2023.jpg
ORGANIZER;CN="Fabienne DEKEULENEER":MAILTO:zumbafa@hotmail.com
END:VEVENT
BEGIN:VEVENT
DTSTART;TZID=Europe/Brussels:20450814T200000
DTEND;TZID=Europe/Brussels:20450814T200000
DTSTAMP:20260421T105843
CREATED:20220128T080038Z
LAST-MODIFIED:20220128T080038Z
UID:10002090-2386353600-2386353600@wavre.shop
SUMMARY:Cours de zumba
DESCRIPTION:Cours de zumba à wavre tous les Lundi et Mercredi à 20h00 au College technique saint-Jean
URL:https://wavre.shop/activite/cours-de-zumba/2045-08-14/
LOCATION:College Technique Saint-Jean\, Rue du Pont Saint-Jean 48\, WAVRE\, Brabant Wallon\, 1300\, Belgique
CATEGORIES:Wavre activité seniors,WAVRE ACTIVITES POUR ADO,WAVRE SPORT
ATTACH;FMTTYPE=image/jpeg:https://wavre.shop/wp-content/uploads/2022/01/Zumba-wavre-activte-2023.jpg
ORGANIZER;CN="Fabienne DEKEULENEER":MAILTO:zumbafa@hotmail.com
END:VEVENT
BEGIN:VEVENT
DTSTART;TZID=Europe/Brussels:20450816T200000
DTEND;TZID=Europe/Brussels:20450816T200000
DTSTAMP:20260421T105843
CREATED:20220128T080038Z
LAST-MODIFIED:20230722T124541Z
UID:10032395-2386526400-2386526400@wavre.shop
SUMMARY:Cours de zumba
DESCRIPTION:Cours de zumba à wavre tous les Lundi et Mercredi à 20h00 au College technique saint-Jean
URL:https://wavre.shop/activite/cours-de-zumba/2045-08-16/
LOCATION:College Technique Saint-Jean\, Rue du Pont Saint-Jean 48\, WAVRE\, Brabant Wallon\, 1300\, Belgique
CATEGORIES:Wavre activité seniors,WAVRE ACTIVITES POUR ADO,WAVRE SPORT
ATTACH;FMTTYPE=image/jpeg:https://wavre.shop/wp-content/uploads/2022/01/Zumba-wavre-activte-2023.jpg
ORGANIZER;CN="Fabienne DEKEULENEER":MAILTO:zumbafa@hotmail.com
END:VEVENT
BEGIN:VEVENT
DTSTART;TZID=Europe/Brussels:20450816T200000
DTEND;TZID=Europe/Brussels:20450816T200000
DTSTAMP:20260421T105843
CREATED:20220128T080038Z
LAST-MODIFIED:20220128T080038Z
UID:10002091-2386526400-2386526400@wavre.shop
SUMMARY:Cours de zumba
DESCRIPTION:Cours de zumba à wavre tous les Lundi et Mercredi à 20h00 au College technique saint-Jean
URL:https://wavre.shop/activite/cours-de-zumba/2045-08-16/
LOCATION:College Technique Saint-Jean\, Rue du Pont Saint-Jean 48\, WAVRE\, Brabant Wallon\, 1300\, Belgique
CATEGORIES:Wavre activité seniors,WAVRE ACTIVITES POUR ADO,WAVRE SPORT
ATTACH;FMTTYPE=image/jpeg:https://wavre.shop/wp-content/uploads/2022/01/Zumba-wavre-activte-2023.jpg
ORGANIZER;CN="Fabienne DEKEULENEER":MAILTO:zumbafa@hotmail.com
END:VEVENT
BEGIN:VEVENT
DTSTART;TZID=Europe/Brussels:20450821T200000
DTEND;TZID=Europe/Brussels:20450821T200000
DTSTAMP:20260421T105843
CREATED:20220128T080038Z
LAST-MODIFIED:20230722T124541Z
UID:10032396-2386958400-2386958400@wavre.shop
SUMMARY:Cours de zumba
DESCRIPTION:Cours de zumba à wavre tous les Lundi et Mercredi à 20h00 au College technique saint-Jean
URL:https://wavre.shop/activite/cours-de-zumba/2045-08-21/
LOCATION:College Technique Saint-Jean\, Rue du Pont Saint-Jean 48\, WAVRE\, Brabant Wallon\, 1300\, Belgique
CATEGORIES:Wavre activité seniors,WAVRE ACTIVITES POUR ADO,WAVRE SPORT
ATTACH;FMTTYPE=image/jpeg:https://wavre.shop/wp-content/uploads/2022/01/Zumba-wavre-activte-2023.jpg
ORGANIZER;CN="Fabienne DEKEULENEER":MAILTO:zumbafa@hotmail.com
END:VEVENT
BEGIN:VEVENT
DTSTART;TZID=Europe/Brussels:20450821T200000
DTEND;TZID=Europe/Brussels:20450821T200000
DTSTAMP:20260421T105843
CREATED:20220128T080038Z
LAST-MODIFIED:20220128T080038Z
UID:10002092-2386958400-2386958400@wavre.shop
SUMMARY:Cours de zumba
DESCRIPTION:Cours de zumba à wavre tous les Lundi et Mercredi à 20h00 au College technique saint-Jean
URL:https://wavre.shop/activite/cours-de-zumba/2045-08-21/
LOCATION:College Technique Saint-Jean\, Rue du Pont Saint-Jean 48\, WAVRE\, Brabant Wallon\, 1300\, Belgique
CATEGORIES:Wavre activité seniors,WAVRE ACTIVITES POUR ADO,WAVRE SPORT
ATTACH;FMTTYPE=image/jpeg:https://wavre.shop/wp-content/uploads/2022/01/Zumba-wavre-activte-2023.jpg
ORGANIZER;CN="Fabienne DEKEULENEER":MAILTO:zumbafa@hotmail.com
END:VEVENT
BEGIN:VEVENT
DTSTART;TZID=Europe/Brussels:20450823T200000
DTEND;TZID=Europe/Brussels:20450823T200000
DTSTAMP:20260421T105843
CREATED:20220128T080038Z
LAST-MODIFIED:20230722T124541Z
UID:10032397-2387131200-2387131200@wavre.shop
SUMMARY:Cours de zumba
DESCRIPTION:Cours de zumba à wavre tous les Lundi et Mercredi à 20h00 au College technique saint-Jean
URL:https://wavre.shop/activite/cours-de-zumba/2045-08-23/
LOCATION:College Technique Saint-Jean\, Rue du Pont Saint-Jean 48\, WAVRE\, Brabant Wallon\, 1300\, Belgique
CATEGORIES:Wavre activité seniors,WAVRE ACTIVITES POUR ADO,WAVRE SPORT
ATTACH;FMTTYPE=image/jpeg:https://wavre.shop/wp-content/uploads/2022/01/Zumba-wavre-activte-2023.jpg
ORGANIZER;CN="Fabienne DEKEULENEER":MAILTO:zumbafa@hotmail.com
END:VEVENT
BEGIN:VEVENT
DTSTART;TZID=Europe/Brussels:20450823T200000
DTEND;TZID=Europe/Brussels:20450823T200000
DTSTAMP:20260421T105843
CREATED:20220128T080038Z
LAST-MODIFIED:20220128T080038Z
UID:10002093-2387131200-2387131200@wavre.shop
SUMMARY:Cours de zumba
DESCRIPTION:Cours de zumba à wavre tous les Lundi et Mercredi à 20h00 au College technique saint-Jean
URL:https://wavre.shop/activite/cours-de-zumba/2045-08-23/
LOCATION:College Technique Saint-Jean\, Rue du Pont Saint-Jean 48\, WAVRE\, Brabant Wallon\, 1300\, Belgique
CATEGORIES:Wavre activité seniors,WAVRE ACTIVITES POUR ADO,WAVRE SPORT
ATTACH;FMTTYPE=image/jpeg:https://wavre.shop/wp-content/uploads/2022/01/Zumba-wavre-activte-2023.jpg
ORGANIZER;CN="Fabienne DEKEULENEER":MAILTO:zumbafa@hotmail.com
END:VEVENT
BEGIN:VEVENT
DTSTART;TZID=Europe/Brussels:20450828T200000
DTEND;TZID=Europe/Brussels:20450828T200000
DTSTAMP:20260421T105843
CREATED:20220128T080038Z
LAST-MODIFIED:20230722T124541Z
UID:10032398-2387563200-2387563200@wavre.shop
SUMMARY:Cours de zumba
DESCRIPTION:Cours de zumba à wavre tous les Lundi et Mercredi à 20h00 au College technique saint-Jean
URL:https://wavre.shop/activite/cours-de-zumba/2045-08-28/
LOCATION:College Technique Saint-Jean\, Rue du Pont Saint-Jean 48\, WAVRE\, Brabant Wallon\, 1300\, Belgique
CATEGORIES:Wavre activité seniors,WAVRE ACTIVITES POUR ADO,WAVRE SPORT
ATTACH;FMTTYPE=image/jpeg:https://wavre.shop/wp-content/uploads/2022/01/Zumba-wavre-activte-2023.jpg
ORGANIZER;CN="Fabienne DEKEULENEER":MAILTO:zumbafa@hotmail.com
END:VEVENT
BEGIN:VEVENT
DTSTART;TZID=Europe/Brussels:20450828T200000
DTEND;TZID=Europe/Brussels:20450828T200000
DTSTAMP:20260421T105843
CREATED:20220128T080038Z
LAST-MODIFIED:20220128T080038Z
UID:10002094-2387563200-2387563200@wavre.shop
SUMMARY:Cours de zumba
DESCRIPTION:Cours de zumba à wavre tous les Lundi et Mercredi à 20h00 au College technique saint-Jean
URL:https://wavre.shop/activite/cours-de-zumba/2045-08-28/
LOCATION:College Technique Saint-Jean\, Rue du Pont Saint-Jean 48\, WAVRE\, Brabant Wallon\, 1300\, Belgique
CATEGORIES:Wavre activité seniors,WAVRE ACTIVITES POUR ADO,WAVRE SPORT
ATTACH;FMTTYPE=image/jpeg:https://wavre.shop/wp-content/uploads/2022/01/Zumba-wavre-activte-2023.jpg
ORGANIZER;CN="Fabienne DEKEULENEER":MAILTO:zumbafa@hotmail.com
END:VEVENT
BEGIN:VEVENT
DTSTART;TZID=Europe/Brussels:20450830T200000
DTEND;TZID=Europe/Brussels:20450830T200000
DTSTAMP:20260421T105843
CREATED:20220128T080038Z
LAST-MODIFIED:20230722T124541Z
UID:10032399-2387736000-2387736000@wavre.shop
SUMMARY:Cours de zumba
DESCRIPTION:Cours de zumba à wavre tous les Lundi et Mercredi à 20h00 au College technique saint-Jean
URL:https://wavre.shop/activite/cours-de-zumba/2045-08-30/
LOCATION:College Technique Saint-Jean\, Rue du Pont Saint-Jean 48\, WAVRE\, Brabant Wallon\, 1300\, Belgique
CATEGORIES:Wavre activité seniors,WAVRE ACTIVITES POUR ADO,WAVRE SPORT
ATTACH;FMTTYPE=image/jpeg:https://wavre.shop/wp-content/uploads/2022/01/Zumba-wavre-activte-2023.jpg
ORGANIZER;CN="Fabienne DEKEULENEER":MAILTO:zumbafa@hotmail.com
END:VEVENT
BEGIN:VEVENT
DTSTART;TZID=Europe/Brussels:20450830T200000
DTEND;TZID=Europe/Brussels:20450830T200000
DTSTAMP:20260421T105843
CREATED:20220128T080038Z
LAST-MODIFIED:20220128T080038Z
UID:10002095-2387736000-2387736000@wavre.shop
SUMMARY:Cours de zumba
DESCRIPTION:Cours de zumba à wavre tous les Lundi et Mercredi à 20h00 au College technique saint-Jean
URL:https://wavre.shop/activite/cours-de-zumba/2045-08-30/
LOCATION:College Technique Saint-Jean\, Rue du Pont Saint-Jean 48\, WAVRE\, Brabant Wallon\, 1300\, Belgique
CATEGORIES:Wavre activité seniors,WAVRE ACTIVITES POUR ADO,WAVRE SPORT
ATTACH;FMTTYPE=image/jpeg:https://wavre.shop/wp-content/uploads/2022/01/Zumba-wavre-activte-2023.jpg
ORGANIZER;CN="Fabienne DEKEULENEER":MAILTO:zumbafa@hotmail.com
END:VEVENT
BEGIN:VEVENT
DTSTART;TZID=Europe/Brussels:20450904T200000
DTEND;TZID=Europe/Brussels:20450904T200000
DTSTAMP:20260421T105843
CREATED:20220128T080038Z
LAST-MODIFIED:20230722T124541Z
UID:10032400-2388168000-2388168000@wavre.shop
SUMMARY:Cours de zumba
DESCRIPTION:Cours de zumba à wavre tous les Lundi et Mercredi à 20h00 au College technique saint-Jean
URL:https://wavre.shop/activite/cours-de-zumba/2045-09-04/
LOCATION:College Technique Saint-Jean\, Rue du Pont Saint-Jean 48\, WAVRE\, Brabant Wallon\, 1300\, Belgique
CATEGORIES:Wavre activité seniors,WAVRE ACTIVITES POUR ADO,WAVRE SPORT
ATTACH;FMTTYPE=image/jpeg:https://wavre.shop/wp-content/uploads/2022/01/Zumba-wavre-activte-2023.jpg
ORGANIZER;CN="Fabienne DEKEULENEER":MAILTO:zumbafa@hotmail.com
END:VEVENT
BEGIN:VEVENT
DTSTART;TZID=Europe/Brussels:20450904T200000
DTEND;TZID=Europe/Brussels:20450904T200000
DTSTAMP:20260421T105843
CREATED:20220128T080038Z
LAST-MODIFIED:20220128T080038Z
UID:10002096-2388168000-2388168000@wavre.shop
SUMMARY:Cours de zumba
DESCRIPTION:Cours de zumba à wavre tous les Lundi et Mercredi à 20h00 au College technique saint-Jean
URL:https://wavre.shop/activite/cours-de-zumba/2045-09-04/
LOCATION:College Technique Saint-Jean\, Rue du Pont Saint-Jean 48\, WAVRE\, Brabant Wallon\, 1300\, Belgique
CATEGORIES:Wavre activité seniors,WAVRE ACTIVITES POUR ADO,WAVRE SPORT
ATTACH;FMTTYPE=image/jpeg:https://wavre.shop/wp-content/uploads/2022/01/Zumba-wavre-activte-2023.jpg
ORGANIZER;CN="Fabienne DEKEULENEER":MAILTO:zumbafa@hotmail.com
END:VEVENT
BEGIN:VEVENT
DTSTART;TZID=Europe/Brussels:20450906T200000
DTEND;TZID=Europe/Brussels:20450906T200000
DTSTAMP:20260421T105843
CREATED:20220128T080038Z
LAST-MODIFIED:20230722T124541Z
UID:10032401-2388340800-2388340800@wavre.shop
SUMMARY:Cours de zumba
DESCRIPTION:Cours de zumba à wavre tous les Lundi et Mercredi à 20h00 au College technique saint-Jean
URL:https://wavre.shop/activite/cours-de-zumba/2045-09-06/
LOCATION:College Technique Saint-Jean\, Rue du Pont Saint-Jean 48\, WAVRE\, Brabant Wallon\, 1300\, Belgique
CATEGORIES:Wavre activité seniors,WAVRE ACTIVITES POUR ADO,WAVRE SPORT
ATTACH;FMTTYPE=image/jpeg:https://wavre.shop/wp-content/uploads/2022/01/Zumba-wavre-activte-2023.jpg
ORGANIZER;CN="Fabienne DEKEULENEER":MAILTO:zumbafa@hotmail.com
END:VEVENT
BEGIN:VEVENT
DTSTART;TZID=Europe/Brussels:20450906T200000
DTEND;TZID=Europe/Brussels:20450906T200000
DTSTAMP:20260421T105843
CREATED:20220128T080038Z
LAST-MODIFIED:20220128T080038Z
UID:10002097-2388340800-2388340800@wavre.shop
SUMMARY:Cours de zumba
DESCRIPTION:Cours de zumba à wavre tous les Lundi et Mercredi à 20h00 au College technique saint-Jean
URL:https://wavre.shop/activite/cours-de-zumba/2045-09-06/
LOCATION:College Technique Saint-Jean\, Rue du Pont Saint-Jean 48\, WAVRE\, Brabant Wallon\, 1300\, Belgique
CATEGORIES:Wavre activité seniors,WAVRE ACTIVITES POUR ADO,WAVRE SPORT
ATTACH;FMTTYPE=image/jpeg:https://wavre.shop/wp-content/uploads/2022/01/Zumba-wavre-activte-2023.jpg
ORGANIZER;CN="Fabienne DEKEULENEER":MAILTO:zumbafa@hotmail.com
END:VEVENT
BEGIN:VEVENT
DTSTART;TZID=Europe/Brussels:20450911T200000
DTEND;TZID=Europe/Brussels:20450911T200000
DTSTAMP:20260421T105843
CREATED:20220128T080038Z
LAST-MODIFIED:20230722T124541Z
UID:10032402-2388772800-2388772800@wavre.shop
SUMMARY:Cours de zumba
DESCRIPTION:Cours de zumba à wavre tous les Lundi et Mercredi à 20h00 au College technique saint-Jean
URL:https://wavre.shop/activite/cours-de-zumba/2045-09-11/
LOCATION:College Technique Saint-Jean\, Rue du Pont Saint-Jean 48\, WAVRE\, Brabant Wallon\, 1300\, Belgique
CATEGORIES:Wavre activité seniors,WAVRE ACTIVITES POUR ADO,WAVRE SPORT
ATTACH;FMTTYPE=image/jpeg:https://wavre.shop/wp-content/uploads/2022/01/Zumba-wavre-activte-2023.jpg
ORGANIZER;CN="Fabienne DEKEULENEER":MAILTO:zumbafa@hotmail.com
END:VEVENT
BEGIN:VEVENT
DTSTART;TZID=Europe/Brussels:20450911T200000
DTEND;TZID=Europe/Brussels:20450911T200000
DTSTAMP:20260421T105843
CREATED:20220128T080038Z
LAST-MODIFIED:20220128T080038Z
UID:10002098-2388772800-2388772800@wavre.shop
SUMMARY:Cours de zumba
DESCRIPTION:Cours de zumba à wavre tous les Lundi et Mercredi à 20h00 au College technique saint-Jean
URL:https://wavre.shop/activite/cours-de-zumba/2045-09-11/
LOCATION:College Technique Saint-Jean\, Rue du Pont Saint-Jean 48\, WAVRE\, Brabant Wallon\, 1300\, Belgique
CATEGORIES:Wavre activité seniors,WAVRE ACTIVITES POUR ADO,WAVRE SPORT
ATTACH;FMTTYPE=image/jpeg:https://wavre.shop/wp-content/uploads/2022/01/Zumba-wavre-activte-2023.jpg
ORGANIZER;CN="Fabienne DEKEULENEER":MAILTO:zumbafa@hotmail.com
END:VEVENT
BEGIN:VEVENT
DTSTART;TZID=Europe/Brussels:20450913T200000
DTEND;TZID=Europe/Brussels:20450913T200000
DTSTAMP:20260421T105843
CREATED:20220128T080038Z
LAST-MODIFIED:20230722T124541Z
UID:10032403-2388945600-2388945600@wavre.shop
SUMMARY:Cours de zumba
DESCRIPTION:Cours de zumba à wavre tous les Lundi et Mercredi à 20h00 au College technique saint-Jean
URL:https://wavre.shop/activite/cours-de-zumba/2045-09-13/
LOCATION:College Technique Saint-Jean\, Rue du Pont Saint-Jean 48\, WAVRE\, Brabant Wallon\, 1300\, Belgique
CATEGORIES:Wavre activité seniors,WAVRE ACTIVITES POUR ADO,WAVRE SPORT
ATTACH;FMTTYPE=image/jpeg:https://wavre.shop/wp-content/uploads/2022/01/Zumba-wavre-activte-2023.jpg
ORGANIZER;CN="Fabienne DEKEULENEER":MAILTO:zumbafa@hotmail.com
END:VEVENT
BEGIN:VEVENT
DTSTART;TZID=Europe/Brussels:20450913T200000
DTEND;TZID=Europe/Brussels:20450913T200000
DTSTAMP:20260421T105843
CREATED:20220128T080038Z
LAST-MODIFIED:20220128T080038Z
UID:10002099-2388945600-2388945600@wavre.shop
SUMMARY:Cours de zumba
DESCRIPTION:Cours de zumba à wavre tous les Lundi et Mercredi à 20h00 au College technique saint-Jean
URL:https://wavre.shop/activite/cours-de-zumba/2045-09-13/
LOCATION:College Technique Saint-Jean\, Rue du Pont Saint-Jean 48\, WAVRE\, Brabant Wallon\, 1300\, Belgique
CATEGORIES:Wavre activité seniors,WAVRE ACTIVITES POUR ADO,WAVRE SPORT
ATTACH;FMTTYPE=image/jpeg:https://wavre.shop/wp-content/uploads/2022/01/Zumba-wavre-activte-2023.jpg
ORGANIZER;CN="Fabienne DEKEULENEER":MAILTO:zumbafa@hotmail.com
END:VEVENT
BEGIN:VEVENT
DTSTART;TZID=Europe/Brussels:20450918T200000
DTEND;TZID=Europe/Brussels:20450918T200000
DTSTAMP:20260421T105843
CREATED:20220128T080038Z
LAST-MODIFIED:20230722T124541Z
UID:10032404-2389377600-2389377600@wavre.shop
SUMMARY:Cours de zumba
DESCRIPTION:Cours de zumba à wavre tous les Lundi et Mercredi à 20h00 au College technique saint-Jean
URL:https://wavre.shop/activite/cours-de-zumba/2045-09-18/
LOCATION:College Technique Saint-Jean\, Rue du Pont Saint-Jean 48\, WAVRE\, Brabant Wallon\, 1300\, Belgique
CATEGORIES:Wavre activité seniors,WAVRE ACTIVITES POUR ADO,WAVRE SPORT
ATTACH;FMTTYPE=image/jpeg:https://wavre.shop/wp-content/uploads/2022/01/Zumba-wavre-activte-2023.jpg
ORGANIZER;CN="Fabienne DEKEULENEER":MAILTO:zumbafa@hotmail.com
END:VEVENT
BEGIN:VEVENT
DTSTART;TZID=Europe/Brussels:20450918T200000
DTEND;TZID=Europe/Brussels:20450918T200000
DTSTAMP:20260421T105843
CREATED:20220128T080038Z
LAST-MODIFIED:20220128T080038Z
UID:10002100-2389377600-2389377600@wavre.shop
SUMMARY:Cours de zumba
DESCRIPTION:Cours de zumba à wavre tous les Lundi et Mercredi à 20h00 au College technique saint-Jean
URL:https://wavre.shop/activite/cours-de-zumba/2045-09-18/
LOCATION:College Technique Saint-Jean\, Rue du Pont Saint-Jean 48\, WAVRE\, Brabant Wallon\, 1300\, Belgique
CATEGORIES:Wavre activité seniors,WAVRE ACTIVITES POUR ADO,WAVRE SPORT
ATTACH;FMTTYPE=image/jpeg:https://wavre.shop/wp-content/uploads/2022/01/Zumba-wavre-activte-2023.jpg
ORGANIZER;CN="Fabienne DEKEULENEER":MAILTO:zumbafa@hotmail.com
END:VEVENT
BEGIN:VEVENT
DTSTART;TZID=Europe/Brussels:20450920T200000
DTEND;TZID=Europe/Brussels:20450920T200000
DTSTAMP:20260421T105843
CREATED:20220128T080038Z
LAST-MODIFIED:20230722T124541Z
UID:10032405-2389550400-2389550400@wavre.shop
SUMMARY:Cours de zumba
DESCRIPTION:Cours de zumba à wavre tous les Lundi et Mercredi à 20h00 au College technique saint-Jean
URL:https://wavre.shop/activite/cours-de-zumba/2045-09-20/
LOCATION:College Technique Saint-Jean\, Rue du Pont Saint-Jean 48\, WAVRE\, Brabant Wallon\, 1300\, Belgique
CATEGORIES:Wavre activité seniors,WAVRE ACTIVITES POUR ADO,WAVRE SPORT
ATTACH;FMTTYPE=image/jpeg:https://wavre.shop/wp-content/uploads/2022/01/Zumba-wavre-activte-2023.jpg
ORGANIZER;CN="Fabienne DEKEULENEER":MAILTO:zumbafa@hotmail.com
END:VEVENT
BEGIN:VEVENT
DTSTART;TZID=Europe/Brussels:20450920T200000
DTEND;TZID=Europe/Brussels:20450920T200000
DTSTAMP:20260421T105843
CREATED:20220128T080038Z
LAST-MODIFIED:20220128T080038Z
UID:10002101-2389550400-2389550400@wavre.shop
SUMMARY:Cours de zumba
DESCRIPTION:Cours de zumba à wavre tous les Lundi et Mercredi à 20h00 au College technique saint-Jean
URL:https://wavre.shop/activite/cours-de-zumba/2045-09-20/
LOCATION:College Technique Saint-Jean\, Rue du Pont Saint-Jean 48\, WAVRE\, Brabant Wallon\, 1300\, Belgique
CATEGORIES:Wavre activité seniors,WAVRE ACTIVITES POUR ADO,WAVRE SPORT
ATTACH;FMTTYPE=image/jpeg:https://wavre.shop/wp-content/uploads/2022/01/Zumba-wavre-activte-2023.jpg
ORGANIZER;CN="Fabienne DEKEULENEER":MAILTO:zumbafa@hotmail.com
END:VEVENT
BEGIN:VEVENT
DTSTART;TZID=Europe/Brussels:20450925T200000
DTEND;TZID=Europe/Brussels:20450925T200000
DTSTAMP:20260421T105843
CREATED:20220128T080038Z
LAST-MODIFIED:20230722T124541Z
UID:10032406-2389982400-2389982400@wavre.shop
SUMMARY:Cours de zumba
DESCRIPTION:Cours de zumba à wavre tous les Lundi et Mercredi à 20h00 au College technique saint-Jean
URL:https://wavre.shop/activite/cours-de-zumba/2045-09-25/
LOCATION:College Technique Saint-Jean\, Rue du Pont Saint-Jean 48\, WAVRE\, Brabant Wallon\, 1300\, Belgique
CATEGORIES:Wavre activité seniors,WAVRE ACTIVITES POUR ADO,WAVRE SPORT
ATTACH;FMTTYPE=image/jpeg:https://wavre.shop/wp-content/uploads/2022/01/Zumba-wavre-activte-2023.jpg
ORGANIZER;CN="Fabienne DEKEULENEER":MAILTO:zumbafa@hotmail.com
END:VEVENT
BEGIN:VEVENT
DTSTART;TZID=Europe/Brussels:20450925T200000
DTEND;TZID=Europe/Brussels:20450925T200000
DTSTAMP:20260421T105843
CREATED:20220128T080038Z
LAST-MODIFIED:20220128T080038Z
UID:10002102-2389982400-2389982400@wavre.shop
SUMMARY:Cours de zumba
DESCRIPTION:Cours de zumba à wavre tous les Lundi et Mercredi à 20h00 au College technique saint-Jean
URL:https://wavre.shop/activite/cours-de-zumba/2045-09-25/
LOCATION:College Technique Saint-Jean\, Rue du Pont Saint-Jean 48\, WAVRE\, Brabant Wallon\, 1300\, Belgique
CATEGORIES:Wavre activité seniors,WAVRE ACTIVITES POUR ADO,WAVRE SPORT
ATTACH;FMTTYPE=image/jpeg:https://wavre.shop/wp-content/uploads/2022/01/Zumba-wavre-activte-2023.jpg
ORGANIZER;CN="Fabienne DEKEULENEER":MAILTO:zumbafa@hotmail.com
END:VEVENT
BEGIN:VEVENT
DTSTART;TZID=Europe/Brussels:20450927T200000
DTEND;TZID=Europe/Brussels:20450927T200000
DTSTAMP:20260421T105843
CREATED:20220128T080038Z
LAST-MODIFIED:20230722T124541Z
UID:10032407-2390155200-2390155200@wavre.shop
SUMMARY:Cours de zumba
DESCRIPTION:Cours de zumba à wavre tous les Lundi et Mercredi à 20h00 au College technique saint-Jean
URL:https://wavre.shop/activite/cours-de-zumba/2045-09-27/
LOCATION:College Technique Saint-Jean\, Rue du Pont Saint-Jean 48\, WAVRE\, Brabant Wallon\, 1300\, Belgique
CATEGORIES:Wavre activité seniors,WAVRE ACTIVITES POUR ADO,WAVRE SPORT
ATTACH;FMTTYPE=image/jpeg:https://wavre.shop/wp-content/uploads/2022/01/Zumba-wavre-activte-2023.jpg
ORGANIZER;CN="Fabienne DEKEULENEER":MAILTO:zumbafa@hotmail.com
END:VEVENT
BEGIN:VEVENT
DTSTART;TZID=Europe/Brussels:20450927T200000
DTEND;TZID=Europe/Brussels:20450927T200000
DTSTAMP:20260421T105843
CREATED:20220128T080038Z
LAST-MODIFIED:20220128T080038Z
UID:10002103-2390155200-2390155200@wavre.shop
SUMMARY:Cours de zumba
DESCRIPTION:Cours de zumba à wavre tous les Lundi et Mercredi à 20h00 au College technique saint-Jean
URL:https://wavre.shop/activite/cours-de-zumba/2045-09-27/
LOCATION:College Technique Saint-Jean\, Rue du Pont Saint-Jean 48\, WAVRE\, Brabant Wallon\, 1300\, Belgique
CATEGORIES:Wavre activité seniors,WAVRE ACTIVITES POUR ADO,WAVRE SPORT
ATTACH;FMTTYPE=image/jpeg:https://wavre.shop/wp-content/uploads/2022/01/Zumba-wavre-activte-2023.jpg
ORGANIZER;CN="Fabienne DEKEULENEER":MAILTO:zumbafa@hotmail.com
END:VEVENT
BEGIN:VEVENT
DTSTART;TZID=Europe/Brussels:20451002T200000
DTEND;TZID=Europe/Brussels:20451002T200000
DTSTAMP:20260421T105843
CREATED:20220128T080038Z
LAST-MODIFIED:20230722T124541Z
UID:10032408-2390587200-2390587200@wavre.shop
SUMMARY:Cours de zumba
DESCRIPTION:Cours de zumba à wavre tous les Lundi et Mercredi à 20h00 au College technique saint-Jean
URL:https://wavre.shop/activite/cours-de-zumba/2045-10-02/
LOCATION:College Technique Saint-Jean\, Rue du Pont Saint-Jean 48\, WAVRE\, Brabant Wallon\, 1300\, Belgique
CATEGORIES:Wavre activité seniors,WAVRE ACTIVITES POUR ADO,WAVRE SPORT
ATTACH;FMTTYPE=image/jpeg:https://wavre.shop/wp-content/uploads/2022/01/Zumba-wavre-activte-2023.jpg
ORGANIZER;CN="Fabienne DEKEULENEER":MAILTO:zumbafa@hotmail.com
END:VEVENT
BEGIN:VEVENT
DTSTART;TZID=Europe/Brussels:20451002T200000
DTEND;TZID=Europe/Brussels:20451002T200000
DTSTAMP:20260421T105843
CREATED:20220128T080038Z
LAST-MODIFIED:20220128T080038Z
UID:10002104-2390587200-2390587200@wavre.shop
SUMMARY:Cours de zumba
DESCRIPTION:Cours de zumba à wavre tous les Lundi et Mercredi à 20h00 au College technique saint-Jean
URL:https://wavre.shop/activite/cours-de-zumba/2045-10-02/
LOCATION:College Technique Saint-Jean\, Rue du Pont Saint-Jean 48\, WAVRE\, Brabant Wallon\, 1300\, Belgique
CATEGORIES:Wavre activité seniors,WAVRE ACTIVITES POUR ADO,WAVRE SPORT
ATTACH;FMTTYPE=image/jpeg:https://wavre.shop/wp-content/uploads/2022/01/Zumba-wavre-activte-2023.jpg
ORGANIZER;CN="Fabienne DEKEULENEER":MAILTO:zumbafa@hotmail.com
END:VEVENT
END:VCALENDAR