BEGIN:VCALENDAR
VERSION:2.0
PRODID:-//Wavre shopping - ECPv6.15.12//NONSGML v1.0//EN
CALSCALE:GREGORIAN
METHOD:PUBLISH
X-WR-CALNAME:Wavre shopping
X-ORIGINAL-URL:https://wavre.shop
X-WR-CALDESC:Évènements pour Wavre shopping
REFRESH-INTERVAL;VALUE=DURATION:PT1H
X-Robots-Tag:noindex
X-PUBLISHED-TTL:PT1H
BEGIN:VTIMEZONE
TZID:Europe/Brussels
BEGIN:DAYLIGHT
TZOFFSETFROM:+0100
TZOFFSETTO:+0200
TZNAME:CEST
DTSTART:20440327T010000
END:DAYLIGHT
BEGIN:STANDARD
TZOFFSETFROM:+0200
TZOFFSETTO:+0100
TZNAME:CET
DTSTART:20441030T010000
END:STANDARD
BEGIN:DAYLIGHT
TZOFFSETFROM:+0100
TZOFFSETTO:+0200
TZNAME:CEST
DTSTART:20450326T010000
END:DAYLIGHT
BEGIN:STANDARD
TZOFFSETFROM:+0200
TZOFFSETTO:+0100
TZNAME:CET
DTSTART:20451029T010000
END:STANDARD
BEGIN:DAYLIGHT
TZOFFSETFROM:+0100
TZOFFSETTO:+0200
TZNAME:CEST
DTSTART:20460325T010000
END:DAYLIGHT
BEGIN:STANDARD
TZOFFSETFROM:+0200
TZOFFSETTO:+0100
TZNAME:CET
DTSTART:20461028T010000
END:STANDARD
END:VTIMEZONE
BEGIN:VEVENT
DTSTART;TZID=Europe/Brussels:20450111T200000
DTEND;TZID=Europe/Brussels:20450111T200000
DTSTAMP:20260420T005348
CREATED:20220128T080038Z
LAST-MODIFIED:20230722T124541Z
UID:10032333-2367777600-2367777600@wavre.shop
SUMMARY:Cours de zumba
DESCRIPTION:Cours de zumba à wavre tous les Lundi et Mercredi à 20h00 au College technique saint-Jean
URL:https://wavre.shop/activite/cours-de-zumba/2045-01-11/
LOCATION:College Technique Saint-Jean\, Rue du Pont Saint-Jean 48\, WAVRE\, Brabant Wallon\, 1300\, Belgique
CATEGORIES:Wavre activité seniors,WAVRE ACTIVITES POUR ADO,WAVRE SPORT
ATTACH;FMTTYPE=image/jpeg:https://wavre.shop/wp-content/uploads/2022/01/Zumba-wavre-activte-2023.jpg
ORGANIZER;CN="Fabienne DEKEULENEER":MAILTO:zumbafa@hotmail.com
END:VEVENT
BEGIN:VEVENT
DTSTART;TZID=Europe/Brussels:20450111T200000
DTEND;TZID=Europe/Brussels:20450111T200000
DTSTAMP:20260420T005348
CREATED:20220128T080038Z
LAST-MODIFIED:20220128T080038Z
UID:10002029-2367777600-2367777600@wavre.shop
SUMMARY:Cours de zumba
DESCRIPTION:Cours de zumba à wavre tous les Lundi et Mercredi à 20h00 au College technique saint-Jean
URL:https://wavre.shop/activite/cours-de-zumba/2045-01-11/
LOCATION:College Technique Saint-Jean\, Rue du Pont Saint-Jean 48\, WAVRE\, Brabant Wallon\, 1300\, Belgique
CATEGORIES:Wavre activité seniors,WAVRE ACTIVITES POUR ADO,WAVRE SPORT
ATTACH;FMTTYPE=image/jpeg:https://wavre.shop/wp-content/uploads/2022/01/Zumba-wavre-activte-2023.jpg
ORGANIZER;CN="Fabienne DEKEULENEER":MAILTO:zumbafa@hotmail.com
END:VEVENT
BEGIN:VEVENT
DTSTART;TZID=Europe/Brussels:20450116T200000
DTEND;TZID=Europe/Brussels:20450116T200000
DTSTAMP:20260420T005348
CREATED:20220128T080038Z
LAST-MODIFIED:20230722T124541Z
UID:10032334-2368209600-2368209600@wavre.shop
SUMMARY:Cours de zumba
DESCRIPTION:Cours de zumba à wavre tous les Lundi et Mercredi à 20h00 au College technique saint-Jean
URL:https://wavre.shop/activite/cours-de-zumba/2045-01-16/
LOCATION:College Technique Saint-Jean\, Rue du Pont Saint-Jean 48\, WAVRE\, Brabant Wallon\, 1300\, Belgique
CATEGORIES:Wavre activité seniors,WAVRE ACTIVITES POUR ADO,WAVRE SPORT
ATTACH;FMTTYPE=image/jpeg:https://wavre.shop/wp-content/uploads/2022/01/Zumba-wavre-activte-2023.jpg
ORGANIZER;CN="Fabienne DEKEULENEER":MAILTO:zumbafa@hotmail.com
END:VEVENT
BEGIN:VEVENT
DTSTART;TZID=Europe/Brussels:20450116T200000
DTEND;TZID=Europe/Brussels:20450116T200000
DTSTAMP:20260420T005348
CREATED:20220128T080038Z
LAST-MODIFIED:20220128T080038Z
UID:10002030-2368209600-2368209600@wavre.shop
SUMMARY:Cours de zumba
DESCRIPTION:Cours de zumba à wavre tous les Lundi et Mercredi à 20h00 au College technique saint-Jean
URL:https://wavre.shop/activite/cours-de-zumba/2045-01-16/
LOCATION:College Technique Saint-Jean\, Rue du Pont Saint-Jean 48\, WAVRE\, Brabant Wallon\, 1300\, Belgique
CATEGORIES:Wavre activité seniors,WAVRE ACTIVITES POUR ADO,WAVRE SPORT
ATTACH;FMTTYPE=image/jpeg:https://wavre.shop/wp-content/uploads/2022/01/Zumba-wavre-activte-2023.jpg
ORGANIZER;CN="Fabienne DEKEULENEER":MAILTO:zumbafa@hotmail.com
END:VEVENT
BEGIN:VEVENT
DTSTART;TZID=Europe/Brussels:20450118T200000
DTEND;TZID=Europe/Brussels:20450118T200000
DTSTAMP:20260420T005348
CREATED:20220128T080038Z
LAST-MODIFIED:20230722T124541Z
UID:10032335-2368382400-2368382400@wavre.shop
SUMMARY:Cours de zumba
DESCRIPTION:Cours de zumba à wavre tous les Lundi et Mercredi à 20h00 au College technique saint-Jean
URL:https://wavre.shop/activite/cours-de-zumba/2045-01-18/
LOCATION:College Technique Saint-Jean\, Rue du Pont Saint-Jean 48\, WAVRE\, Brabant Wallon\, 1300\, Belgique
CATEGORIES:Wavre activité seniors,WAVRE ACTIVITES POUR ADO,WAVRE SPORT
ATTACH;FMTTYPE=image/jpeg:https://wavre.shop/wp-content/uploads/2022/01/Zumba-wavre-activte-2023.jpg
ORGANIZER;CN="Fabienne DEKEULENEER":MAILTO:zumbafa@hotmail.com
END:VEVENT
BEGIN:VEVENT
DTSTART;TZID=Europe/Brussels:20450118T200000
DTEND;TZID=Europe/Brussels:20450118T200000
DTSTAMP:20260420T005348
CREATED:20220128T080038Z
LAST-MODIFIED:20220128T080038Z
UID:10002031-2368382400-2368382400@wavre.shop
SUMMARY:Cours de zumba
DESCRIPTION:Cours de zumba à wavre tous les Lundi et Mercredi à 20h00 au College technique saint-Jean
URL:https://wavre.shop/activite/cours-de-zumba/2045-01-18/
LOCATION:College Technique Saint-Jean\, Rue du Pont Saint-Jean 48\, WAVRE\, Brabant Wallon\, 1300\, Belgique
CATEGORIES:Wavre activité seniors,WAVRE ACTIVITES POUR ADO,WAVRE SPORT
ATTACH;FMTTYPE=image/jpeg:https://wavre.shop/wp-content/uploads/2022/01/Zumba-wavre-activte-2023.jpg
ORGANIZER;CN="Fabienne DEKEULENEER":MAILTO:zumbafa@hotmail.com
END:VEVENT
BEGIN:VEVENT
DTSTART;TZID=Europe/Brussels:20450123T200000
DTEND;TZID=Europe/Brussels:20450123T200000
DTSTAMP:20260420T005348
CREATED:20220128T080038Z
LAST-MODIFIED:20230722T124541Z
UID:10032336-2368814400-2368814400@wavre.shop
SUMMARY:Cours de zumba
DESCRIPTION:Cours de zumba à wavre tous les Lundi et Mercredi à 20h00 au College technique saint-Jean
URL:https://wavre.shop/activite/cours-de-zumba/2045-01-23/
LOCATION:College Technique Saint-Jean\, Rue du Pont Saint-Jean 48\, WAVRE\, Brabant Wallon\, 1300\, Belgique
CATEGORIES:Wavre activité seniors,WAVRE ACTIVITES POUR ADO,WAVRE SPORT
ATTACH;FMTTYPE=image/jpeg:https://wavre.shop/wp-content/uploads/2022/01/Zumba-wavre-activte-2023.jpg
ORGANIZER;CN="Fabienne DEKEULENEER":MAILTO:zumbafa@hotmail.com
END:VEVENT
BEGIN:VEVENT
DTSTART;TZID=Europe/Brussels:20450123T200000
DTEND;TZID=Europe/Brussels:20450123T200000
DTSTAMP:20260420T005348
CREATED:20220128T080038Z
LAST-MODIFIED:20220128T080038Z
UID:10002032-2368814400-2368814400@wavre.shop
SUMMARY:Cours de zumba
DESCRIPTION:Cours de zumba à wavre tous les Lundi et Mercredi à 20h00 au College technique saint-Jean
URL:https://wavre.shop/activite/cours-de-zumba/2045-01-23/
LOCATION:College Technique Saint-Jean\, Rue du Pont Saint-Jean 48\, WAVRE\, Brabant Wallon\, 1300\, Belgique
CATEGORIES:Wavre activité seniors,WAVRE ACTIVITES POUR ADO,WAVRE SPORT
ATTACH;FMTTYPE=image/jpeg:https://wavre.shop/wp-content/uploads/2022/01/Zumba-wavre-activte-2023.jpg
ORGANIZER;CN="Fabienne DEKEULENEER":MAILTO:zumbafa@hotmail.com
END:VEVENT
BEGIN:VEVENT
DTSTART;TZID=Europe/Brussels:20450125T200000
DTEND;TZID=Europe/Brussels:20450125T200000
DTSTAMP:20260420T005348
CREATED:20220128T080038Z
LAST-MODIFIED:20230722T124541Z
UID:10032337-2368987200-2368987200@wavre.shop
SUMMARY:Cours de zumba
DESCRIPTION:Cours de zumba à wavre tous les Lundi et Mercredi à 20h00 au College technique saint-Jean
URL:https://wavre.shop/activite/cours-de-zumba/2045-01-25/
LOCATION:College Technique Saint-Jean\, Rue du Pont Saint-Jean 48\, WAVRE\, Brabant Wallon\, 1300\, Belgique
CATEGORIES:Wavre activité seniors,WAVRE ACTIVITES POUR ADO,WAVRE SPORT
ATTACH;FMTTYPE=image/jpeg:https://wavre.shop/wp-content/uploads/2022/01/Zumba-wavre-activte-2023.jpg
ORGANIZER;CN="Fabienne DEKEULENEER":MAILTO:zumbafa@hotmail.com
END:VEVENT
BEGIN:VEVENT
DTSTART;TZID=Europe/Brussels:20450125T200000
DTEND;TZID=Europe/Brussels:20450125T200000
DTSTAMP:20260420T005348
CREATED:20220128T080038Z
LAST-MODIFIED:20220128T080038Z
UID:10002033-2368987200-2368987200@wavre.shop
SUMMARY:Cours de zumba
DESCRIPTION:Cours de zumba à wavre tous les Lundi et Mercredi à 20h00 au College technique saint-Jean
URL:https://wavre.shop/activite/cours-de-zumba/2045-01-25/
LOCATION:College Technique Saint-Jean\, Rue du Pont Saint-Jean 48\, WAVRE\, Brabant Wallon\, 1300\, Belgique
CATEGORIES:Wavre activité seniors,WAVRE ACTIVITES POUR ADO,WAVRE SPORT
ATTACH;FMTTYPE=image/jpeg:https://wavre.shop/wp-content/uploads/2022/01/Zumba-wavre-activte-2023.jpg
ORGANIZER;CN="Fabienne DEKEULENEER":MAILTO:zumbafa@hotmail.com
END:VEVENT
BEGIN:VEVENT
DTSTART;TZID=Europe/Brussels:20450130T200000
DTEND;TZID=Europe/Brussels:20450130T200000
DTSTAMP:20260420T005348
CREATED:20220128T080038Z
LAST-MODIFIED:20230722T124541Z
UID:10032338-2369419200-2369419200@wavre.shop
SUMMARY:Cours de zumba
DESCRIPTION:Cours de zumba à wavre tous les Lundi et Mercredi à 20h00 au College technique saint-Jean
URL:https://wavre.shop/activite/cours-de-zumba/2045-01-30/
LOCATION:College Technique Saint-Jean\, Rue du Pont Saint-Jean 48\, WAVRE\, Brabant Wallon\, 1300\, Belgique
CATEGORIES:Wavre activité seniors,WAVRE ACTIVITES POUR ADO,WAVRE SPORT
ATTACH;FMTTYPE=image/jpeg:https://wavre.shop/wp-content/uploads/2022/01/Zumba-wavre-activte-2023.jpg
ORGANIZER;CN="Fabienne DEKEULENEER":MAILTO:zumbafa@hotmail.com
END:VEVENT
BEGIN:VEVENT
DTSTART;TZID=Europe/Brussels:20450130T200000
DTEND;TZID=Europe/Brussels:20450130T200000
DTSTAMP:20260420T005348
CREATED:20220128T080038Z
LAST-MODIFIED:20220128T080038Z
UID:10002034-2369419200-2369419200@wavre.shop
SUMMARY:Cours de zumba
DESCRIPTION:Cours de zumba à wavre tous les Lundi et Mercredi à 20h00 au College technique saint-Jean
URL:https://wavre.shop/activite/cours-de-zumba/2045-01-30/
LOCATION:College Technique Saint-Jean\, Rue du Pont Saint-Jean 48\, WAVRE\, Brabant Wallon\, 1300\, Belgique
CATEGORIES:Wavre activité seniors,WAVRE ACTIVITES POUR ADO,WAVRE SPORT
ATTACH;FMTTYPE=image/jpeg:https://wavre.shop/wp-content/uploads/2022/01/Zumba-wavre-activte-2023.jpg
ORGANIZER;CN="Fabienne DEKEULENEER":MAILTO:zumbafa@hotmail.com
END:VEVENT
BEGIN:VEVENT
DTSTART;TZID=Europe/Brussels:20450201T200000
DTEND;TZID=Europe/Brussels:20450201T200000
DTSTAMP:20260420T005348
CREATED:20220128T080038Z
LAST-MODIFIED:20230722T124541Z
UID:10032339-2369592000-2369592000@wavre.shop
SUMMARY:Cours de zumba
DESCRIPTION:Cours de zumba à wavre tous les Lundi et Mercredi à 20h00 au College technique saint-Jean
URL:https://wavre.shop/activite/cours-de-zumba/2045-02-01/
LOCATION:College Technique Saint-Jean\, Rue du Pont Saint-Jean 48\, WAVRE\, Brabant Wallon\, 1300\, Belgique
CATEGORIES:Wavre activité seniors,WAVRE ACTIVITES POUR ADO,WAVRE SPORT
ATTACH;FMTTYPE=image/jpeg:https://wavre.shop/wp-content/uploads/2022/01/Zumba-wavre-activte-2023.jpg
ORGANIZER;CN="Fabienne DEKEULENEER":MAILTO:zumbafa@hotmail.com
END:VEVENT
BEGIN:VEVENT
DTSTART;TZID=Europe/Brussels:20450201T200000
DTEND;TZID=Europe/Brussels:20450201T200000
DTSTAMP:20260420T005348
CREATED:20220128T080038Z
LAST-MODIFIED:20220128T080038Z
UID:10002035-2369592000-2369592000@wavre.shop
SUMMARY:Cours de zumba
DESCRIPTION:Cours de zumba à wavre tous les Lundi et Mercredi à 20h00 au College technique saint-Jean
URL:https://wavre.shop/activite/cours-de-zumba/2045-02-01/
LOCATION:College Technique Saint-Jean\, Rue du Pont Saint-Jean 48\, WAVRE\, Brabant Wallon\, 1300\, Belgique
CATEGORIES:Wavre activité seniors,WAVRE ACTIVITES POUR ADO,WAVRE SPORT
ATTACH;FMTTYPE=image/jpeg:https://wavre.shop/wp-content/uploads/2022/01/Zumba-wavre-activte-2023.jpg
ORGANIZER;CN="Fabienne DEKEULENEER":MAILTO:zumbafa@hotmail.com
END:VEVENT
BEGIN:VEVENT
DTSTART;TZID=Europe/Brussels:20450206T200000
DTEND;TZID=Europe/Brussels:20450206T200000
DTSTAMP:20260420T005348
CREATED:20220128T080038Z
LAST-MODIFIED:20230722T124541Z
UID:10032340-2370024000-2370024000@wavre.shop
SUMMARY:Cours de zumba
DESCRIPTION:Cours de zumba à wavre tous les Lundi et Mercredi à 20h00 au College technique saint-Jean
URL:https://wavre.shop/activite/cours-de-zumba/2045-02-06/
LOCATION:College Technique Saint-Jean\, Rue du Pont Saint-Jean 48\, WAVRE\, Brabant Wallon\, 1300\, Belgique
CATEGORIES:Wavre activité seniors,WAVRE ACTIVITES POUR ADO,WAVRE SPORT
ATTACH;FMTTYPE=image/jpeg:https://wavre.shop/wp-content/uploads/2022/01/Zumba-wavre-activte-2023.jpg
ORGANIZER;CN="Fabienne DEKEULENEER":MAILTO:zumbafa@hotmail.com
END:VEVENT
BEGIN:VEVENT
DTSTART;TZID=Europe/Brussels:20450206T200000
DTEND;TZID=Europe/Brussels:20450206T200000
DTSTAMP:20260420T005348
CREATED:20220128T080038Z
LAST-MODIFIED:20220128T080038Z
UID:10002036-2370024000-2370024000@wavre.shop
SUMMARY:Cours de zumba
DESCRIPTION:Cours de zumba à wavre tous les Lundi et Mercredi à 20h00 au College technique saint-Jean
URL:https://wavre.shop/activite/cours-de-zumba/2045-02-06/
LOCATION:College Technique Saint-Jean\, Rue du Pont Saint-Jean 48\, WAVRE\, Brabant Wallon\, 1300\, Belgique
CATEGORIES:Wavre activité seniors,WAVRE ACTIVITES POUR ADO,WAVRE SPORT
ATTACH;FMTTYPE=image/jpeg:https://wavre.shop/wp-content/uploads/2022/01/Zumba-wavre-activte-2023.jpg
ORGANIZER;CN="Fabienne DEKEULENEER":MAILTO:zumbafa@hotmail.com
END:VEVENT
BEGIN:VEVENT
DTSTART;TZID=Europe/Brussels:20450208T200000
DTEND;TZID=Europe/Brussels:20450208T200000
DTSTAMP:20260420T005348
CREATED:20220128T080038Z
LAST-MODIFIED:20230722T124541Z
UID:10032341-2370196800-2370196800@wavre.shop
SUMMARY:Cours de zumba
DESCRIPTION:Cours de zumba à wavre tous les Lundi et Mercredi à 20h00 au College technique saint-Jean
URL:https://wavre.shop/activite/cours-de-zumba/2045-02-08/
LOCATION:College Technique Saint-Jean\, Rue du Pont Saint-Jean 48\, WAVRE\, Brabant Wallon\, 1300\, Belgique
CATEGORIES:Wavre activité seniors,WAVRE ACTIVITES POUR ADO,WAVRE SPORT
ATTACH;FMTTYPE=image/jpeg:https://wavre.shop/wp-content/uploads/2022/01/Zumba-wavre-activte-2023.jpg
ORGANIZER;CN="Fabienne DEKEULENEER":MAILTO:zumbafa@hotmail.com
END:VEVENT
BEGIN:VEVENT
DTSTART;TZID=Europe/Brussels:20450208T200000
DTEND;TZID=Europe/Brussels:20450208T200000
DTSTAMP:20260420T005348
CREATED:20220128T080038Z
LAST-MODIFIED:20220128T080038Z
UID:10002037-2370196800-2370196800@wavre.shop
SUMMARY:Cours de zumba
DESCRIPTION:Cours de zumba à wavre tous les Lundi et Mercredi à 20h00 au College technique saint-Jean
URL:https://wavre.shop/activite/cours-de-zumba/2045-02-08/
LOCATION:College Technique Saint-Jean\, Rue du Pont Saint-Jean 48\, WAVRE\, Brabant Wallon\, 1300\, Belgique
CATEGORIES:Wavre activité seniors,WAVRE ACTIVITES POUR ADO,WAVRE SPORT
ATTACH;FMTTYPE=image/jpeg:https://wavre.shop/wp-content/uploads/2022/01/Zumba-wavre-activte-2023.jpg
ORGANIZER;CN="Fabienne DEKEULENEER":MAILTO:zumbafa@hotmail.com
END:VEVENT
BEGIN:VEVENT
DTSTART;TZID=Europe/Brussels:20450213T200000
DTEND;TZID=Europe/Brussels:20450213T200000
DTSTAMP:20260420T005348
CREATED:20220128T080038Z
LAST-MODIFIED:20230722T124541Z
UID:10032342-2370628800-2370628800@wavre.shop
SUMMARY:Cours de zumba
DESCRIPTION:Cours de zumba à wavre tous les Lundi et Mercredi à 20h00 au College technique saint-Jean
URL:https://wavre.shop/activite/cours-de-zumba/2045-02-13/
LOCATION:College Technique Saint-Jean\, Rue du Pont Saint-Jean 48\, WAVRE\, Brabant Wallon\, 1300\, Belgique
CATEGORIES:Wavre activité seniors,WAVRE ACTIVITES POUR ADO,WAVRE SPORT
ATTACH;FMTTYPE=image/jpeg:https://wavre.shop/wp-content/uploads/2022/01/Zumba-wavre-activte-2023.jpg
ORGANIZER;CN="Fabienne DEKEULENEER":MAILTO:zumbafa@hotmail.com
END:VEVENT
BEGIN:VEVENT
DTSTART;TZID=Europe/Brussels:20450213T200000
DTEND;TZID=Europe/Brussels:20450213T200000
DTSTAMP:20260420T005348
CREATED:20220128T080038Z
LAST-MODIFIED:20220128T080038Z
UID:10002038-2370628800-2370628800@wavre.shop
SUMMARY:Cours de zumba
DESCRIPTION:Cours de zumba à wavre tous les Lundi et Mercredi à 20h00 au College technique saint-Jean
URL:https://wavre.shop/activite/cours-de-zumba/2045-02-13/
LOCATION:College Technique Saint-Jean\, Rue du Pont Saint-Jean 48\, WAVRE\, Brabant Wallon\, 1300\, Belgique
CATEGORIES:Wavre activité seniors,WAVRE ACTIVITES POUR ADO,WAVRE SPORT
ATTACH;FMTTYPE=image/jpeg:https://wavre.shop/wp-content/uploads/2022/01/Zumba-wavre-activte-2023.jpg
ORGANIZER;CN="Fabienne DEKEULENEER":MAILTO:zumbafa@hotmail.com
END:VEVENT
BEGIN:VEVENT
DTSTART;TZID=Europe/Brussels:20450215T200000
DTEND;TZID=Europe/Brussels:20450215T200000
DTSTAMP:20260420T005348
CREATED:20220128T080038Z
LAST-MODIFIED:20230722T124541Z
UID:10032343-2370801600-2370801600@wavre.shop
SUMMARY:Cours de zumba
DESCRIPTION:Cours de zumba à wavre tous les Lundi et Mercredi à 20h00 au College technique saint-Jean
URL:https://wavre.shop/activite/cours-de-zumba/2045-02-15/
LOCATION:College Technique Saint-Jean\, Rue du Pont Saint-Jean 48\, WAVRE\, Brabant Wallon\, 1300\, Belgique
CATEGORIES:Wavre activité seniors,WAVRE ACTIVITES POUR ADO,WAVRE SPORT
ATTACH;FMTTYPE=image/jpeg:https://wavre.shop/wp-content/uploads/2022/01/Zumba-wavre-activte-2023.jpg
ORGANIZER;CN="Fabienne DEKEULENEER":MAILTO:zumbafa@hotmail.com
END:VEVENT
BEGIN:VEVENT
DTSTART;TZID=Europe/Brussels:20450215T200000
DTEND;TZID=Europe/Brussels:20450215T200000
DTSTAMP:20260420T005348
CREATED:20220128T080038Z
LAST-MODIFIED:20220128T080038Z
UID:10002039-2370801600-2370801600@wavre.shop
SUMMARY:Cours de zumba
DESCRIPTION:Cours de zumba à wavre tous les Lundi et Mercredi à 20h00 au College technique saint-Jean
URL:https://wavre.shop/activite/cours-de-zumba/2045-02-15/
LOCATION:College Technique Saint-Jean\, Rue du Pont Saint-Jean 48\, WAVRE\, Brabant Wallon\, 1300\, Belgique
CATEGORIES:Wavre activité seniors,WAVRE ACTIVITES POUR ADO,WAVRE SPORT
ATTACH;FMTTYPE=image/jpeg:https://wavre.shop/wp-content/uploads/2022/01/Zumba-wavre-activte-2023.jpg
ORGANIZER;CN="Fabienne DEKEULENEER":MAILTO:zumbafa@hotmail.com
END:VEVENT
BEGIN:VEVENT
DTSTART;TZID=Europe/Brussels:20450220T200000
DTEND;TZID=Europe/Brussels:20450220T200000
DTSTAMP:20260420T005348
CREATED:20220128T080038Z
LAST-MODIFIED:20230722T124541Z
UID:10032344-2371233600-2371233600@wavre.shop
SUMMARY:Cours de zumba
DESCRIPTION:Cours de zumba à wavre tous les Lundi et Mercredi à 20h00 au College technique saint-Jean
URL:https://wavre.shop/activite/cours-de-zumba/2045-02-20/
LOCATION:College Technique Saint-Jean\, Rue du Pont Saint-Jean 48\, WAVRE\, Brabant Wallon\, 1300\, Belgique
CATEGORIES:Wavre activité seniors,WAVRE ACTIVITES POUR ADO,WAVRE SPORT
ATTACH;FMTTYPE=image/jpeg:https://wavre.shop/wp-content/uploads/2022/01/Zumba-wavre-activte-2023.jpg
ORGANIZER;CN="Fabienne DEKEULENEER":MAILTO:zumbafa@hotmail.com
END:VEVENT
BEGIN:VEVENT
DTSTART;TZID=Europe/Brussels:20450220T200000
DTEND;TZID=Europe/Brussels:20450220T200000
DTSTAMP:20260420T005348
CREATED:20220128T080038Z
LAST-MODIFIED:20220128T080038Z
UID:10002040-2371233600-2371233600@wavre.shop
SUMMARY:Cours de zumba
DESCRIPTION:Cours de zumba à wavre tous les Lundi et Mercredi à 20h00 au College technique saint-Jean
URL:https://wavre.shop/activite/cours-de-zumba/2045-02-20/
LOCATION:College Technique Saint-Jean\, Rue du Pont Saint-Jean 48\, WAVRE\, Brabant Wallon\, 1300\, Belgique
CATEGORIES:Wavre activité seniors,WAVRE ACTIVITES POUR ADO,WAVRE SPORT
ATTACH;FMTTYPE=image/jpeg:https://wavre.shop/wp-content/uploads/2022/01/Zumba-wavre-activte-2023.jpg
ORGANIZER;CN="Fabienne DEKEULENEER":MAILTO:zumbafa@hotmail.com
END:VEVENT
BEGIN:VEVENT
DTSTART;TZID=Europe/Brussels:20450222T200000
DTEND;TZID=Europe/Brussels:20450222T200000
DTSTAMP:20260420T005348
CREATED:20220128T080038Z
LAST-MODIFIED:20230722T124541Z
UID:10032345-2371406400-2371406400@wavre.shop
SUMMARY:Cours de zumba
DESCRIPTION:Cours de zumba à wavre tous les Lundi et Mercredi à 20h00 au College technique saint-Jean
URL:https://wavre.shop/activite/cours-de-zumba/2045-02-22/
LOCATION:College Technique Saint-Jean\, Rue du Pont Saint-Jean 48\, WAVRE\, Brabant Wallon\, 1300\, Belgique
CATEGORIES:Wavre activité seniors,WAVRE ACTIVITES POUR ADO,WAVRE SPORT
ATTACH;FMTTYPE=image/jpeg:https://wavre.shop/wp-content/uploads/2022/01/Zumba-wavre-activte-2023.jpg
ORGANIZER;CN="Fabienne DEKEULENEER":MAILTO:zumbafa@hotmail.com
END:VEVENT
BEGIN:VEVENT
DTSTART;TZID=Europe/Brussels:20450222T200000
DTEND;TZID=Europe/Brussels:20450222T200000
DTSTAMP:20260420T005348
CREATED:20220128T080038Z
LAST-MODIFIED:20220128T080038Z
UID:10002041-2371406400-2371406400@wavre.shop
SUMMARY:Cours de zumba
DESCRIPTION:Cours de zumba à wavre tous les Lundi et Mercredi à 20h00 au College technique saint-Jean
URL:https://wavre.shop/activite/cours-de-zumba/2045-02-22/
LOCATION:College Technique Saint-Jean\, Rue du Pont Saint-Jean 48\, WAVRE\, Brabant Wallon\, 1300\, Belgique
CATEGORIES:Wavre activité seniors,WAVRE ACTIVITES POUR ADO,WAVRE SPORT
ATTACH;FMTTYPE=image/jpeg:https://wavre.shop/wp-content/uploads/2022/01/Zumba-wavre-activte-2023.jpg
ORGANIZER;CN="Fabienne DEKEULENEER":MAILTO:zumbafa@hotmail.com
END:VEVENT
BEGIN:VEVENT
DTSTART;TZID=Europe/Brussels:20450227T200000
DTEND;TZID=Europe/Brussels:20450227T200000
DTSTAMP:20260420T005348
CREATED:20220128T080038Z
LAST-MODIFIED:20230722T124541Z
UID:10032346-2371838400-2371838400@wavre.shop
SUMMARY:Cours de zumba
DESCRIPTION:Cours de zumba à wavre tous les Lundi et Mercredi à 20h00 au College technique saint-Jean
URL:https://wavre.shop/activite/cours-de-zumba/2045-02-27/
LOCATION:College Technique Saint-Jean\, Rue du Pont Saint-Jean 48\, WAVRE\, Brabant Wallon\, 1300\, Belgique
CATEGORIES:Wavre activité seniors,WAVRE ACTIVITES POUR ADO,WAVRE SPORT
ATTACH;FMTTYPE=image/jpeg:https://wavre.shop/wp-content/uploads/2022/01/Zumba-wavre-activte-2023.jpg
ORGANIZER;CN="Fabienne DEKEULENEER":MAILTO:zumbafa@hotmail.com
END:VEVENT
BEGIN:VEVENT
DTSTART;TZID=Europe/Brussels:20450227T200000
DTEND;TZID=Europe/Brussels:20450227T200000
DTSTAMP:20260420T005348
CREATED:20220128T080038Z
LAST-MODIFIED:20220128T080038Z
UID:10002042-2371838400-2371838400@wavre.shop
SUMMARY:Cours de zumba
DESCRIPTION:Cours de zumba à wavre tous les Lundi et Mercredi à 20h00 au College technique saint-Jean
URL:https://wavre.shop/activite/cours-de-zumba/2045-02-27/
LOCATION:College Technique Saint-Jean\, Rue du Pont Saint-Jean 48\, WAVRE\, Brabant Wallon\, 1300\, Belgique
CATEGORIES:Wavre activité seniors,WAVRE ACTIVITES POUR ADO,WAVRE SPORT
ATTACH;FMTTYPE=image/jpeg:https://wavre.shop/wp-content/uploads/2022/01/Zumba-wavre-activte-2023.jpg
ORGANIZER;CN="Fabienne DEKEULENEER":MAILTO:zumbafa@hotmail.com
END:VEVENT
BEGIN:VEVENT
DTSTART;TZID=Europe/Brussels:20450301T200000
DTEND;TZID=Europe/Brussels:20450301T200000
DTSTAMP:20260420T005348
CREATED:20220128T080038Z
LAST-MODIFIED:20230722T124541Z
UID:10032347-2372011200-2372011200@wavre.shop
SUMMARY:Cours de zumba
DESCRIPTION:Cours de zumba à wavre tous les Lundi et Mercredi à 20h00 au College technique saint-Jean
URL:https://wavre.shop/activite/cours-de-zumba/2045-03-01/
LOCATION:College Technique Saint-Jean\, Rue du Pont Saint-Jean 48\, WAVRE\, Brabant Wallon\, 1300\, Belgique
CATEGORIES:Wavre activité seniors,WAVRE ACTIVITES POUR ADO,WAVRE SPORT
ATTACH;FMTTYPE=image/jpeg:https://wavre.shop/wp-content/uploads/2022/01/Zumba-wavre-activte-2023.jpg
ORGANIZER;CN="Fabienne DEKEULENEER":MAILTO:zumbafa@hotmail.com
END:VEVENT
BEGIN:VEVENT
DTSTART;TZID=Europe/Brussels:20450301T200000
DTEND;TZID=Europe/Brussels:20450301T200000
DTSTAMP:20260420T005348
CREATED:20220128T080038Z
LAST-MODIFIED:20220128T080038Z
UID:10002043-2372011200-2372011200@wavre.shop
SUMMARY:Cours de zumba
DESCRIPTION:Cours de zumba à wavre tous les Lundi et Mercredi à 20h00 au College technique saint-Jean
URL:https://wavre.shop/activite/cours-de-zumba/2045-03-01/
LOCATION:College Technique Saint-Jean\, Rue du Pont Saint-Jean 48\, WAVRE\, Brabant Wallon\, 1300\, Belgique
CATEGORIES:Wavre activité seniors,WAVRE ACTIVITES POUR ADO,WAVRE SPORT
ATTACH;FMTTYPE=image/jpeg:https://wavre.shop/wp-content/uploads/2022/01/Zumba-wavre-activte-2023.jpg
ORGANIZER;CN="Fabienne DEKEULENEER":MAILTO:zumbafa@hotmail.com
END:VEVENT
END:VCALENDAR