BEGIN:VCALENDAR
VERSION:2.0
PRODID:-//Wavre shopping - ECPv6.15.12//NONSGML v1.0//EN
CALSCALE:GREGORIAN
METHOD:PUBLISH
X-WR-CALNAME:Wavre shopping
X-ORIGINAL-URL:https://wavre.shop
X-WR-CALDESC:Évènements pour Wavre shopping
REFRESH-INTERVAL;VALUE=DURATION:PT1H
X-Robots-Tag:noindex
X-PUBLISHED-TTL:PT1H
BEGIN:VTIMEZONE
TZID:Europe/Brussels
BEGIN:DAYLIGHT
TZOFFSETFROM:+0100
TZOFFSETTO:+0200
TZNAME:CEST
DTSTART:20220327T010000
END:DAYLIGHT
BEGIN:STANDARD
TZOFFSETFROM:+0200
TZOFFSETTO:+0100
TZNAME:CET
DTSTART:20221030T010000
END:STANDARD
BEGIN:DAYLIGHT
TZOFFSETFROM:+0100
TZOFFSETTO:+0200
TZNAME:CEST
DTSTART:20230326T010000
END:DAYLIGHT
BEGIN:STANDARD
TZOFFSETFROM:+0200
TZOFFSETTO:+0100
TZNAME:CET
DTSTART:20231029T010000
END:STANDARD
BEGIN:DAYLIGHT
TZOFFSETFROM:+0100
TZOFFSETTO:+0200
TZNAME:CEST
DTSTART:20240331T010000
END:DAYLIGHT
BEGIN:STANDARD
TZOFFSETFROM:+0200
TZOFFSETTO:+0100
TZNAME:CET
DTSTART:20241027T010000
END:STANDARD
END:VTIMEZONE
BEGIN:VEVENT
DTSTART;TZID=Europe/Brussels:20230521T080000
DTEND;TZID=Europe/Brussels:20230521T160000
DTSTAMP:20260425T124432
CREATED:20230429T154132Z
LAST-MODIFIED:20230429T154814Z
UID:10033760-1684656000-1684684800@wavre.shop
SUMMARY:Roulez contre le cancer - Activité cycliste
DESCRIPTION:Roulez contre le cancer » est une activité cycliste caritative pour soutenir la recherche via la Fondation contre le cancer.\nCette activité invite tous les cyclistes\, cyclotouristes\, cyclos-sportifs (en fait\, toute personne sachant rouler à vélo) à parcourir\, individuellement\, en famille\, en groupe ou en club\, l’un de nos parcours fléchés de 20\, 40\, 68 km ou le parcours gps de 112 km.\nInscription entre 8 et 11 heures.\nParticipation : 6\,50 € par cycliste (5 € pour les détenteurs d’une licence).\nUne balade familiale encadrée de 20 km sera également organisée (départ groupé à 11 heures).\nPour la balade familiale\, gratuit pour les participants nés en 2006 et après.\nNous verserons 5 €/participant à la Fondation contre le cancer.\nPossibilité de se désaltérer et se sustenter (Pains saucisses/hamburgers). \n  \ninfo@cyclodetente.be
URL:https://wavre.shop/activite/roulez-contre-le-cancer/
LOCATION:Centre Sportif du VillagExpo\, Place de la Constellation 3\, Limal\, Brabant Wallon\, 1300\, Belgique
CATEGORIES:Caricatif,Wavre activité seniors,WAVRE ACTIVITES POUR ADO,Wavre activités pour enfants,WAVRE BALADE,WAVRE SPORT
ATTACH;FMTTYPE=image/jpeg:https://wavre.shop/wp-content/uploads/2023/04/activite-cycliste-wavre-activites.jpg
END:VEVENT
END:VCALENDAR