BEGIN:VCALENDAR
VERSION:2.0
PRODID:-//Wavre shopping - ECPv6.15.12//NONSGML v1.0//EN
CALSCALE:GREGORIAN
METHOD:PUBLISH
X-ORIGINAL-URL:https://wavre.shop
X-WR-CALDESC:Évènements pour Wavre shopping
REFRESH-INTERVAL;VALUE=DURATION:PT1H
X-Robots-Tag:noindex
X-PUBLISHED-TTL:PT1H
BEGIN:VTIMEZONE
TZID:Europe/Helsinki
BEGIN:DAYLIGHT
TZOFFSETFROM:+0200
TZOFFSETTO:+0300
TZNAME:EEST
DTSTART:20200329T010000
END:DAYLIGHT
BEGIN:STANDARD
TZOFFSETFROM:+0300
TZOFFSETTO:+0200
TZNAME:EET
DTSTART:20201025T010000
END:STANDARD
BEGIN:DAYLIGHT
TZOFFSETFROM:+0200
TZOFFSETTO:+0300
TZNAME:EEST
DTSTART:20210328T010000
END:DAYLIGHT
BEGIN:STANDARD
TZOFFSETFROM:+0300
TZOFFSETTO:+0200
TZNAME:EET
DTSTART:20211031T010000
END:STANDARD
BEGIN:DAYLIGHT
TZOFFSETFROM:+0200
TZOFFSETTO:+0300
TZNAME:EEST
DTSTART:20220327T010000
END:DAYLIGHT
BEGIN:STANDARD
TZOFFSETFROM:+0300
TZOFFSETTO:+0200
TZNAME:EET
DTSTART:20221030T010000
END:STANDARD
BEGIN:DAYLIGHT
TZOFFSETFROM:+0200
TZOFFSETTO:+0300
TZNAME:EEST
DTSTART:20230326T010000
END:DAYLIGHT
BEGIN:STANDARD
TZOFFSETFROM:+0300
TZOFFSETTO:+0200
TZNAME:EET
DTSTART:20231029T010000
END:STANDARD
END:VTIMEZONE
BEGIN:VEVENT
DTSTART;TZID=Europe/Helsinki:20221219T190000
DTEND;TZID=Europe/Helsinki:20221219T230000
DTSTAMP:20260423T032109
CREATED:20221106T141447Z
LAST-MODIFIED:20221109T164436Z
UID:10033648-1671476400-1671490800@wavre.shop
SUMMARY:Soirée jeux de société Dés-Mentiel
DESCRIPTION:Vous aimez les jeux de société? Alors venez passer une soirée fun dans un lieu super sympa: Le Bar à K! Et venez (re)découvrir les jeux de société dans une ambiance conviviale! \nA partir de 10 ans \nPrix : 5\,00 Euros \n 
URL:https://wavre.shop/activite/soiree-jeux-de-societe-des-mentiel/2022-12-19/
LOCATION:Bar à K\, Quai aux Huîtres 4\, Wavre\, Région Wallonne\, 1300\, Belgique
CATEGORIES:Soirée jeux de société,Wavre activité seniors,WAVRE ACTIVITES POUR ADO
ATTACH;FMTTYPE=image/jpeg:https://wavre.shop/wp-content/uploads/2022/11/soiree-jeux-de-societe-des-mentiel-bar-a-k-wavre.jpg
ORGANIZER;CN="D%C3%A9s-Mentiel":MAILTO:fernandezgarcia.jenny@gmail.com
END:VEVENT
BEGIN:VEVENT
DTSTART;TZID=Europe/Helsinki:20221205T190000
DTEND;TZID=Europe/Helsinki:20221205T230000
DTSTAMP:20260423T032109
CREATED:20221106T141447Z
LAST-MODIFIED:20221109T164436Z
UID:10033647-1670266800-1670281200@wavre.shop
SUMMARY:Soirée jeux de société Dés-Mentiel
DESCRIPTION:Vous aimez les jeux de société? Alors venez passer une soirée fun dans un lieu super sympa: Le Bar à K! Et venez (re)découvrir les jeux de société dans une ambiance conviviale! \nA partir de 10 ans \nPrix : 5\,00 Euros \n 
URL:https://wavre.shop/activite/soiree-jeux-de-societe-des-mentiel/2022-12-05/
LOCATION:Bar à K\, Quai aux Huîtres 4\, Wavre\, Région Wallonne\, 1300\, Belgique
CATEGORIES:Soirée jeux de société,Wavre activité seniors,WAVRE ACTIVITES POUR ADO
ATTACH;FMTTYPE=image/jpeg:https://wavre.shop/wp-content/uploads/2022/11/soiree-jeux-de-societe-des-mentiel-bar-a-k-wavre.jpg
ORGANIZER;CN="D%C3%A9s-Mentiel":MAILTO:fernandezgarcia.jenny@gmail.com
END:VEVENT
BEGIN:VEVENT
DTSTART;TZID=Europe/Helsinki:20221121T190000
DTEND;TZID=Europe/Helsinki:20221121T230000
DTSTAMP:20260423T032109
CREATED:20221106T141447Z
LAST-MODIFIED:20221109T164436Z
UID:10033646-1669057200-1669071600@wavre.shop
SUMMARY:Soirée jeux de société Dés-Mentiel
DESCRIPTION:Vous aimez les jeux de société? Alors venez passer une soirée fun dans un lieu super sympa: Le Bar à K! Et venez (re)découvrir les jeux de société dans une ambiance conviviale! \nA partir de 10 ans \nPrix : 5\,00 Euros \n 
URL:https://wavre.shop/activite/soiree-jeux-de-societe-des-mentiel/2022-11-21/
LOCATION:Bar à K\, Quai aux Huîtres 4\, Wavre\, Région Wallonne\, 1300\, Belgique
CATEGORIES:Soirée jeux de société,Wavre activité seniors,WAVRE ACTIVITES POUR ADO
ATTACH;FMTTYPE=image/jpeg:https://wavre.shop/wp-content/uploads/2022/11/soiree-jeux-de-societe-des-mentiel-bar-a-k-wavre.jpg
ORGANIZER;CN="D%C3%A9s-Mentiel":MAILTO:fernandezgarcia.jenny@gmail.com
END:VEVENT
BEGIN:VEVENT
DTSTART;TZID=Europe/Helsinki:20221107T190000
DTEND;TZID=Europe/Helsinki:20221107T230000
DTSTAMP:20260423T032109
CREATED:20221106T141447Z
LAST-MODIFIED:20221109T164436Z
UID:10033645-1667847600-1667862000@wavre.shop
SUMMARY:Soirée jeux de société Dés-Mentiel
DESCRIPTION:Vous aimez les jeux de société? Alors venez passer une soirée fun dans un lieu super sympa: Le Bar à K! Et venez (re)découvrir les jeux de société dans une ambiance conviviale! \nA partir de 10 ans \nPrix : 5\,00 Euros \n 
URL:https://wavre.shop/activite/soiree-jeux-de-societe-des-mentiel/2022-11-07/
LOCATION:Bar à K\, Quai aux Huîtres 4\, Wavre\, Région Wallonne\, 1300\, Belgique
CATEGORIES:Soirée jeux de société,Wavre activité seniors,WAVRE ACTIVITES POUR ADO
ATTACH;FMTTYPE=image/jpeg:https://wavre.shop/wp-content/uploads/2022/11/soiree-jeux-de-societe-des-mentiel-bar-a-k-wavre.jpg
ORGANIZER;CN="D%C3%A9s-Mentiel":MAILTO:fernandezgarcia.jenny@gmail.com
END:VEVENT
BEGIN:VEVENT
DTSTART;TZID=Europe/Helsinki:20221001T200000
DTEND;TZID=Europe/Helsinki:20221001T200000
DTSTAMP:20260423T032109
CREATED:20220929T080952Z
LAST-MODIFIED:20220929T080952Z
UID:10033598-1664654400-1664654400@wavre.shop
SUMMARY:CONCERT TANDEM AU BAR A K
DESCRIPTION:Ce samedi 01 octobre 2022\, venez découvrir le concert de TANDEM dès 20h00 au BAR A K !!! \nAmbiance garantie !!!
URL:https://wavre.shop/activite/concert-tandem-au-bar-a-k/
LOCATION:Bar à K\, Quai aux Huîtres 4\, Wavre\, Région Wallonne\, 1300\, Belgique
CATEGORIES:WAVRE CONCERT
ATTACH;FMTTYPE=image/jpeg:https://wavre.shop/wp-content/uploads/2022/09/CONCERT-TANDEM-01-OCTOBRE-2022.jpg
END:VEVENT
BEGIN:VEVENT
DTSTART;TZID=Europe/Helsinki:20220918T150000
DTEND;TZID=Europe/Helsinki:20220918T180000
DTSTAMP:20260423T032109
CREATED:20220904T120608Z
LAST-MODIFIED:20220904T120844Z
UID:10033586-1663513200-1663524000@wavre.shop
SUMMARY:Concert Live Bar à K
DESCRIPTION:Yop ! La chanson française mise à l’honneur au Bar à K ! \nJean Olivier en concert au Bar à k
URL:https://wavre.shop/activite/concert-bar-a-k-live/
LOCATION:Bar à K\, Quai aux Huîtres 4\, Wavre\, Région Wallonne\, 1300\, Belgique
CATEGORIES:Wavre activité seniors,WAVRE ACTIVITES POUR ADO,WAVRE BALADE,Wavre commerce,WAVRE CONCERT,WAVRE SPECTACLE
ATTACH;FMTTYPE=image/jpeg:https://wavre.shop/wp-content/uploads/2022/09/Yop-La-chanson-francaise-mise-a-lhonneur-au-Bar-a-K-.jpg
END:VEVENT
BEGIN:VEVENT
DTSTART;VALUE=DATE:20220618
DTEND;VALUE=DATE:20220620
DTSTAMP:20260423T032109
CREATED:20220615T095806Z
LAST-MODIFIED:20220615T095806Z
UID:10033530-1655510400-1655683199@wavre.shop
SUMMARY:Bar à K
DESCRIPTION:Une ambiance de feu sur la terrasse du Bar à K : musique et danse sont au\nrendez-vous !
URL:https://wavre.shop/activite/bar-a-k/
LOCATION:Bar à K\, Quai aux Huîtres 4\, Wavre\, Région Wallonne\, 1300\, Belgique
CATEGORIES:WAVRE BALADE,Wavre Braderie,Wavre commerce,WAVRE CONCERT,Wavre Visite
ATTACH;FMTTYPE=image/jpeg:https://wavre.shop/wp-content/uploads/2020/01/Bar-à-K-Wavre-brabant-wallon-shopping-wavre-commerce.jpg
END:VEVENT
BEGIN:VEVENT
DTSTART;TZID=Europe/Helsinki:20220528T200000
DTEND;TZID=Europe/Helsinki:20220528T200000
DTSTAMP:20260423T032109
CREATED:20220527T155312Z
LAST-MODIFIED:20220527T155523Z
UID:10033518-1653768000-1653768000@wavre.shop
SUMMARY:ROCK'N ROLL & RHYTHM'N'BLUES AU Bar à K
DESCRIPTION:Le Bar à K & Chloe mathot présentent en concert BILL ROSEMAN TRIO
URL:https://wavre.shop/activite/rockn-roll-rhythmnblues-au-bar-a-k/
LOCATION:Bar à K\, Quai aux Huîtres 4\, Wavre\, Région Wallonne\, 1300\, Belgique
CATEGORIES:Wavre commerce,WAVRE CONCERT,Wavre Visite
ATTACH;FMTTYPE=image/jpeg:https://wavre.shop/wp-content/uploads/2022/05/bar-a-k-soiree-wavre-shopping.jpg
END:VEVENT
BEGIN:VEVENT
DTSTART;TZID=Europe/Helsinki:20220514T140000
DTEND;TZID=Europe/Helsinki:20220514T200000
DTSTAMP:20260423T032109
CREATED:20220505T121248Z
LAST-MODIFIED:20220505T121352Z
UID:10033496-1652536800-1652558400@wavre.shop
SUMMARY:Bar à k journée Hawaienne
DESCRIPTION:Bar à k journée Hawaienne
URL:https://wavre.shop/activite/bar-a-k-journee-hawaienne/
LOCATION:Bar à K\, Quai aux Huîtres 4\, Wavre\, Région Wallonne\, 1300\, Belgique
CATEGORIES:Spectacle Humour Wavre,Wavre activité seniors,WAVRE ACTIVITES POUR ADO,WAVRE BALADE,Wavre commerce,WAVRE CONCERT,WAVRE SPECTACLE
ATTACH;FMTTYPE=image/jpeg:https://wavre.shop/wp-content/uploads/2022/05/wavre-commerce-activite-bar-a-k-.jpg
END:VEVENT
BEGIN:VEVENT
DTSTART;TZID=Europe/Helsinki:20220409T200000
DTEND;TZID=Europe/Helsinki:20220409T200000
DTSTAMP:20260423T032109
CREATED:20220406T090036Z
LAST-MODIFIED:20220407T081546Z
UID:10033402-1649534400-1649534400@wavre.shop
SUMMARY:Bar à K Best off acoustic
DESCRIPTION:Soirée best-off acoustic pop-rock au Bar à K \n  \nVous souhaitez une soirée cool\,endiablée! Vous souhaitez du U2\,DU BEATELS\,DU CABREL ?\nC’est chez nous que cela se passe grâce à Bestoff !
URL:https://wavre.shop/activite/bar-a-k-best-off-acoustic/
LOCATION:Bar à K\, Quai aux Huîtres 4\, Wavre\, Région Wallonne\, 1300\, Belgique
CATEGORIES:Wavre activité seniors,WAVRE CONCERT,Wavre culture,WAVRE SPECTACLE
ATTACH;FMTTYPE=image/webp:https://wavre.shop/wp-content/uploads/2022/04/Bar-a-K-Wavre-commerce-activites.webp
END:VEVENT
BEGIN:VEVENT
DTSTART;TZID=Europe/Helsinki:20220115T190000
DTEND;TZID=Europe/Helsinki:20220115T190000
DTSTAMP:20260423T032109
CREATED:20220105T085405Z
LAST-MODIFIED:20220105T090014Z
UID:10033473-1642273200-1642273200@wavre.shop
SUMMARY:Concert Bar à k
DESCRIPTION:Avant transformation découvrez le concert de jean olivier au Bar à k
URL:https://wavre.shop/activite/concert-bar-a-k/
LOCATION:Bar à K\, Quai aux Huîtres 4\, Wavre\, Région Wallonne\, 1300\, Belgique
CATEGORIES:WAVRE CONCERT,Wavre culture
ATTACH;FMTTYPE=image/jpeg:https://wavre.shop/wp-content/uploads/2022/01/271304168_2455358584600908_3598425407083291284_n.jpg
END:VEVENT
BEGIN:VEVENT
DTSTART;TZID=Europe/Helsinki:20211127T190000
DTEND;TZID=Europe/Helsinki:20211127T190000
DTSTAMP:20260423T032109
CREATED:20211119T105636Z
LAST-MODIFIED:20211119T105712Z
UID:10033458-1638039600-1638039600@wavre.shop
SUMMARY:Blue trip DUO
DESCRIPTION:BLUE TRIP DUO @ BAR à K
URL:https://wavre.shop/activite/blue-trip-duo/
LOCATION:Bar à K\, Quai aux Huîtres 4\, Wavre\, Région Wallonne\, 1300\, Belgique
CATEGORIES:Wavre activité seniors,WAVRE CONCERT,WAVRE SPECTACLE
ATTACH;FMTTYPE=image/jpeg:https://wavre.shop/wp-content/uploads/2021/11/256497680_2417758255027608_7147573288704924933_n.jpg
END:VEVENT
BEGIN:VEVENT
DTSTART;TZID=Europe/Helsinki:20211107T160000
DTEND;TZID=Europe/Helsinki:20211107T160000
DTSTAMP:20260423T032109
CREATED:20211102T153236Z
LAST-MODIFIED:20211102T153236Z
UID:10033456-1636300800-1636300800@wavre.shop
SUMMARY:Acoustic pop Rock duo
DESCRIPTION:Wavre concert Bar à K
URL:https://wavre.shop/activite/acoustic-pop-rock-duo/
LOCATION:Bar à K\, Quai aux Huîtres 4\, Wavre\, Région Wallonne\, 1300\, Belgique
CATEGORIES:WAVRE CONCERT
ATTACH;FMTTYPE=image/jpeg:https://wavre.shop/wp-content/uploads/2021/11/bar-a-k-concert.jpg
END:VEVENT
BEGIN:VEVENT
DTSTART;TZID=Europe/Helsinki:20211030T190000
DTEND;TZID=Europe/Helsinki:20211030T190000
DTSTAMP:20260423T032109
CREATED:20211028T063316Z
LAST-MODIFIED:20211028T063726Z
UID:10029520-1635620400-1635620400@wavre.shop
SUMMARY:Une jonglerie de notes au Bar à K
DESCRIPTION:Le bar à k vous présente en concert  une jonglerie de notes et de sons SAHER
URL:https://wavre.shop/activite/une-jonglerie-de-notes-au-bar-a-k/
LOCATION:Bar à K\, Quai aux Huîtres 4\, Wavre\, Région Wallonne\, 1300\, Belgique
CATEGORIES:WAVRE CONCERT,WAVRE SPECTACLE
ATTACH;FMTTYPE=image/jpeg:https://wavre.shop/wp-content/uploads/2021/10/249873774_574354067160430_6939466057326643517_n.jpg
END:VEVENT
END:VCALENDAR