BEGIN:VCALENDAR
VERSION:2.0
PRODID:-//Wavre shopping - ECPv6.15.12//NONSGML v1.0//EN
CALSCALE:GREGORIAN
METHOD:PUBLISH
X-WR-CALNAME:Wavre shopping
X-ORIGINAL-URL:https://wavre.shop
X-WR-CALDESC:Évènements pour Wavre shopping
REFRESH-INTERVAL;VALUE=DURATION:PT1H
X-Robots-Tag:noindex
X-PUBLISHED-TTL:PT1H
BEGIN:VTIMEZONE
TZID:Europe/Helsinki
BEGIN:DAYLIGHT
TZOFFSETFROM:+0200
TZOFFSETTO:+0300
TZNAME:EEST
DTSTART:20210328T010000
END:DAYLIGHT
BEGIN:STANDARD
TZOFFSETFROM:+0300
TZOFFSETTO:+0200
TZNAME:EET
DTSTART:20211031T010000
END:STANDARD
BEGIN:DAYLIGHT
TZOFFSETFROM:+0200
TZOFFSETTO:+0300
TZNAME:EEST
DTSTART:20220327T010000
END:DAYLIGHT
BEGIN:STANDARD
TZOFFSETFROM:+0300
TZOFFSETTO:+0200
TZNAME:EET
DTSTART:20221030T010000
END:STANDARD
BEGIN:DAYLIGHT
TZOFFSETFROM:+0200
TZOFFSETTO:+0300
TZNAME:EEST
DTSTART:20230326T010000
END:DAYLIGHT
BEGIN:STANDARD
TZOFFSETFROM:+0300
TZOFFSETTO:+0200
TZNAME:EET
DTSTART:20231029T010000
END:STANDARD
END:VTIMEZONE
BEGIN:VEVENT
DTSTART;TZID=Europe/Helsinki:20221228T200000
DTEND;TZID=Europe/Helsinki:20221228T200000
DTSTAMP:20260421T004455
CREATED:20221204T175540Z
LAST-MODIFIED:20221205T131240Z
UID:10033681-1672257600-1672257600@wavre.shop
SUMMARY:Jogging d'hiver à Wavre
DESCRIPTION:Courez au cœur de Wavre\, dans les rues décorées et illuminées en suivant un parcours de 4 ou 8 km (2 boucles de 4 km).\n\nDépart de la course à 20h.\n\n!!! Inscription : Obligatoire sur www.ultratiming.be (jusqu’au 27/12).\nPas d’inscription sur place.\nRetrait des dossards chez Decathlon du 18 au 26/12 ou sur place avant la course.\n\nTarifs :\n• 4 € (4 km)\n• 8 € (8 km)\n\nAccueil et consigne :\nSalle des Fêtes Hôtel de Ville (attention pas de vestiaire).
URL:https://wavre.shop/activite/jogging-dhiver-a-wavre/
LOCATION:wavre\, Wavre\, Région Wallonne\, 1300\, Belgique
CATEGORIES:Wavre activité seniors,WAVRE ACTIVITES POUR ADO,Wavre Noël,WAVRE SPORT
ATTACH;FMTTYPE=image/jpeg:https://wavre.shop/wp-content/uploads/2022/12/jogging-de-Noel-Wavre.jpg
ORGANIZER;CN="Ville de Wavre":MAILTO:secretariat@wavre.be commerce@wavre.be
END:VEVENT
END:VCALENDAR