BEGIN:VCALENDAR
VERSION:2.0
PRODID:-//Wavre shopping - ECPv6.15.12//NONSGML v1.0//EN
CALSCALE:GREGORIAN
METHOD:PUBLISH
X-ORIGINAL-URL:https://wavre.shop
X-WR-CALDESC:Évènements pour Wavre shopping
REFRESH-INTERVAL;VALUE=DURATION:PT1H
X-Robots-Tag:noindex
X-PUBLISHED-TTL:PT1H
BEGIN:VTIMEZONE
TZID:Europe/Brussels
BEGIN:DAYLIGHT
TZOFFSETFROM:+0100
TZOFFSETTO:+0200
TZNAME:CEST
DTSTART:20220327T010000
END:DAYLIGHT
BEGIN:STANDARD
TZOFFSETFROM:+0200
TZOFFSETTO:+0100
TZNAME:CET
DTSTART:20221030T010000
END:STANDARD
BEGIN:DAYLIGHT
TZOFFSETFROM:+0100
TZOFFSETTO:+0200
TZNAME:CEST
DTSTART:20230326T010000
END:DAYLIGHT
BEGIN:STANDARD
TZOFFSETFROM:+0200
TZOFFSETTO:+0100
TZNAME:CET
DTSTART:20231029T010000
END:STANDARD
BEGIN:DAYLIGHT
TZOFFSETFROM:+0100
TZOFFSETTO:+0200
TZNAME:CEST
DTSTART:20240331T010000
END:DAYLIGHT
BEGIN:STANDARD
TZOFFSETFROM:+0200
TZOFFSETTO:+0100
TZNAME:CET
DTSTART:20241027T010000
END:STANDARD
END:VTIMEZONE
BEGIN:VEVENT
DTSTART;VALUE=DATE:20231001
DTEND;VALUE=DATE:20231002
DTSTAMP:20260422T033409
CREATED:20230908T090423Z
LAST-MODIFIED:20230908T090947Z
UID:10033790-1696118400-1696204799@wavre.shop
SUMMARY:Marché de Créateurs
DESCRIPTION:le retour tant attendu des Marchés de Créateurs à Wavre ! Rejoignez-nous nombreux au cœur de Wavre\, située dans la rue Charles Sambon et Rue du commerce . \nen date du\n13/05/2023 – 01/10/2023\nC’est l’occasion parfaite de profiter de sept dates exceptionnelles pour explorer une variété d’articles uniques conçus par des créateurs et artisans belges talentueux\, tout en soutenant le commerce local. \nLaissez-vous inspirer par la diversité artistique et artisanale de Wavre et découvrez les trésors créatifs que notre communauté a à offrir. Les Marchés de Créateurs à Wavre sont bien plus qu’un simple événement : c’est une opportunité de vivre une expérience authentique au cœur de notre ville. \nN’attendez pas\, planifiez votre visite et laissez-vous séduire par la magie des Marchés de Créateurs à Wavre. Nous sommes impatients de vous accueillir !
URL:https://wavre.shop/activite/marche-de-createurs/2023-10-01/
LOCATION:wavre\, Wavre\, Région Wallonne\, 1300\, Belgique
CATEGORIES:Wavre activité seniors,WAVRE ACTIVITES POUR ADO,Wavre activités pour enfants,WAVRE BALADE,Wavre commerce,Wavre exposition
ATTACH;FMTTYPE=image/png:https://wavre.shop/wp-content/uploads/2023/09/wavre-activite-Marches-de-createurs-du-pietonnier-2023.png
END:VEVENT
END:VCALENDAR