BEGIN:VCALENDAR
VERSION:2.0
PRODID:-//Wavre shopping - ECPv6.15.12//NONSGML v1.0//EN
CALSCALE:GREGORIAN
METHOD:PUBLISH
X-WR-CALNAME:Wavre shopping
X-ORIGINAL-URL:https://wavre.shop
X-WR-CALDESC:Évènements pour Wavre shopping
REFRESH-INTERVAL;VALUE=DURATION:PT1H
X-Robots-Tag:noindex
X-PUBLISHED-TTL:PT1H
BEGIN:VTIMEZONE
TZID:Europe/Brussels
BEGIN:DAYLIGHT
TZOFFSETFROM:+0100
TZOFFSETTO:+0200
TZNAME:CEST
DTSTART:20220327T010000
END:DAYLIGHT
BEGIN:STANDARD
TZOFFSETFROM:+0200
TZOFFSETTO:+0100
TZNAME:CET
DTSTART:20221030T010000
END:STANDARD
BEGIN:DAYLIGHT
TZOFFSETFROM:+0100
TZOFFSETTO:+0200
TZNAME:CEST
DTSTART:20230326T010000
END:DAYLIGHT
BEGIN:STANDARD
TZOFFSETFROM:+0200
TZOFFSETTO:+0100
TZNAME:CET
DTSTART:20231029T010000
END:STANDARD
BEGIN:DAYLIGHT
TZOFFSETFROM:+0100
TZOFFSETTO:+0200
TZNAME:CEST
DTSTART:20240331T010000
END:DAYLIGHT
BEGIN:STANDARD
TZOFFSETFROM:+0200
TZOFFSETTO:+0100
TZNAME:CET
DTSTART:20241027T010000
END:STANDARD
END:VTIMEZONE
BEGIN:VEVENT
DTSTART;TZID=Europe/Brussels:20230815T080000
DTEND;TZID=Europe/Brussels:20230815T170000
DTSTAMP:20260422T064634
CREATED:20230812T104432Z
LAST-MODIFIED:20230812T104852Z
UID:10033783-1692086400-1692118800@wavre.shop
SUMMARY:Brocante de l'Orangerie à Wavre
DESCRIPTION:La brocante de l’Orangerie est l’un des événements les plus populaires de la région de Wavre. Elle se déroulera le 15 août 2023 de 8h à 18h\, au quartier de l’Orangerie. Plus de 400 stands seront présents\, proposant une large variété d’objets\, de vêtements et de décorations. \nQue vous soyez à la recherche d’une bonne affaire ou que vous souhaitiez simplement vous promener dans une ambiance chaleureuse\, la brocante de l’Orangerie est l’endroit idéal pour vous. Vous pourrez également profiter d’une variété de stands de nourriture et de boissons\, ainsi que d’un espace de jeux pour les enfants. \nNous vous invitons à venir nombreux à la brocante de l’Orangerie pour une journée mémorable ! \nOrganisateur: 0470 029 023
URL:https://wavre.shop/activite/brocante-de-lorangerie-a-wavre/
LOCATION:Quartier de l’Orangerie\, Chaussée des Gaulois\, Wavre\, Brabant Wallon\, 1300
CATEGORIES:Brocante Wavre,Wavre activité seniors,WAVRE ACTIVITES POUR ADO,Wavre dégustation,Wavre exposition,WAVRE SPECTACLE
ATTACH;FMTTYPE=image/jpeg:https://wavre.shop/wp-content/uploads/2022/08/brocante_du_quartier_de_l_orangerie_logo_20210705_67364.jpg
END:VEVENT
END:VCALENDAR