BEGIN:VCALENDAR
VERSION:2.0
PRODID:-//Wavre shopping - ECPv6.15.12//NONSGML v1.0//EN
CALSCALE:GREGORIAN
METHOD:PUBLISH
X-WR-CALNAME:Wavre shopping
X-ORIGINAL-URL:https://wavre.shop
X-WR-CALDESC:Évènements pour Wavre shopping
REFRESH-INTERVAL;VALUE=DURATION:PT1H
X-Robots-Tag:noindex
X-PUBLISHED-TTL:PT1H
BEGIN:VTIMEZONE
TZID:Europe/Brussels
BEGIN:DAYLIGHT
TZOFFSETFROM:+0100
TZOFFSETTO:+0200
TZNAME:CEST
DTSTART:20230326T010000
END:DAYLIGHT
BEGIN:STANDARD
TZOFFSETFROM:+0200
TZOFFSETTO:+0100
TZNAME:CET
DTSTART:20231029T010000
END:STANDARD
BEGIN:DAYLIGHT
TZOFFSETFROM:+0100
TZOFFSETTO:+0200
TZNAME:CEST
DTSTART:20240331T010000
END:DAYLIGHT
BEGIN:STANDARD
TZOFFSETFROM:+0200
TZOFFSETTO:+0100
TZNAME:CET
DTSTART:20241027T010000
END:STANDARD
BEGIN:DAYLIGHT
TZOFFSETFROM:+0100
TZOFFSETTO:+0200
TZNAME:CEST
DTSTART:20250330T010000
END:DAYLIGHT
BEGIN:STANDARD
TZOFFSETFROM:+0200
TZOFFSETTO:+0100
TZNAME:CET
DTSTART:20251026T010000
END:STANDARD
END:VTIMEZONE
BEGIN:VEVENT
DTSTART;VALUE=DATE:20240308
DTEND;VALUE=DATE:20240320
DTSTAMP:20260422T010130
CREATED:20240302T164854Z
LAST-MODIFIED:20240304T174256Z
UID:10034258-1709856000-1710892799@wavre.shop
SUMMARY:Foire de wavre 2024
DESCRIPTION:La foire de Wavre arrive pour satisfaire petits et grands pendant 11 jours la foire est loccasion de se divertir en famille avec les forains et leurs manèges sans oublier les croustillons\, les barbes à papa et de nombreux autres délices qui raviront petits et grands et beaucoups d’autres suprises que vous réserve la foire de laetare à Wavre. \nToutes les informations en cliquant ici  \n  \n 
URL:https://wavre.shop/activite/foire-de-wavre-2024/
LOCATION:place Alphonse Bosch Wavre\, Pl. Alphonse Bosch\, Wavre\, Brabant wallon\, 1300\, Belgique
CATEGORIES:foire,Wavre activité seniors,WAVRE ACTIVITES POUR ADO,Wavre activités pour enfants,WAVRE BALADE
ATTACH;FMTTYPE=image/jpeg:https://wavre.shop/wp-content/uploads/2024/03/Foire-de-wavre-2024.jpg
ORGANIZER;CN="Ville de Wavre":MAILTO:secretariat@wavre.be commerce@wavre.be
END:VEVENT
END:VCALENDAR