BEGIN:VCALENDAR
VERSION:2.0
PRODID:-//Wavre shopping - ECPv6.15.12//NONSGML v1.0//EN
CALSCALE:GREGORIAN
METHOD:PUBLISH
X-ORIGINAL-URL:https://wavre.shop
X-WR-CALDESC:Évènements pour Wavre shopping
REFRESH-INTERVAL;VALUE=DURATION:PT1H
X-Robots-Tag:noindex
X-PUBLISHED-TTL:PT1H
BEGIN:VTIMEZONE
TZID:Europe/Paris
BEGIN:DAYLIGHT
TZOFFSETFROM:+0100
TZOFFSETTO:+0200
TZNAME:CEST
DTSTART:20230326T010000
END:DAYLIGHT
BEGIN:STANDARD
TZOFFSETFROM:+0200
TZOFFSETTO:+0100
TZNAME:CET
DTSTART:20231029T010000
END:STANDARD
BEGIN:DAYLIGHT
TZOFFSETFROM:+0100
TZOFFSETTO:+0200
TZNAME:CEST
DTSTART:20240331T010000
END:DAYLIGHT
BEGIN:STANDARD
TZOFFSETFROM:+0200
TZOFFSETTO:+0100
TZNAME:CET
DTSTART:20241027T010000
END:STANDARD
BEGIN:DAYLIGHT
TZOFFSETFROM:+0100
TZOFFSETTO:+0200
TZNAME:CEST
DTSTART:20250330T010000
END:DAYLIGHT
BEGIN:STANDARD
TZOFFSETFROM:+0200
TZOFFSETTO:+0100
TZNAME:CET
DTSTART:20251026T010000
END:STANDARD
END:VTIMEZONE
BEGIN:VTIMEZONE
TZID:Europe/Brussels
BEGIN:DAYLIGHT
TZOFFSETFROM:+0100
TZOFFSETTO:+0200
TZNAME:CEST
DTSTART:20230326T010000
END:DAYLIGHT
BEGIN:STANDARD
TZOFFSETFROM:+0200
TZOFFSETTO:+0100
TZNAME:CET
DTSTART:20231029T010000
END:STANDARD
BEGIN:DAYLIGHT
TZOFFSETFROM:+0100
TZOFFSETTO:+0200
TZNAME:CEST
DTSTART:20240331T010000
END:DAYLIGHT
BEGIN:STANDARD
TZOFFSETFROM:+0200
TZOFFSETTO:+0100
TZNAME:CET
DTSTART:20241027T010000
END:STANDARD
BEGIN:DAYLIGHT
TZOFFSETFROM:+0100
TZOFFSETTO:+0200
TZNAME:CEST
DTSTART:20250330T010000
END:DAYLIGHT
BEGIN:STANDARD
TZOFFSETFROM:+0200
TZOFFSETTO:+0100
TZNAME:CET
DTSTART:20251026T010000
END:STANDARD
END:VTIMEZONE
BEGIN:VEVENT
DTSTART;TZID=Europe/Paris:20240203T080000
DTEND;TZID=Europe/Paris:20240203T130000
DTSTAMP:20260423T081224
CREATED:20211212T134631Z
LAST-MODIFIED:20231111T141158Z
UID:10029759-1706947200-1706965200@wavre.shop
SUMMARY:Marché à Wavre
DESCRIPTION:LE MARCHÉ C’EST TOUS LES MERCREDI ET SAMEDI MATIN À WAVRE\n\n\n\n\nLE PLUS GRAND\nMARCHÉ DU BRABANT WALLON\n\nLe marché hebdomadaire du mercredi est aussi reconnu comme le plus important de notre province \n\n\n\n\n\n\n\n\n\n\nLe samedi matin\, un petit marché de primeurs\, de plantes annuelles et de fleurs coupées se tient rue du Commerce et place Cardinal Mercier. \n\n\n\n\n\n\n\n\n\n\n\n\n\n\n\n\n\n\n\n\n\n\n\n\n\n\n\nTOUT SAVOIR SUR LE MARCHÉ DE WAVRE
URL:https://wavre.shop/activite/marche-de-wavre/2024-02-03/
LOCATION:wavre\, Wavre\, Région Wallonne\, 1300\, Belgique
CATEGORIES:Wavre activité seniors,WAVRE ACTIVITES POUR ADO,WAVRE BALADE,Wavre Visite
ATTACH;FMTTYPE=image/jpeg:https://wavre.shop/wp-content/uploads/2019/04/Marché-wavre-les-halles-Vins-magasin-spécialiste.jpg
ORGANIZER;CN="Ville de Wavre":MAILTO:secretariat@wavre.be commerce@wavre.be
END:VEVENT
BEGIN:VEVENT
DTSTART;TZID=Europe/Paris:20240207T080000
DTEND;TZID=Europe/Paris:20240207T130000
DTSTAMP:20260423T081224
CREATED:20211212T134631Z
LAST-MODIFIED:20231111T141158Z
UID:10029760-1707292800-1707310800@wavre.shop
SUMMARY:Marché à Wavre
DESCRIPTION:LE MARCHÉ C’EST TOUS LES MERCREDI ET SAMEDI MATIN À WAVRE\n\n\n\n\nLE PLUS GRAND\nMARCHÉ DU BRABANT WALLON\n\nLe marché hebdomadaire du mercredi est aussi reconnu comme le plus important de notre province \n\n\n\n\n\n\n\n\n\n\nLe samedi matin\, un petit marché de primeurs\, de plantes annuelles et de fleurs coupées se tient rue du Commerce et place Cardinal Mercier. \n\n\n\n\n\n\n\n\n\n\n\n\n\n\n\n\n\n\n\n\n\n\n\n\n\n\n\nTOUT SAVOIR SUR LE MARCHÉ DE WAVRE
URL:https://wavre.shop/activite/marche-de-wavre/2024-02-07/
LOCATION:wavre\, Wavre\, Région Wallonne\, 1300\, Belgique
CATEGORIES:Wavre activité seniors,WAVRE ACTIVITES POUR ADO,WAVRE BALADE,Wavre Visite
ATTACH;FMTTYPE=image/jpeg:https://wavre.shop/wp-content/uploads/2019/04/Marché-wavre-les-halles-Vins-magasin-spécialiste.jpg
ORGANIZER;CN="Ville de Wavre":MAILTO:secretariat@wavre.be commerce@wavre.be
END:VEVENT
BEGIN:VEVENT
DTSTART;TZID=Europe/Paris:20240210T080000
DTEND;TZID=Europe/Paris:20240210T130000
DTSTAMP:20260423T081224
CREATED:20211212T134631Z
LAST-MODIFIED:20231111T141158Z
UID:10029761-1707552000-1707570000@wavre.shop
SUMMARY:Marché à Wavre
DESCRIPTION:LE MARCHÉ C’EST TOUS LES MERCREDI ET SAMEDI MATIN À WAVRE\n\n\n\n\nLE PLUS GRAND\nMARCHÉ DU BRABANT WALLON\n\nLe marché hebdomadaire du mercredi est aussi reconnu comme le plus important de notre province \n\n\n\n\n\n\n\n\n\n\nLe samedi matin\, un petit marché de primeurs\, de plantes annuelles et de fleurs coupées se tient rue du Commerce et place Cardinal Mercier. \n\n\n\n\n\n\n\n\n\n\n\n\n\n\n\n\n\n\n\n\n\n\n\n\n\n\n\nTOUT SAVOIR SUR LE MARCHÉ DE WAVRE
URL:https://wavre.shop/activite/marche-de-wavre/2024-02-10/
LOCATION:wavre\, Wavre\, Région Wallonne\, 1300\, Belgique
CATEGORIES:Wavre activité seniors,WAVRE ACTIVITES POUR ADO,WAVRE BALADE,Wavre Visite
ATTACH;FMTTYPE=image/jpeg:https://wavre.shop/wp-content/uploads/2019/04/Marché-wavre-les-halles-Vins-magasin-spécialiste.jpg
ORGANIZER;CN="Ville de Wavre":MAILTO:secretariat@wavre.be commerce@wavre.be
END:VEVENT
BEGIN:VEVENT
DTSTART;TZID=Europe/Brussels:20240211T080000
DTEND;TZID=Europe/Brussels:20240211T160000
DTSTAMP:20260423T081224
CREATED:20231227T133902Z
LAST-MODIFIED:20231227T133902Z
UID:10034252-1707638400-1707667200@wavre.shop
SUMMARY:Brocante Du Hall
DESCRIPTION:Brocante Hall Manifagri à Wavre le 11 Février 2024 \nVenez découvrir la Brocante couverte au Hall Manifagri. Vous y trouverez beaucoup de stand\, avec des objets de toutes sortes\, à des prix très attractifs. \nLa brocante sera ouverte de 8h à 16h pour les visiteurs. l’installation se fait à partir de 6 heures pour les exposants.
URL:https://wavre.shop/activite/brocante-du-hall-fevrier-2024/
LOCATION:Hall Manifagri à WAVRE\, Avenue Solvay\, 5\, Wavre\, brabant wallon\, 1300\, Belgique
CATEGORIES:Brocante Wavre,loisirs,Rencontre Citoyenne,Wavre activité seniors,WAVRE ACTIVITES POUR ADO,Wavre activités pour enfants,WAVRE BALADE
ATTACH;FMTTYPE=image/jpeg:https://wavre.shop/wp-content/uploads/2023/12/Brocante-du-hall-2024-Fevrier.jpg
ORGANIZER;CN="Brocantes du Hall":MAILTO:brocantehall@hotmail.com
END:VEVENT
BEGIN:VEVENT
DTSTART;TZID=Europe/Paris:20240214T080000
DTEND;TZID=Europe/Paris:20240214T130000
DTSTAMP:20260423T081224
CREATED:20211212T134631Z
LAST-MODIFIED:20231111T141158Z
UID:10029762-1707897600-1707915600@wavre.shop
SUMMARY:Marché à Wavre
DESCRIPTION:LE MARCHÉ C’EST TOUS LES MERCREDI ET SAMEDI MATIN À WAVRE\n\n\n\n\nLE PLUS GRAND\nMARCHÉ DU BRABANT WALLON\n\nLe marché hebdomadaire du mercredi est aussi reconnu comme le plus important de notre province \n\n\n\n\n\n\n\n\n\n\nLe samedi matin\, un petit marché de primeurs\, de plantes annuelles et de fleurs coupées se tient rue du Commerce et place Cardinal Mercier. \n\n\n\n\n\n\n\n\n\n\n\n\n\n\n\n\n\n\n\n\n\n\n\n\n\n\n\nTOUT SAVOIR SUR LE MARCHÉ DE WAVRE
URL:https://wavre.shop/activite/marche-de-wavre/2024-02-14/
LOCATION:wavre\, Wavre\, Région Wallonne\, 1300\, Belgique
CATEGORIES:Wavre activité seniors,WAVRE ACTIVITES POUR ADO,WAVRE BALADE,Wavre Visite
ATTACH;FMTTYPE=image/jpeg:https://wavre.shop/wp-content/uploads/2019/04/Marché-wavre-les-halles-Vins-magasin-spécialiste.jpg
ORGANIZER;CN="Ville de Wavre":MAILTO:secretariat@wavre.be commerce@wavre.be
END:VEVENT
BEGIN:VEVENT
DTSTART;TZID=Europe/Paris:20240217T080000
DTEND;TZID=Europe/Paris:20240217T130000
DTSTAMP:20260423T081224
CREATED:20211212T134631Z
LAST-MODIFIED:20231111T141158Z
UID:10029763-1708156800-1708174800@wavre.shop
SUMMARY:Marché à Wavre
DESCRIPTION:LE MARCHÉ C’EST TOUS LES MERCREDI ET SAMEDI MATIN À WAVRE\n\n\n\n\nLE PLUS GRAND\nMARCHÉ DU BRABANT WALLON\n\nLe marché hebdomadaire du mercredi est aussi reconnu comme le plus important de notre province \n\n\n\n\n\n\n\n\n\n\nLe samedi matin\, un petit marché de primeurs\, de plantes annuelles et de fleurs coupées se tient rue du Commerce et place Cardinal Mercier. \n\n\n\n\n\n\n\n\n\n\n\n\n\n\n\n\n\n\n\n\n\n\n\n\n\n\n\nTOUT SAVOIR SUR LE MARCHÉ DE WAVRE
URL:https://wavre.shop/activite/marche-de-wavre/2024-02-17/
LOCATION:wavre\, Wavre\, Région Wallonne\, 1300\, Belgique
CATEGORIES:Wavre activité seniors,WAVRE ACTIVITES POUR ADO,WAVRE BALADE,Wavre Visite
ATTACH;FMTTYPE=image/jpeg:https://wavre.shop/wp-content/uploads/2019/04/Marché-wavre-les-halles-Vins-magasin-spécialiste.jpg
ORGANIZER;CN="Ville de Wavre":MAILTO:secretariat@wavre.be commerce@wavre.be
END:VEVENT
BEGIN:VEVENT
DTSTART;TZID=Europe/Paris:20240221T080000
DTEND;TZID=Europe/Paris:20240221T130000
DTSTAMP:20260423T081224
CREATED:20211212T134631Z
LAST-MODIFIED:20231111T141158Z
UID:10029764-1708502400-1708520400@wavre.shop
SUMMARY:Marché à Wavre
DESCRIPTION:LE MARCHÉ C’EST TOUS LES MERCREDI ET SAMEDI MATIN À WAVRE\n\n\n\n\nLE PLUS GRAND\nMARCHÉ DU BRABANT WALLON\n\nLe marché hebdomadaire du mercredi est aussi reconnu comme le plus important de notre province \n\n\n\n\n\n\n\n\n\n\nLe samedi matin\, un petit marché de primeurs\, de plantes annuelles et de fleurs coupées se tient rue du Commerce et place Cardinal Mercier. \n\n\n\n\n\n\n\n\n\n\n\n\n\n\n\n\n\n\n\n\n\n\n\n\n\n\n\nTOUT SAVOIR SUR LE MARCHÉ DE WAVRE
URL:https://wavre.shop/activite/marche-de-wavre/2024-02-21/
LOCATION:wavre\, Wavre\, Région Wallonne\, 1300\, Belgique
CATEGORIES:Wavre activité seniors,WAVRE ACTIVITES POUR ADO,WAVRE BALADE,Wavre Visite
ATTACH;FMTTYPE=image/jpeg:https://wavre.shop/wp-content/uploads/2019/04/Marché-wavre-les-halles-Vins-magasin-spécialiste.jpg
ORGANIZER;CN="Ville de Wavre":MAILTO:secretariat@wavre.be commerce@wavre.be
END:VEVENT
BEGIN:VEVENT
DTSTART;TZID=Europe/Paris:20240224T080000
DTEND;TZID=Europe/Paris:20240224T130000
DTSTAMP:20260423T081224
CREATED:20211212T134631Z
LAST-MODIFIED:20231111T141158Z
UID:10029765-1708761600-1708779600@wavre.shop
SUMMARY:Marché à Wavre
DESCRIPTION:LE MARCHÉ C’EST TOUS LES MERCREDI ET SAMEDI MATIN À WAVRE\n\n\n\n\nLE PLUS GRAND\nMARCHÉ DU BRABANT WALLON\n\nLe marché hebdomadaire du mercredi est aussi reconnu comme le plus important de notre province \n\n\n\n\n\n\n\n\n\n\nLe samedi matin\, un petit marché de primeurs\, de plantes annuelles et de fleurs coupées se tient rue du Commerce et place Cardinal Mercier. \n\n\n\n\n\n\n\n\n\n\n\n\n\n\n\n\n\n\n\n\n\n\n\n\n\n\n\nTOUT SAVOIR SUR LE MARCHÉ DE WAVRE
URL:https://wavre.shop/activite/marche-de-wavre/2024-02-24/
LOCATION:wavre\, Wavre\, Région Wallonne\, 1300\, Belgique
CATEGORIES:Wavre activité seniors,WAVRE ACTIVITES POUR ADO,WAVRE BALADE,Wavre Visite
ATTACH;FMTTYPE=image/jpeg:https://wavre.shop/wp-content/uploads/2019/04/Marché-wavre-les-halles-Vins-magasin-spécialiste.jpg
ORGANIZER;CN="Ville de Wavre":MAILTO:secretariat@wavre.be commerce@wavre.be
END:VEVENT
BEGIN:VEVENT
DTSTART;TZID=Europe/Paris:20240228T080000
DTEND;TZID=Europe/Paris:20240228T130000
DTSTAMP:20260423T081224
CREATED:20211212T134631Z
LAST-MODIFIED:20231111T141158Z
UID:10029766-1709107200-1709125200@wavre.shop
SUMMARY:Marché à Wavre
DESCRIPTION:LE MARCHÉ C’EST TOUS LES MERCREDI ET SAMEDI MATIN À WAVRE\n\n\n\n\nLE PLUS GRAND\nMARCHÉ DU BRABANT WALLON\n\nLe marché hebdomadaire du mercredi est aussi reconnu comme le plus important de notre province \n\n\n\n\n\n\n\n\n\n\nLe samedi matin\, un petit marché de primeurs\, de plantes annuelles et de fleurs coupées se tient rue du Commerce et place Cardinal Mercier. \n\n\n\n\n\n\n\n\n\n\n\n\n\n\n\n\n\n\n\n\n\n\n\n\n\n\n\nTOUT SAVOIR SUR LE MARCHÉ DE WAVRE
URL:https://wavre.shop/activite/marche-de-wavre/2024-02-28/
LOCATION:wavre\, Wavre\, Région Wallonne\, 1300\, Belgique
CATEGORIES:Wavre activité seniors,WAVRE ACTIVITES POUR ADO,WAVRE BALADE,Wavre Visite
ATTACH;FMTTYPE=image/jpeg:https://wavre.shop/wp-content/uploads/2019/04/Marché-wavre-les-halles-Vins-magasin-spécialiste.jpg
ORGANIZER;CN="Ville de Wavre":MAILTO:secretariat@wavre.be commerce@wavre.be
END:VEVENT
END:VCALENDAR