BEGIN:VCALENDAR
VERSION:2.0
PRODID:-//Wavre shopping - ECPv6.15.12//NONSGML v1.0//EN
CALSCALE:GREGORIAN
METHOD:PUBLISH
X-ORIGINAL-URL:https://wavre.shop
X-WR-CALDESC:Évènements pour Wavre shopping
REFRESH-INTERVAL;VALUE=DURATION:PT1H
X-Robots-Tag:noindex
X-PUBLISHED-TTL:PT1H
BEGIN:VTIMEZONE
TZID:Europe/Brussels
BEGIN:DAYLIGHT
TZOFFSETFROM:+0100
TZOFFSETTO:+0200
TZNAME:CEST
DTSTART:20220327T010000
END:DAYLIGHT
BEGIN:STANDARD
TZOFFSETFROM:+0200
TZOFFSETTO:+0100
TZNAME:CET
DTSTART:20221030T010000
END:STANDARD
BEGIN:DAYLIGHT
TZOFFSETFROM:+0100
TZOFFSETTO:+0200
TZNAME:CEST
DTSTART:20230326T010000
END:DAYLIGHT
BEGIN:STANDARD
TZOFFSETFROM:+0200
TZOFFSETTO:+0100
TZNAME:CET
DTSTART:20231029T010000
END:STANDARD
BEGIN:DAYLIGHT
TZOFFSETFROM:+0100
TZOFFSETTO:+0200
TZNAME:CEST
DTSTART:20240331T010000
END:DAYLIGHT
BEGIN:STANDARD
TZOFFSETFROM:+0200
TZOFFSETTO:+0100
TZNAME:CET
DTSTART:20241027T010000
END:STANDARD
BEGIN:DAYLIGHT
TZOFFSETFROM:+0100
TZOFFSETTO:+0200
TZNAME:CEST
DTSTART:20250330T010000
END:DAYLIGHT
BEGIN:STANDARD
TZOFFSETFROM:+0200
TZOFFSETTO:+0100
TZNAME:CET
DTSTART:20251026T010000
END:STANDARD
END:VTIMEZONE
BEGIN:VEVENT
DTSTART;VALUE=DATE:20231208
DTEND;VALUE=DATE:20240108
DTSTAMP:20260423T004929
CREATED:20231021T154020Z
LAST-MODIFIED:20231021T154020Z
UID:10033921-1701993600-1704671999@wavre.shop
SUMMARY:Le Village de Noël de Wavre sans glace
DESCRIPTION:Autour de la patinoire roller de Wavre sans glace\, se rassemblent de nombreux de chalets formant un magnifique petit village de Noël. \nUne partie des animations s’y dérouleront avec un espace conviviale très agréable sans oublier la patinoire #Roller party et la piste de Luge. \nWavre sans Glace vous fait plonger dans la magie des fêtes de fin d’année dans une ambiance conviviale et familiale. \n 
URL:https://wavre.shop/activite/le-village-de-noel-de-wavre-sans-glace/
LOCATION:place Alphonse Bosch Wavre\, Pl. Alphonse Bosch\, Wavre\, Brabant wallon\, 1300\, Belgique
CATEGORIES:Chill Zone à Wavre,foire,loisirs,Rencontre Citoyenne,Wavre activité seniors,WAVRE ACTIVITES POUR ADO,Wavre activités pour enfants,Wavre sans glace
ATTACH;FMTTYPE=image/webp:https://wavre.shop/wp-content/uploads/2023/10/Wavre-sans-glace-2023-patinoire-wavre-.webp
ORGANIZER;CN="Ville de Wavre":MAILTO:secretariat@wavre.be commerce@wavre.be
END:VEVENT
BEGIN:VEVENT
DTSTART;VALUE=DATE:20231208
DTEND;VALUE=DATE:20240108
DTSTAMP:20260423T004929
CREATED:20231021T154854Z
LAST-MODIFIED:20231021T155110Z
UID:10033922-1701993600-1704671999@wavre.shop
SUMMARY:Piste de Luge de Wavre sans glace
DESCRIPTION:La ville de Wavre installe une piste de bouée des neiges\, retrouvez une piste de luge lors de Wavre sans glace et Montez à 10 mètres de haut pour dévalez ensuite la piste de 40 mètres de long. \nLa piste de luge est installée juste à côté de la patinoire\, c’est une activité familiale ouverte à tous qui vous promet de vivre de belles sensations\, comme à la montagne\, dans un cadre sécurisé. \nRetrouvez tout le programme de wavre sans glace ici 
URL:https://wavre.shop/activite/piste-de-luge-de-wavre-sans-glace/
LOCATION:place Alphonse Bosch Wavre\, Pl. Alphonse Bosch\, Wavre\, Brabant wallon\, 1300\, Belgique
CATEGORIES:foire,loisirs,Rencontre Citoyenne,Wavre activité seniors,WAVRE ACTIVITES POUR ADO,Wavre activités pour enfants,Wavre Noël,Wavre piste de roller,Wavre sans glace
ATTACH;FMTTYPE=image/webp:https://wavre.shop/wp-content/uploads/2023/10/Wavre-sans-glace-2023-patinoire-wavre-.webp
ORGANIZER;CN="Ville de Wavre":MAILTO:secretariat@wavre.be commerce@wavre.be
END:VEVENT
END:VCALENDAR