BEGIN:VCALENDAR
VERSION:2.0
PRODID:-//Wavre shopping - ECPv6.15.12//NONSGML v1.0//EN
CALSCALE:GREGORIAN
METHOD:PUBLISH
X-ORIGINAL-URL:https://wavre.shop
X-WR-CALDESC:Évènements pour Wavre shopping
REFRESH-INTERVAL;VALUE=DURATION:PT1H
X-Robots-Tag:noindex
X-PUBLISHED-TTL:PT1H
BEGIN:VTIMEZONE
TZID:Europe/Brussels
BEGIN:DAYLIGHT
TZOFFSETFROM:+0100
TZOFFSETTO:+0200
TZNAME:CEST
DTSTART:20220327T010000
END:DAYLIGHT
BEGIN:STANDARD
TZOFFSETFROM:+0200
TZOFFSETTO:+0100
TZNAME:CET
DTSTART:20221030T010000
END:STANDARD
BEGIN:DAYLIGHT
TZOFFSETFROM:+0100
TZOFFSETTO:+0200
TZNAME:CEST
DTSTART:20230326T010000
END:DAYLIGHT
BEGIN:STANDARD
TZOFFSETFROM:+0200
TZOFFSETTO:+0100
TZNAME:CET
DTSTART:20231029T010000
END:STANDARD
BEGIN:DAYLIGHT
TZOFFSETFROM:+0100
TZOFFSETTO:+0200
TZNAME:CEST
DTSTART:20240331T010000
END:DAYLIGHT
BEGIN:STANDARD
TZOFFSETFROM:+0200
TZOFFSETTO:+0100
TZNAME:CET
DTSTART:20241027T010000
END:STANDARD
END:VTIMEZONE
BEGIN:VEVENT
DTSTART;TZID=Europe/Brussels:20230408T190000
DTEND;TZID=Europe/Brussels:20230408T190000
DTSTAMP:20260426T060551
CREATED:20230331T164216Z
LAST-MODIFIED:20230331T164216Z
UID:10033738-1680980400-1680980400@wavre.shop
SUMMARY:Concert de l'Académie
DESCRIPTION:L’Académie de Musique\, danse et arts de la parole de Wavre a le plaisir de vous inviter à un merveilleux concert pour célébrer l’arrivée du printemps. Le samedi 8 avril à 19h\, le traditionnel Concert Pluridisciplinaire de l’académie aura lieu à La Sucrerie. Les professeurs et les élèves présenteront un concert centré sur le thème « La planète dans tous ses états »\, offrant un spectacle haut en couleur avec plus de 200 élèves sur la scène de la salle 850 de La Sucrerie. Cet événement est le moment fort de l’année scolaire et se tiendra dans le magnifique lieu qu’est La Sucrerie\, dans la grande salle. Nous serons ravis de vous y accueillir. \n  \n\nPrévente au secrétariat de l’Académie : 8 € étudiants -26 ans – 10 € adultes\nSur place le jour J : 10 € étudiants -26 ans – 12 € adultes
URL:https://wavre.shop/activite/concert-de-lacademie/
LOCATION:La sucrerie Wavre\, Chem. de la Sucrerie 2\, Wavre\, Région Wallonne\, 1300\, Belgique
CATEGORIES:la sucrerie Wavre,loisirs,Wavre activité seniors,WAVRE ACTIVITES POUR ADO,Wavre activités pour enfants,WAVRE CONCERT
ATTACH;FMTTYPE=image/jpeg:https://wavre.shop/wp-content/uploads/2021/08/Concert-Wavre.jpg
ORGANIZER;CN="acad%C3%A9mie de musique wavre":MAILTO:info@academiewavre.be
END:VEVENT
BEGIN:VEVENT
DTSTART;TZID=Europe/Brussels:20230429T200000
DTEND;TZID=Europe/Brussels:20230429T200000
DTSTAMP:20260426T060551
CREATED:20230403T153434Z
LAST-MODIFIED:20230403T153551Z
UID:10033754-1682798400-1682798400@wavre.shop
SUMMARY:Orchestre Royal de chambre de Wallonie
DESCRIPTION:Assistez à un concert de quintette à cordes exceptionnel à Wavre\, avec des musiciens de l’Orchestre Royal de Chambre de Wallonie. Écoutez des œuvres magnifiques\, dont le rare quintette à cordes pour deux altos de Boccherini\, qui met en avant la beauté du son si tendre des altos. La virtuosité des musiciens et la chaleur du son vous offriront une expérience musicale inoubliable. Programme incluant Mozart\, Vaughan Williams et Mendelssohn. \n  \n\nInfos et réservations sur le site de La Sucrerie
URL:https://wavre.shop/activite/orchestre-royal-de-chambre-de-wallonie/
LOCATION:La sucrerie Wavre\, Chem. de la Sucrerie 2\, Wavre\, Région Wallonne\, 1300\, Belgique
CATEGORIES:la sucrerie Wavre,WAVRE CONCERT
ATTACH;FMTTYPE=image/jpeg:https://wavre.shop/wp-content/uploads/2023/04/Concert-classique-wavre.jpg
END:VEVENT
END:VCALENDAR