BEGIN:VCALENDAR
VERSION:2.0
PRODID:-//Wavre shopping - ECPv6.15.12//NONSGML v1.0//EN
CALSCALE:GREGORIAN
METHOD:PUBLISH
X-ORIGINAL-URL:https://wavre.shop
X-WR-CALDESC:Évènements pour Wavre shopping
REFRESH-INTERVAL;VALUE=DURATION:PT1H
X-Robots-Tag:noindex
X-PUBLISHED-TTL:PT1H
BEGIN:VTIMEZONE
TZID:Europe/Brussels
BEGIN:DAYLIGHT
TZOFFSETFROM:+0100
TZOFFSETTO:+0200
TZNAME:CEST
DTSTART:20220327T010000
END:DAYLIGHT
BEGIN:STANDARD
TZOFFSETFROM:+0200
TZOFFSETTO:+0100
TZNAME:CET
DTSTART:20221030T010000
END:STANDARD
BEGIN:DAYLIGHT
TZOFFSETFROM:+0100
TZOFFSETTO:+0200
TZNAME:CEST
DTSTART:20230326T010000
END:DAYLIGHT
BEGIN:STANDARD
TZOFFSETFROM:+0200
TZOFFSETTO:+0100
TZNAME:CET
DTSTART:20231029T010000
END:STANDARD
BEGIN:DAYLIGHT
TZOFFSETFROM:+0100
TZOFFSETTO:+0200
TZNAME:CEST
DTSTART:20240331T010000
END:DAYLIGHT
BEGIN:STANDARD
TZOFFSETFROM:+0200
TZOFFSETTO:+0100
TZNAME:CET
DTSTART:20241027T010000
END:STANDARD
END:VTIMEZONE
BEGIN:VEVENT
DTSTART;TZID=Europe/Brussels:20231021T160000
DTEND;TZID=Europe/Brussels:20231105T160000
DTSTAMP:20260423T004514
CREATED:20231015T140040Z
LAST-MODIFIED:20231024T113920Z
UID:10033904-1697904000-1699200000@wavre.shop
SUMMARY:Cirque stromboli 2023
DESCRIPTION:Le cirque Stromboli vous propose un spectacle magique à Wavre en date du 21 octobre au 5 novembre 2023. \nEntre tradition et modernité\, ce spectacle familial vous fera vivre un moment inoubliable. \nAu programme : acrobates\, jongleurs\, clowns\, animaux… \nUn spectacle riche en émotions qui ravira petits et grands. \nPréparez-vous à vivre une expérience unique ! \nTOUT SAVOIR  \nAdresse :\nChaussée des francs \nTarifs :\nPayant à partir de 2 ans. \nPlaces dans les gradins (bancs) : 10 euros \nPlaces plus proches de la scène (chaises) : 15 euros \nContact :\n0494/62.00.86
URL:https://wavre.shop/activite/cirque-stromboli-2023-wavre/
LOCATION:Quartier de l’Orangerie\, Chaussée des Gaulois\, Wavre\, Brabant Wallon\, 1300
CATEGORIES:Chill Zone à Wavre,Cirques,foire,loisirs,Spectacle Humour Wavre,Wavre activité seniors,WAVRE ACTIVITES POUR ADO,Wavre activités pour enfants,WAVRE SPECTACLE
ATTACH;FMTTYPE=image/jpeg:https://wavre.shop/wp-content/uploads/2023/10/crique-stromboli-a-wavre-2023.jpg
END:VEVENT
BEGIN:VEVENT
DTSTART;TZID=Europe/Brussels:20231104T160000
DTEND;TZID=Europe/Brussels:20231104T160000
DTSTAMP:20260423T004514
CREATED:20231015T134209Z
LAST-MODIFIED:20231015T134209Z
UID:10033914-1699113600-1699113600@wavre.shop
SUMMARY:Cirque stromboli 2023
DESCRIPTION:Le cirque Stromboli vous propose un spectacle magique à Wavre en date du 21 octobre au 5 novembre. \nEntre tradition et modernité\, ce spectacle familial vous fera vivre un moment inoubliable. \nAu programme : acrobates\, jongleurs\, clowns\, animaux… \nUn spectacle riche en émotions qui ravira petits et grands. \nPréparez-vous à vivre une expérience unique ! \nAdresse :\nChaussée des francs \nTarifs :\nPayant à partir de 2 ans. \nPlaces dans les gradins (bancs) : 10 euros \nPlaces plus proches de la scène (chaises) : 15 euros \nContact :\n0494/62.00.86
URL:https://wavre.shop/activite/cirque-stromboli-2023/2023-11-04/
LOCATION:Quartier de l’Orangerie\, Chaussée des Gaulois\, Wavre\, Brabant Wallon\, 1300
CATEGORIES:Chill Zone à Wavre,Cirques,foire,loisirs,Spectacle Humour Wavre,Wavre activité seniors,WAVRE ACTIVITES POUR ADO,Wavre activités pour enfants,WAVRE SPECTACLE
ATTACH;FMTTYPE=image/jpeg:https://wavre.shop/wp-content/uploads/2023/10/crique-stromboli-a-wavre-2023.jpg
END:VEVENT
END:VCALENDAR