BEGIN:VCALENDAR
VERSION:2.0
PRODID:-//Wavre shopping - ECPv6.15.12//NONSGML v1.0//EN
CALSCALE:GREGORIAN
METHOD:PUBLISH
X-ORIGINAL-URL:https://wavre.shop
X-WR-CALDESC:Évènements pour Wavre shopping
REFRESH-INTERVAL;VALUE=DURATION:PT1H
X-Robots-Tag:noindex
X-PUBLISHED-TTL:PT1H
BEGIN:VTIMEZONE
TZID:Europe/Brussels
BEGIN:DAYLIGHT
TZOFFSETFROM:+0100
TZOFFSETTO:+0200
TZNAME:CEST
DTSTART:20230326T010000
END:DAYLIGHT
BEGIN:STANDARD
TZOFFSETFROM:+0200
TZOFFSETTO:+0100
TZNAME:CET
DTSTART:20231029T010000
END:STANDARD
BEGIN:DAYLIGHT
TZOFFSETFROM:+0100
TZOFFSETTO:+0200
TZNAME:CEST
DTSTART:20240331T010000
END:DAYLIGHT
BEGIN:STANDARD
TZOFFSETFROM:+0200
TZOFFSETTO:+0100
TZNAME:CET
DTSTART:20241027T010000
END:STANDARD
BEGIN:DAYLIGHT
TZOFFSETFROM:+0100
TZOFFSETTO:+0200
TZNAME:CEST
DTSTART:20250330T010000
END:DAYLIGHT
BEGIN:STANDARD
TZOFFSETFROM:+0200
TZOFFSETTO:+0100
TZNAME:CET
DTSTART:20251026T010000
END:STANDARD
END:VTIMEZONE
BEGIN:VEVENT
DTSTART;TZID=Europe/Brussels:20240526T080000
DTEND;TZID=Europe/Brussels:20240526T170000
DTSTAMP:20260422T083658
CREATED:20240407T131657Z
LAST-MODIFIED:20240407T131657Z
UID:10034265-1716710400-1716742800@wavre.shop
SUMMARY:Brocante Limal 2024
DESCRIPTION:Si vous êtes un amateur d’objets cultes et que vous adorez chiner alors le 26 mai 2024 ne manquez pas la traditionnelle brocante au Villagexpo de Limal de 8h à 17h. Cette brocante se déroulera dans le cadre de la 48 ème fête du printemps. \nAvec 400 exposants\, vous trouverez sûrement votre bonheur lors de cette brocante. \nLes organisateurs ont également prévu de nombreuses animations et de la restaurant pour vous divertir pendant votre visite. \n  \nTOUT SAVOIR 
URL:https://wavre.shop/activite/brocante-limal-2024/
LOCATION:village Expo Limal\, Avenue des pléiades 1\, 1300\, Région Wallonne\, 1300\, Belgique
CATEGORIES:Brocante Wavre,Wavre activité seniors,WAVRE ACTIVITES POUR ADO,Wavre activités pour enfants
ATTACH;FMTTYPE=image/jpeg:https://wavre.shop/wp-content/uploads/2024/04/Brocante-villageexpo-2024-Limal.jpg
ORGANIZER;CN="A.S. Beauchamp":MAILTO:christophedysseleer1@gmail.com
END:VEVENT
END:VCALENDAR