BEGIN:VCALENDAR
VERSION:2.0
PRODID:-//Wavre shopping - ECPv6.15.12//NONSGML v1.0//EN
CALSCALE:GREGORIAN
METHOD:PUBLISH
X-ORIGINAL-URL:https://wavre.shop
X-WR-CALDESC:Évènements pour Wavre shopping
REFRESH-INTERVAL;VALUE=DURATION:PT1H
X-Robots-Tag:noindex
X-PUBLISHED-TTL:PT1H
BEGIN:VTIMEZONE
TZID:Europe/Paris
BEGIN:DAYLIGHT
TZOFFSETFROM:+0100
TZOFFSETTO:+0200
TZNAME:CEST
DTSTART:20230326T010000
END:DAYLIGHT
BEGIN:STANDARD
TZOFFSETFROM:+0200
TZOFFSETTO:+0100
TZNAME:CET
DTSTART:20231029T010000
END:STANDARD
BEGIN:DAYLIGHT
TZOFFSETFROM:+0100
TZOFFSETTO:+0200
TZNAME:CEST
DTSTART:20240331T010000
END:DAYLIGHT
BEGIN:STANDARD
TZOFFSETFROM:+0200
TZOFFSETTO:+0100
TZNAME:CET
DTSTART:20241027T010000
END:STANDARD
BEGIN:DAYLIGHT
TZOFFSETFROM:+0100
TZOFFSETTO:+0200
TZNAME:CEST
DTSTART:20250330T010000
END:DAYLIGHT
BEGIN:STANDARD
TZOFFSETFROM:+0200
TZOFFSETTO:+0100
TZNAME:CET
DTSTART:20251026T010000
END:STANDARD
END:VTIMEZONE
BEGIN:VTIMEZONE
TZID:Europe/Brussels
BEGIN:DAYLIGHT
TZOFFSETFROM:+0100
TZOFFSETTO:+0200
TZNAME:CEST
DTSTART:20230326T010000
END:DAYLIGHT
BEGIN:STANDARD
TZOFFSETFROM:+0200
TZOFFSETTO:+0100
TZNAME:CET
DTSTART:20231029T010000
END:STANDARD
BEGIN:DAYLIGHT
TZOFFSETFROM:+0100
TZOFFSETTO:+0200
TZNAME:CEST
DTSTART:20240331T010000
END:DAYLIGHT
BEGIN:STANDARD
TZOFFSETFROM:+0200
TZOFFSETTO:+0100
TZNAME:CET
DTSTART:20241027T010000
END:STANDARD
BEGIN:DAYLIGHT
TZOFFSETFROM:+0100
TZOFFSETTO:+0200
TZNAME:CEST
DTSTART:20250330T010000
END:DAYLIGHT
BEGIN:STANDARD
TZOFFSETFROM:+0200
TZOFFSETTO:+0100
TZNAME:CET
DTSTART:20251026T010000
END:STANDARD
END:VTIMEZONE
BEGIN:VEVENT
DTSTART;TZID=Europe/Paris:20240518T080000
DTEND;TZID=Europe/Paris:20240518T130000
DTSTAMP:20260422T220233
CREATED:20211212T134631Z
LAST-MODIFIED:20231111T141158Z
UID:10029789-1716019200-1716037200@wavre.shop
SUMMARY:Marché à Wavre
DESCRIPTION:LE MARCHÉ C’EST TOUS LES MERCREDI ET SAMEDI MATIN À WAVRE\n\n\n\n\nLE PLUS GRAND\nMARCHÉ DU BRABANT WALLON\n\nLe marché hebdomadaire du mercredi est aussi reconnu comme le plus important de notre province \n\n\n\n\n\n\n\n\n\n\nLe samedi matin\, un petit marché de primeurs\, de plantes annuelles et de fleurs coupées se tient rue du Commerce et place Cardinal Mercier. \n\n\n\n\n\n\n\n\n\n\n\n\n\n\n\n\n\n\n\n\n\n\n\n\n\n\n\nTOUT SAVOIR SUR LE MARCHÉ DE WAVRE
URL:https://wavre.shop/activite/marche-de-wavre/2024-05-18/
LOCATION:wavre\, Wavre\, Région Wallonne\, 1300\, Belgique
CATEGORIES:Wavre activité seniors,WAVRE ACTIVITES POUR ADO,WAVRE BALADE,Wavre Visite
ATTACH;FMTTYPE=image/jpeg:https://wavre.shop/wp-content/uploads/2019/04/Marché-wavre-les-halles-Vins-magasin-spécialiste.jpg
ORGANIZER;CN="Ville de Wavre":MAILTO:secretariat@wavre.be commerce@wavre.be
END:VEVENT
BEGIN:VEVENT
DTSTART;TZID=Europe/Brussels:20240518T080000
DTEND;TZID=Europe/Brussels:20240518T170000
DTSTAMP:20260422T220233
CREATED:20240503T092241Z
LAST-MODIFIED:20240503T092241Z
UID:10034269-1716019200-1716051600@wavre.shop
SUMMARY:APOLLO MMA
DESCRIPTION:APOLLO MMA : Un spectacle de combats hors du commun vous attend à Wavre !\nPréparez-vous à vivre une soirée intense et inoubliable avec le retour d’APOLLO MMA à Wavre (BE) pour l’édition APOLLO.1 ! \nAvis aux amateurs de combats spectaculaires et d’adrénaline ! Le 18 mai prochain\, la cité du Maca vibrera au rythme des arts martiaux mixtes (MMA) avec une carte exceptionnelle de 20 combats. \nSuccès garanti après une première édition époustouflante\, APOLLO MMA revient avec des affiches encore plus alléchantes et un combat pour une ceinture qui promet des émotions fortes. \nNe manquez pas cette occasion unique de découvrir les futurs talents de la discipline et d’assister à des confrontations titanesques entre des athlètes de haut niveau venus des Pays-Bas\, de France\, d’Allemagne\, de Turquie\, des États-Unis et d’Europe de l’Est. \nL’événement sera animé par le célèbre présentateur américain Matthew Parrino et promet une ambiance survoltée. \nPrès de 1000 personnes sont attendues pour cette soirée inoubliable qui sera également diffusée en direct. \nDes tables VIP seront également disponibles pour ceux qui souhaitent profiter d’une expérience encore plus exclusive. \nAPOLLO MMA à Wavre\, c’est bien plus que des combats\, c’est une véritable passion pour le sport et un spectacle à ne pas manquer. \nRéservez votre place dès maintenant et préparez-vous à vivre une soirée exceptionnelle ! \n\nTOUTES LES INFORMATIONS ICI 
URL:https://wavre.shop/activite/apollo-mma/
LOCATION:La sucrerie Wavre\, Chem. de la Sucrerie 2\, Wavre\, Région Wallonne\, 1300\, Belgique
CATEGORIES:loisirs,WAVRE SPECTACLE,WAVRE SPORT
ATTACH;FMTTYPE=image/jpeg:https://wavre.shop/wp-content/uploads/2024/05/mma-wavre-brabant-wallon.jpg
END:VEVENT
END:VCALENDAR